BEGIN:VCALENDAR
VERSION:2.0
PRODID:-//Brecksville Ohio - ECPv6.15.12.2//NONSGML v1.0//EN
CALSCALE:GREGORIAN
METHOD:PUBLISH
X-ORIGINAL-URL:https://brecksville.us
X-WR-CALDESC:Events for Brecksville Ohio
REFRESH-INTERVAL;VALUE=DURATION:PT1H
X-Robots-Tag:noindex
X-PUBLISHED-TTL:PT1H
BEGIN:VTIMEZONE
TZID:America/Detroit
BEGIN:DAYLIGHT
TZOFFSETFROM:-0500
TZOFFSETTO:-0400
TZNAME:EDT
DTSTART:20230312T070000
END:DAYLIGHT
BEGIN:STANDARD
TZOFFSETFROM:-0400
TZOFFSETTO:-0500
TZNAME:EST
DTSTART:20231105T060000
END:STANDARD
BEGIN:DAYLIGHT
TZOFFSETFROM:-0500
TZOFFSETTO:-0400
TZNAME:EDT
DTSTART:20240310T070000
END:DAYLIGHT
BEGIN:STANDARD
TZOFFSETFROM:-0400
TZOFFSETTO:-0500
TZNAME:EST
DTSTART:20241103T060000
END:STANDARD
BEGIN:DAYLIGHT
TZOFFSETFROM:-0500
TZOFFSETTO:-0400
TZNAME:EDT
DTSTART:20250309T070000
END:DAYLIGHT
BEGIN:STANDARD
TZOFFSETFROM:-0400
TZOFFSETTO:-0500
TZNAME:EST
DTSTART:20251102T060000
END:STANDARD
END:VTIMEZONE
BEGIN:VEVENT
DTSTART;VALUE=DATE:20240513
DTEND;VALUE=DATE:20240514
DTSTAMP:20260420T215402
CREATED:20240402T124933Z
LAST-MODIFIED:20240503T100021Z
UID:2770-1715558400-1715644799@brecksville.us
SUMMARY:AP Testing (Calculus AB/BC)
DESCRIPTION:
URL:https://brecksville.us/calendar/ap-testing-calculus-ab-bc/
LOCATION:OH
END:VEVENT
BEGIN:VEVENT
DTSTART;TZID=America/Detroit:20240513T170000
DTEND;TZID=America/Detroit:20240513T170000
DTSTAMP:20260420T215402
CREATED:20240510T142546Z
LAST-MODIFIED:20240510T142546Z
UID:3934-1715619600-1715619600@brecksville.us
SUMMARY:Civil Service Commission
DESCRIPTION:
URL:https://brecksville.us/calendar/civil-service-commission/
LOCATION:OH
CATEGORIES:City Government
END:VEVENT
BEGIN:VEVENT
DTSTART;TZID=America/Detroit:20240513T193000
DTEND;TZID=America/Detroit:20240513T193000
DTSTAMP:20260420T215402
CREATED:20240405T134038Z
LAST-MODIFIED:20240510T142546Z
UID:3024-1715628600-1715628600@brecksville.us
SUMMARY:Board of Zoning Appeals
DESCRIPTION:
URL:https://brecksville.us/calendar/board-of-zoning-appeals-2/
LOCATION:OH
CATEGORIES:City Government
END:VEVENT
END:VCALENDAR