BEGIN:VCALENDAR
VERSION:2.0
PRODID:-//Brecksville Ohio - ECPv6.15.12.2//NONSGML v1.0//EN
CALSCALE:GREGORIAN
METHOD:PUBLISH
X-ORIGINAL-URL:https://brecksville.us
X-WR-CALDESC:Events for Brecksville Ohio
REFRESH-INTERVAL;VALUE=DURATION:PT1H
X-Robots-Tag:noindex
X-PUBLISHED-TTL:PT1H
BEGIN:VTIMEZONE
TZID:America/Detroit
BEGIN:DAYLIGHT
TZOFFSETFROM:-0500
TZOFFSETTO:-0400
TZNAME:EDT
DTSTART:20230312T070000
END:DAYLIGHT
BEGIN:STANDARD
TZOFFSETFROM:-0400
TZOFFSETTO:-0500
TZNAME:EST
DTSTART:20231105T060000
END:STANDARD
BEGIN:DAYLIGHT
TZOFFSETFROM:-0500
TZOFFSETTO:-0400
TZNAME:EDT
DTSTART:20240310T070000
END:DAYLIGHT
BEGIN:STANDARD
TZOFFSETFROM:-0400
TZOFFSETTO:-0500
TZNAME:EST
DTSTART:20241103T060000
END:STANDARD
BEGIN:DAYLIGHT
TZOFFSETFROM:-0500
TZOFFSETTO:-0400
TZNAME:EDT
DTSTART:20250309T070000
END:DAYLIGHT
BEGIN:STANDARD
TZOFFSETFROM:-0400
TZOFFSETTO:-0500
TZNAME:EST
DTSTART:20251102T060000
END:STANDARD
END:VTIMEZONE
BEGIN:VEVENT
DTSTART;VALUE=DATE:20240515
DTEND;VALUE=DATE:20240516
DTSTAMP:20260420T215401
CREATED:20240402T124933Z
LAST-MODIFIED:20240503T100021Z
UID:2773-1715731200-1715817599@brecksville.us
SUMMARY:AP Testing (World History & Computer Sci Principles)
DESCRIPTION:
URL:https://brecksville.us/calendar/ap-testing-world-history-computer-sci-principles/
LOCATION:OH
END:VEVENT
BEGIN:VEVENT
DTSTART;VALUE=DATE:20240515
DTEND;VALUE=DATE:20240516
DTSTAMP:20260420T215401
CREATED:20240402T124933Z
LAST-MODIFIED:20240503T100021Z
UID:2775-1715731200-1715817599@brecksville.us
SUMMARY:Extended Colony Period Schedule 23-24
DESCRIPTION:
URL:https://brecksville.us/calendar/extended-colony-period-schedule-23-24-2/
LOCATION:OH
END:VEVENT
BEGIN:VEVENT
DTSTART;TZID=America/Detroit:20240515T090000
DTEND;TZID=America/Detroit:20240515T100000
DTSTAMP:20260420T215401
CREATED:20240402T124933Z
LAST-MODIFIED:20240503T100021Z
UID:2771-1715763600-1715767200@brecksville.us
SUMMARY:Career/Military Signing Day
DESCRIPTION:
URL:https://brecksville.us/calendar/career-military-signing-day/
LOCATION:OH
END:VEVENT
BEGIN:VEVENT
DTSTART;TZID=America/Detroit:20240515T180000
DTEND;TZID=America/Detroit:20240515T210000
DTSTAMP:20260420T215401
CREATED:20240412T111036Z
LAST-MODIFIED:20240510T123543Z
UID:3748-1715796000-1715806800@brecksville.us
SUMMARY:Board Meeting
DESCRIPTION:
URL:https://brecksville.us/calendar/board-meeting-2/
LOCATION:Brecksville Broadview Heights City School District Board of Education\, 6638 Mill Rd\, Cleveland\, OH 44141\, USA
CATEGORIES:School District
END:VEVENT
END:VCALENDAR