BEGIN:VCALENDAR
VERSION:2.0
PRODID:-//Brecksville Ohio - ECPv6.15.12.2//NONSGML v1.0//EN
CALSCALE:GREGORIAN
METHOD:PUBLISH
X-ORIGINAL-URL:https://brecksville.us
X-WR-CALDESC:Events for Brecksville Ohio
REFRESH-INTERVAL;VALUE=DURATION:PT1H
X-Robots-Tag:noindex
X-PUBLISHED-TTL:PT1H
BEGIN:VTIMEZONE
TZID:America/Detroit
BEGIN:DAYLIGHT
TZOFFSETFROM:-0500
TZOFFSETTO:-0400
TZNAME:EDT
DTSTART:20230312T070000
END:DAYLIGHT
BEGIN:STANDARD
TZOFFSETFROM:-0400
TZOFFSETTO:-0500
TZNAME:EST
DTSTART:20231105T060000
END:STANDARD
BEGIN:DAYLIGHT
TZOFFSETFROM:-0500
TZOFFSETTO:-0400
TZNAME:EDT
DTSTART:20240310T070000
END:DAYLIGHT
BEGIN:STANDARD
TZOFFSETFROM:-0400
TZOFFSETTO:-0500
TZNAME:EST
DTSTART:20241103T060000
END:STANDARD
BEGIN:DAYLIGHT
TZOFFSETFROM:-0500
TZOFFSETTO:-0400
TZNAME:EDT
DTSTART:20250309T070000
END:DAYLIGHT
BEGIN:STANDARD
TZOFFSETFROM:-0400
TZOFFSETTO:-0500
TZNAME:EST
DTSTART:20251102T060000
END:STANDARD
END:VTIMEZONE
BEGIN:VEVENT
DTSTART;VALUE=DATE:20240516
DTEND;VALUE=DATE:20240517
DTSTAMP:20260420T215342
CREATED:20240402T124933Z
LAST-MODIFIED:20240503T100021Z
UID:2772-1715817600-1715903999@brecksville.us
SUMMARY:AP Testing (Spanish & Biology)
DESCRIPTION:
URL:https://brecksville.us/calendar/ap-testing-spanish-biology/
LOCATION:OH
END:VEVENT
BEGIN:VEVENT
DTSTART;TZID=America/Detroit:20240516T180000
DTEND;TZID=America/Detroit:20240516T190000
DTSTAMP:20260420T215342
CREATED:20240402T124933Z
LAST-MODIFIED:20240503T100021Z
UID:2776-1715882400-1715886000@brecksville.us
SUMMARY:Vocal Music Booster
DESCRIPTION:Choir Room
URL:https://brecksville.us/calendar/vocal-music-booster/
LOCATION:OH
END:VEVENT
BEGIN:VEVENT
DTSTART;TZID=America/Detroit:20240516T190000
DTEND;TZID=America/Detroit:20240516T200000
DTSTAMP:20260420T215342
CREATED:20240402T124947Z
LAST-MODIFIED:20240503T100021Z
UID:2780-1715886000-1715889600@brecksville.us
SUMMARY:6/7/8 Orchestra Concert
DESCRIPTION:MS Aud
URL:https://brecksville.us/calendar/6-7-8-orchestra-concert/
LOCATION:OH
END:VEVENT
END:VCALENDAR