BEGIN:VCALENDAR
VERSION:2.0
PRODID:-//Brecksville Ohio - ECPv6.15.12.2//NONSGML v1.0//EN
CALSCALE:GREGORIAN
METHOD:PUBLISH
X-WR-CALNAME:Brecksville Ohio
X-ORIGINAL-URL:https://brecksville.us
X-WR-CALDESC:Events for Brecksville Ohio
REFRESH-INTERVAL;VALUE=DURATION:PT1H
X-Robots-Tag:noindex
X-PUBLISHED-TTL:PT1H
BEGIN:VTIMEZONE
TZID:America/Detroit
BEGIN:DAYLIGHT
TZOFFSETFROM:-0500
TZOFFSETTO:-0400
TZNAME:EDT
DTSTART:20230312T070000
END:DAYLIGHT
BEGIN:STANDARD
TZOFFSETFROM:-0400
TZOFFSETTO:-0500
TZNAME:EST
DTSTART:20231105T060000
END:STANDARD
BEGIN:DAYLIGHT
TZOFFSETFROM:-0500
TZOFFSETTO:-0400
TZNAME:EDT
DTSTART:20240310T070000
END:DAYLIGHT
BEGIN:STANDARD
TZOFFSETFROM:-0400
TZOFFSETTO:-0500
TZNAME:EST
DTSTART:20241103T060000
END:STANDARD
BEGIN:DAYLIGHT
TZOFFSETFROM:-0500
TZOFFSETTO:-0400
TZNAME:EDT
DTSTART:20250309T070000
END:DAYLIGHT
BEGIN:STANDARD
TZOFFSETFROM:-0400
TZOFFSETTO:-0500
TZNAME:EST
DTSTART:20251102T060000
END:STANDARD
END:VTIMEZONE
BEGIN:VEVENT
DTSTART;TZID=America/Detroit:20240524T080000
DTEND;TZID=America/Detroit:20240524T090000
DTSTAMP:20260420T215321
CREATED:20240402T124947Z
LAST-MODIFIED:20240503T100021Z
UID:2788-1716537600-1716541200@brecksville.us
SUMMARY:Commencement Practice and Breakfast
DESCRIPTION:Cafe
URL:https://brecksville.us/calendar/commencement-practice-and-breakfast/
LOCATION:OH
END:VEVENT
BEGIN:VEVENT
DTSTART;TZID=America/Detroit:20240524T183000
DTEND;TZID=America/Detroit:20240524T193000
DTSTAMP:20260420T215321
CREATED:20240402T125000Z
LAST-MODIFIED:20240503T100022Z
UID:2789-1716575400-1716579000@brecksville.us
SUMMARY:Senior Final Bows
DESCRIPTION:HS Aud
URL:https://brecksville.us/calendar/senior-final-bows/
LOCATION:OH
END:VEVENT
END:VCALENDAR