BEGIN:VCALENDAR
VERSION:2.0
PRODID:-//Brecksville Ohio - ECPv6.15.12.2//NONSGML v1.0//EN
CALSCALE:GREGORIAN
METHOD:PUBLISH
X-WR-CALNAME:Brecksville Ohio
X-ORIGINAL-URL:https://brecksville.us
X-WR-CALDESC:Events for Brecksville Ohio
REFRESH-INTERVAL;VALUE=DURATION:PT1H
X-Robots-Tag:noindex
X-PUBLISHED-TTL:PT1H
BEGIN:VTIMEZONE
TZID:America/Detroit
BEGIN:DAYLIGHT
TZOFFSETFROM:-0500
TZOFFSETTO:-0400
TZNAME:EDT
DTSTART:20230312T070000
END:DAYLIGHT
BEGIN:STANDARD
TZOFFSETFROM:-0400
TZOFFSETTO:-0500
TZNAME:EST
DTSTART:20231105T060000
END:STANDARD
BEGIN:DAYLIGHT
TZOFFSETFROM:-0500
TZOFFSETTO:-0400
TZNAME:EDT
DTSTART:20240310T070000
END:DAYLIGHT
BEGIN:STANDARD
TZOFFSETFROM:-0400
TZOFFSETTO:-0500
TZNAME:EST
DTSTART:20241103T060000
END:STANDARD
BEGIN:DAYLIGHT
TZOFFSETFROM:-0500
TZOFFSETTO:-0400
TZNAME:EDT
DTSTART:20250309T070000
END:DAYLIGHT
BEGIN:STANDARD
TZOFFSETFROM:-0400
TZOFFSETTO:-0500
TZNAME:EST
DTSTART:20251102T060000
END:STANDARD
END:VTIMEZONE
BEGIN:VEVENT
DTSTART;TZID=America/Detroit:20240903T183000
DTEND;TZID=America/Detroit:20240903T183000
DTSTAMP:20260420T162144
CREATED:20240405T134040Z
LAST-MODIFIED:20240831T072523Z
UID:3053-1725388200-1725388200@brecksville.us
SUMMARY:Council Committee Meeting
DESCRIPTION:
URL:https://brecksville.us/calendar/council-committee-meeting-10/
LOCATION:OH
CATEGORIES:City Government
END:VEVENT
BEGIN:VEVENT
DTSTART;TZID=America/Detroit:20240903T190000
DTEND;TZID=America/Detroit:20240903T200000
DTSTAMP:20260420T162144
CREATED:20240402T125026Z
LAST-MODIFIED:20240831T113024Z
UID:2817-1725390000-1725393600@brecksville.us
SUMMARY:Band Booster Meeting
DESCRIPTION:
URL:https://brecksville.us/calendar/band-booster-meeting-6/
LOCATION:Band Room
END:VEVENT
BEGIN:VEVENT
DTSTART;TZID=America/Detroit:20240903T190000
DTEND;TZID=America/Detroit:20240903T200000
DTSTAMP:20260420T162144
CREATED:20240831T112543Z
LAST-MODIFIED:20240831T113024Z
UID:4946-1725390000-1725393600@brecksville.us
SUMMARY:BBHHS Alumni Meeting
DESCRIPTION:Check bbhhsalumni.org for more information
URL:https://brecksville.us/calendar/bbhhs-alumni-meeting-4/
LOCATION:BBHHS Media Center
END:VEVENT
BEGIN:VEVENT
DTSTART;TZID=America/Detroit:20240903T200000
DTEND;TZID=America/Detroit:20240903T200000
DTSTAMP:20260420T162144
CREATED:20240405T134040Z
LAST-MODIFIED:20240831T072523Z
UID:3054-1725393600-1725393600@brecksville.us
SUMMARY:City Council Regular Meeting
DESCRIPTION:
URL:https://brecksville.us/calendar/city-council-regular-meeting-11/
LOCATION:OH
CATEGORIES:City Government
END:VEVENT
END:VCALENDAR