BEGIN:VCALENDAR
VERSION:2.0
PRODID:-//Brecksville Ohio - ECPv6.15.12.2//NONSGML v1.0//EN
CALSCALE:GREGORIAN
METHOD:PUBLISH
X-WR-CALNAME:Brecksville Ohio
X-ORIGINAL-URL:https://brecksville.us
X-WR-CALDESC:Events for Brecksville Ohio
REFRESH-INTERVAL;VALUE=DURATION:PT1H
X-Robots-Tag:noindex
X-PUBLISHED-TTL:PT1H
BEGIN:VTIMEZONE
TZID:America/Detroit
BEGIN:DAYLIGHT
TZOFFSETFROM:-0500
TZOFFSETTO:-0400
TZNAME:EDT
DTSTART:20230312T070000
END:DAYLIGHT
BEGIN:STANDARD
TZOFFSETFROM:-0400
TZOFFSETTO:-0500
TZNAME:EST
DTSTART:20231105T060000
END:STANDARD
BEGIN:DAYLIGHT
TZOFFSETFROM:-0500
TZOFFSETTO:-0400
TZNAME:EDT
DTSTART:20240310T070000
END:DAYLIGHT
BEGIN:STANDARD
TZOFFSETFROM:-0400
TZOFFSETTO:-0500
TZNAME:EST
DTSTART:20241103T060000
END:STANDARD
BEGIN:DAYLIGHT
TZOFFSETFROM:-0500
TZOFFSETTO:-0400
TZNAME:EDT
DTSTART:20250309T070000
END:DAYLIGHT
BEGIN:STANDARD
TZOFFSETFROM:-0400
TZOFFSETTO:-0500
TZNAME:EST
DTSTART:20251102T060000
END:STANDARD
END:VTIMEZONE
BEGIN:VEVENT
DTSTART;TZID=America/Detroit:20240909T190000
DTEND;TZID=America/Detroit:20240909T200000
DTSTAMP:20260420T162144
CREATED:20240702T104055Z
LAST-MODIFIED:20240831T113025Z
UID:4416-1725908400-1725912000@brecksville.us
SUMMARY:Bee Athletic Booster Meeting
DESCRIPTION:
URL:https://brecksville.us/calendar/bee-athletic-booster-meeting-3/
LOCATION:OH
END:VEVENT
BEGIN:VEVENT
DTSTART;TZID=America/Detroit:20240909T193000
DTEND;TZID=America/Detroit:20240909T193000
DTSTAMP:20260420T162144
CREATED:20240503T141110Z
LAST-MODIFIED:20240810T062539Z
UID:3913-1725910200-1725910200@brecksville.us
SUMMARY:Board of Zoning Appeals
DESCRIPTION:
URL:https://brecksville.us/calendar/board-of-zoning-appeals-8/
LOCATION:OH
CATEGORIES:City Government
END:VEVENT
BEGIN:VEVENT
DTSTART;TZID=America/Detroit:20240909T193000
DTEND;TZID=America/Detroit:20240909T193000
DTSTAMP:20260420T162144
CREATED:20240831T072523Z
LAST-MODIFIED:20240907T075009Z
UID:4942-1725910200-1725910200@brecksville.us
SUMMARY:Board of Zoning Appeals
DESCRIPTION:
URL:https://brecksville.us/calendar/board-of-zoning-appeals-12/
LOCATION:OH
CATEGORIES:City Government
END:VEVENT
END:VCALENDAR