BEGIN:VCALENDAR
VERSION:2.0
PRODID:-//Brecksville Ohio - ECPv6.15.12.2//NONSGML v1.0//EN
CALSCALE:GREGORIAN
METHOD:PUBLISH
X-WR-CALNAME:Brecksville Ohio
X-ORIGINAL-URL:https://brecksville.us
X-WR-CALDESC:Events for Brecksville Ohio
REFRESH-INTERVAL;VALUE=DURATION:PT1H
X-Robots-Tag:noindex
X-PUBLISHED-TTL:PT1H
BEGIN:VTIMEZONE
TZID:America/Detroit
BEGIN:DAYLIGHT
TZOFFSETFROM:-0500
TZOFFSETTO:-0400
TZNAME:EDT
DTSTART:20230312T070000
END:DAYLIGHT
BEGIN:STANDARD
TZOFFSETFROM:-0400
TZOFFSETTO:-0500
TZNAME:EST
DTSTART:20231105T060000
END:STANDARD
BEGIN:DAYLIGHT
TZOFFSETFROM:-0500
TZOFFSETTO:-0400
TZNAME:EDT
DTSTART:20240310T070000
END:DAYLIGHT
BEGIN:STANDARD
TZOFFSETFROM:-0400
TZOFFSETTO:-0500
TZNAME:EST
DTSTART:20241103T060000
END:STANDARD
BEGIN:DAYLIGHT
TZOFFSETFROM:-0500
TZOFFSETTO:-0400
TZNAME:EDT
DTSTART:20250309T070000
END:DAYLIGHT
BEGIN:STANDARD
TZOFFSETFROM:-0400
TZOFFSETTO:-0500
TZNAME:EST
DTSTART:20251102T060000
END:STANDARD
END:VTIMEZONE
BEGIN:VEVENT
DTSTART;TZID=America/Detroit:20240910T083000
DTEND;TZID=America/Detroit:20240910T093000
DTSTAMP:20260420T162146
CREATED:20240702T104055Z
LAST-MODIFIED:20240831T113025Z
UID:4417-1725957000-1725960600@brecksville.us
SUMMARY:CAPA Meeting Start
DESCRIPTION:
URL:https://brecksville.us/calendar/capa-meeting-start/
LOCATION:OH
END:VEVENT
BEGIN:VEVENT
DTSTART;TZID=America/Detroit:20240910T190000
DTEND;TZID=America/Detroit:20240910T200000
DTSTAMP:20260420T162146
CREATED:20240402T125026Z
LAST-MODIFIED:20240801T111119Z
UID:2820-1725994800-1725998400@brecksville.us
SUMMARY:BBHHS Alumni Meeting
DESCRIPTION:Check bbhhsalumni.org for more information
URL:https://brecksville.us/calendar/bbhhs-alumni-meeting-2/
LOCATION:BBHHS Band Room
END:VEVENT
END:VCALENDAR