BEGIN:VCALENDAR
VERSION:2.0
PRODID:-//Brecksville Ohio - ECPv6.15.12.2//NONSGML v1.0//EN
CALSCALE:GREGORIAN
METHOD:PUBLISH
X-ORIGINAL-URL:https://brecksville.us
X-WR-CALDESC:Events for Brecksville Ohio
REFRESH-INTERVAL;VALUE=DURATION:PT1H
X-Robots-Tag:noindex
X-PUBLISHED-TTL:PT1H
BEGIN:VTIMEZONE
TZID:America/Detroit
BEGIN:DAYLIGHT
TZOFFSETFROM:-0500
TZOFFSETTO:-0400
TZNAME:EDT
DTSTART:20230312T070000
END:DAYLIGHT
BEGIN:STANDARD
TZOFFSETFROM:-0400
TZOFFSETTO:-0500
TZNAME:EST
DTSTART:20231105T060000
END:STANDARD
BEGIN:DAYLIGHT
TZOFFSETFROM:-0500
TZOFFSETTO:-0400
TZNAME:EDT
DTSTART:20240310T070000
END:DAYLIGHT
BEGIN:STANDARD
TZOFFSETFROM:-0400
TZOFFSETTO:-0500
TZNAME:EST
DTSTART:20241103T060000
END:STANDARD
BEGIN:DAYLIGHT
TZOFFSETFROM:-0500
TZOFFSETTO:-0400
TZNAME:EDT
DTSTART:20250309T070000
END:DAYLIGHT
BEGIN:STANDARD
TZOFFSETFROM:-0400
TZOFFSETTO:-0500
TZNAME:EST
DTSTART:20251102T060000
END:STANDARD
END:VTIMEZONE
BEGIN:VEVENT
DTSTART;VALUE=DATE:20240916
DTEND;VALUE=DATE:20240917
DTSTAMP:20260420T162256
CREATED:20240702T104106Z
LAST-MODIFIED:20240831T113025Z
UID:4422-1726444800-1726531199@brecksville.us
SUMMARY:AP Biology Field Trip
DESCRIPTION:
URL:https://brecksville.us/calendar/ap-biology-field-trip-2/
LOCATION:OH
END:VEVENT
BEGIN:VEVENT
DTSTART;VALUE=DATE:20240916
DTEND;VALUE=DATE:20240921
DTSTAMP:20260420T162256
CREATED:20240702T104106Z
LAST-MODIFIED:20240831T113025Z
UID:4423-1726444800-1726876799@brecksville.us
SUMMARY:HS Spirit Week-Start with Hello
DESCRIPTION:
URL:https://brecksville.us/calendar/hs-spirit-week-start-with-hello/
LOCATION:OH
END:VEVENT
BEGIN:VEVENT
DTSTART;VALUE=DATE:20240916
DTEND;VALUE=DATE:20240921
DTSTAMP:20260420T162256
CREATED:20240702T104120Z
LAST-MODIFIED:20240831T113025Z
UID:4426-1726444800-1726876799@brecksville.us
SUMMARY:MS Spirit Week-Start with Hello
DESCRIPTION:
URL:https://brecksville.us/calendar/ms-spirit-week-start-with-hello/
LOCATION:OH
END:VEVENT
BEGIN:VEVENT
DTSTART;TZID=America/Detroit:20240916T190000
DTEND;TZID=America/Detroit:20240916T200000
DTSTAMP:20260420T162256
CREATED:20240702T104106Z
LAST-MODIFIED:20240831T113025Z
UID:4424-1726513200-1726516800@brecksville.us
SUMMARY:Senior Parent Night (guidance)
DESCRIPTION:
URL:https://brecksville.us/calendar/senior-parent-night-guidance/
LOCATION:OH
END:VEVENT
END:VCALENDAR