BEGIN:VCALENDAR
VERSION:2.0
PRODID:-//Brecksville Ohio - ECPv6.15.12.2//NONSGML v1.0//EN
CALSCALE:GREGORIAN
METHOD:PUBLISH
X-ORIGINAL-URL:https://brecksville.us
X-WR-CALDESC:Events for Brecksville Ohio
REFRESH-INTERVAL;VALUE=DURATION:PT1H
X-Robots-Tag:noindex
X-PUBLISHED-TTL:PT1H
BEGIN:VTIMEZONE
TZID:America/Detroit
BEGIN:DAYLIGHT
TZOFFSETFROM:-0500
TZOFFSETTO:-0400
TZNAME:EDT
DTSTART:20230312T070000
END:DAYLIGHT
BEGIN:STANDARD
TZOFFSETFROM:-0400
TZOFFSETTO:-0500
TZNAME:EST
DTSTART:20231105T060000
END:STANDARD
BEGIN:DAYLIGHT
TZOFFSETFROM:-0500
TZOFFSETTO:-0400
TZNAME:EDT
DTSTART:20240310T070000
END:DAYLIGHT
BEGIN:STANDARD
TZOFFSETFROM:-0400
TZOFFSETTO:-0500
TZNAME:EST
DTSTART:20241103T060000
END:STANDARD
BEGIN:DAYLIGHT
TZOFFSETFROM:-0500
TZOFFSETTO:-0400
TZNAME:EDT
DTSTART:20250309T070000
END:DAYLIGHT
BEGIN:STANDARD
TZOFFSETFROM:-0400
TZOFFSETTO:-0500
TZNAME:EST
DTSTART:20251102T060000
END:STANDARD
END:VTIMEZONE
BEGIN:VEVENT
DTSTART;VALUE=DATE:20241009
DTEND;VALUE=DATE:20241010
DTSTAMP:20260420T144939
CREATED:20240702T104145Z
LAST-MODIFIED:20240930T114037Z
UID:4453-1728432000-1728518399@brecksville.us
SUMMARY:MS Book Fair
DESCRIPTION:
URL:https://brecksville.us/calendar/ms-book-fair-4/
LOCATION:MS Media Center
END:VEVENT
BEGIN:VEVENT
DTSTART;TZID=America/Detroit:20241009T103000
DTEND;TZID=America/Detroit:20241009T130000
DTSTAMP:20260420T144939
CREATED:20240801T111157Z
LAST-MODIFIED:20240930T114037Z
UID:4753-1728469800-1728478800@brecksville.us
SUMMARY:BBHHS Fall Picture Retake Day
DESCRIPTION:
URL:https://brecksville.us/calendar/bbhhs-fall-retake-day/
LOCATION:Aux Gym
END:VEVENT
END:VCALENDAR