BEGIN:VCALENDAR
VERSION:2.0
PRODID:-//Brecksville Ohio - ECPv6.15.12.2//NONSGML v1.0//EN
CALSCALE:GREGORIAN
METHOD:PUBLISH
X-ORIGINAL-URL:https://brecksville.us
X-WR-CALDESC:Events for Brecksville Ohio
REFRESH-INTERVAL;VALUE=DURATION:PT1H
X-Robots-Tag:noindex
X-PUBLISHED-TTL:PT1H
BEGIN:VTIMEZONE
TZID:America/Detroit
BEGIN:DAYLIGHT
TZOFFSETFROM:-0500
TZOFFSETTO:-0400
TZNAME:EDT
DTSTART:20230312T070000
END:DAYLIGHT
BEGIN:STANDARD
TZOFFSETFROM:-0400
TZOFFSETTO:-0500
TZNAME:EST
DTSTART:20231105T060000
END:STANDARD
BEGIN:DAYLIGHT
TZOFFSETFROM:-0500
TZOFFSETTO:-0400
TZNAME:EDT
DTSTART:20240310T070000
END:DAYLIGHT
BEGIN:STANDARD
TZOFFSETFROM:-0400
TZOFFSETTO:-0500
TZNAME:EST
DTSTART:20241103T060000
END:STANDARD
BEGIN:DAYLIGHT
TZOFFSETFROM:-0500
TZOFFSETTO:-0400
TZNAME:EDT
DTSTART:20250309T070000
END:DAYLIGHT
BEGIN:STANDARD
TZOFFSETFROM:-0400
TZOFFSETTO:-0500
TZNAME:EST
DTSTART:20251102T060000
END:STANDARD
END:VTIMEZONE
BEGIN:VEVENT
DTSTART;VALUE=DATE:20241104
DTEND;VALUE=DATE:20241105
DTSTAMP:20260420T132312
CREATED:20241030T121054Z
LAST-MODIFIED:20241030T121511Z
UID:5466-1730678400-1730764799@brecksville.us
SUMMARY:BBHHS Lockdown Drill
DESCRIPTION:
URL:https://brecksville.us/calendar/bbhhs-lockdown-drill/
LOCATION:OH
END:VEVENT
BEGIN:VEVENT
DTSTART;VALUE=DATE:20241104
DTEND;VALUE=DATE:20241105
DTSTAMP:20260420T132312
CREATED:20241030T121054Z
LAST-MODIFIED:20241030T121511Z
UID:5464-1730678400-1730764799@brecksville.us
SUMMARY:Jostens Packet Drop Off
DESCRIPTION:
URL:https://brecksville.us/calendar/jostens-packet-drop-off/
LOCATION:OH
END:VEVENT
BEGIN:VEVENT
DTSTART;TZID=America/Detroit:20241104T130000
DTEND;TZID=America/Detroit:20241104T133000
DTSTAMP:20260420T132312
CREATED:20241030T121054Z
LAST-MODIFIED:20241030T121511Z
UID:5465-1730725200-1730727000@brecksville.us
SUMMARY:Full Lockdown Drill
DESCRIPTION:
URL:https://brecksville.us/calendar/full-lockdown-drill/
LOCATION:OH
END:VEVENT
BEGIN:VEVENT
DTSTART;TZID=America/Detroit:20241104T190000
DTEND;TZID=America/Detroit:20241104T200000
DTSTAMP:20260420T132312
CREATED:20240702T104210Z
LAST-MODIFIED:20241030T121511Z
UID:4476-1730746800-1730750400@brecksville.us
SUMMARY:Bee Athletic Meeting
DESCRIPTION:
URL:https://brecksville.us/calendar/bee-athletic-meeting/
LOCATION:OH
END:VEVENT
END:VCALENDAR