BEGIN:VCALENDAR
VERSION:2.0
PRODID:-//Brecksville Ohio - ECPv6.15.12.2//NONSGML v1.0//EN
CALSCALE:GREGORIAN
METHOD:PUBLISH
X-ORIGINAL-URL:https://brecksville.us
X-WR-CALDESC:Events for Brecksville Ohio
REFRESH-INTERVAL;VALUE=DURATION:PT1H
X-Robots-Tag:noindex
X-PUBLISHED-TTL:PT1H
BEGIN:VTIMEZONE
TZID:America/Detroit
BEGIN:DAYLIGHT
TZOFFSETFROM:-0500
TZOFFSETTO:-0400
TZNAME:EDT
DTSTART:20230312T070000
END:DAYLIGHT
BEGIN:STANDARD
TZOFFSETFROM:-0400
TZOFFSETTO:-0500
TZNAME:EST
DTSTART:20231105T060000
END:STANDARD
BEGIN:DAYLIGHT
TZOFFSETFROM:-0500
TZOFFSETTO:-0400
TZNAME:EDT
DTSTART:20240310T070000
END:DAYLIGHT
BEGIN:STANDARD
TZOFFSETFROM:-0400
TZOFFSETTO:-0500
TZNAME:EST
DTSTART:20241103T060000
END:STANDARD
BEGIN:DAYLIGHT
TZOFFSETFROM:-0500
TZOFFSETTO:-0400
TZNAME:EDT
DTSTART:20250309T070000
END:DAYLIGHT
BEGIN:STANDARD
TZOFFSETFROM:-0400
TZOFFSETTO:-0500
TZNAME:EST
DTSTART:20251102T060000
END:STANDARD
END:VTIMEZONE
BEGIN:VEVENT
DTSTART;VALUE=DATE:20241107
DTEND;VALUE=DATE:20241110
DTSTAMP:20260420T132348
CREATED:20240702T104210Z
LAST-MODIFIED:20241030T121511Z
UID:4479-1730937600-1731196799@brecksville.us
SUMMARY:Brecksville Robotics Tournament
DESCRIPTION:
URL:https://brecksville.us/calendar/brecksville-robotics-tournament/
LOCATION:OH
END:VEVENT
BEGIN:VEVENT
DTSTART;TZID=America/Detroit:20241107T093000
DTEND;TZID=America/Detroit:20241107T103000
DTSTAMP:20260420T132348
CREATED:20240402T125038Z
LAST-MODIFIED:20241030T121511Z
UID:2827-1730971800-1730975400@brecksville.us
SUMMARY:PSO Council Meeting
DESCRIPTION:
URL:https://brecksville.us/calendar/pso-council-meeting-6/
LOCATION:Brecksville Broadview Heights City School District Board of Education\, 6638 Mill Rd\, Brecksville\, OH\, United States
END:VEVENT
BEGIN:VEVENT
DTSTART;TZID=America/Detroit:20241107T190000
DTEND;TZID=America/Detroit:20241107T190000
DTSTAMP:20260420T132348
CREATED:20240921T081056Z
LAST-MODIFIED:20241102T094014Z
UID:5281-1731006000-1731006000@brecksville.us
SUMMARY:Planning Commission
DESCRIPTION:
URL:https://brecksville.us/calendar/planning-commission-14/
LOCATION:OH
CATEGORIES:City Government
END:VEVENT
BEGIN:VEVENT
DTSTART;TZID=America/Detroit:20241107T190000
DTEND;TZID=America/Detroit:20241107T200000
DTSTAMP:20260420T132348
CREATED:20240702T104210Z
LAST-MODIFIED:20241030T121511Z
UID:4478-1731006000-1731009600@brecksville.us
SUMMARY:8th Grade WDC Parent Meeting
DESCRIPTION:
URL:https://brecksville.us/calendar/8th-grade-wdc-parent-meeting/
LOCATION:OH
END:VEVENT
END:VCALENDAR