BEGIN:VCALENDAR
VERSION:2.0
PRODID:-//Brecksville Ohio - ECPv6.15.12.2//NONSGML v1.0//EN
CALSCALE:GREGORIAN
METHOD:PUBLISH
X-WR-CALNAME:Brecksville Ohio
X-ORIGINAL-URL:https://brecksville.us
X-WR-CALDESC:Events for Brecksville Ohio
REFRESH-INTERVAL;VALUE=DURATION:PT1H
X-Robots-Tag:noindex
X-PUBLISHED-TTL:PT1H
BEGIN:VTIMEZONE
TZID:America/Detroit
BEGIN:DAYLIGHT
TZOFFSETFROM:-0500
TZOFFSETTO:-0400
TZNAME:EDT
DTSTART:20230312T070000
END:DAYLIGHT
BEGIN:STANDARD
TZOFFSETFROM:-0400
TZOFFSETTO:-0500
TZNAME:EST
DTSTART:20231105T060000
END:STANDARD
BEGIN:DAYLIGHT
TZOFFSETFROM:-0500
TZOFFSETTO:-0400
TZNAME:EDT
DTSTART:20240310T070000
END:DAYLIGHT
BEGIN:STANDARD
TZOFFSETFROM:-0400
TZOFFSETTO:-0500
TZNAME:EST
DTSTART:20241103T060000
END:STANDARD
BEGIN:DAYLIGHT
TZOFFSETFROM:-0500
TZOFFSETTO:-0400
TZNAME:EDT
DTSTART:20250309T070000
END:DAYLIGHT
BEGIN:STANDARD
TZOFFSETFROM:-0400
TZOFFSETTO:-0500
TZNAME:EST
DTSTART:20251102T060000
END:STANDARD
END:VTIMEZONE
BEGIN:VEVENT
DTSTART;TZID=America/Detroit:20241112T080000
DTEND;TZID=America/Detroit:20241112T090000
DTSTAMP:20260420T132314
CREATED:20240930T114113Z
LAST-MODIFIED:20241030T121511Z
UID:5339-1731398400-1731402000@brecksville.us
SUMMARY:CAPA Meeting Start
DESCRIPTION:
URL:https://brecksville.us/calendar/capa-meeting-start-3/
LOCATION:OH
END:VEVENT
BEGIN:VEVENT
DTSTART;TZID=America/Detroit:20241112T083000
DTEND;TZID=America/Detroit:20241112T093000
DTSTAMP:20260420T132314
CREATED:20240702T104210Z
LAST-MODIFIED:20240831T113027Z
UID:4482-1731400200-1731403800@brecksville.us
SUMMARY:CAPA Meeting
DESCRIPTION:
URL:https://brecksville.us/calendar/capa-meeting-3/
LOCATION:OH
END:VEVENT
BEGIN:VEVENT
DTSTART;TZID=America/Detroit:20241112T193000
DTEND;TZID=America/Detroit:20241112T193000
DTSTAMP:20260420T132314
CREATED:20240503T141122Z
LAST-MODIFIED:20241109T100012Z
UID:3915-1731439800-1731439800@brecksville.us
SUMMARY:Board of Zoning Appeals
DESCRIPTION:
URL:https://brecksville.us/calendar/board-of-zoning-appeals-10/
LOCATION:OH
CATEGORIES:City Government
END:VEVENT
END:VCALENDAR