BEGIN:VCALENDAR
VERSION:2.0
PRODID:-//Brecksville Ohio - ECPv6.15.12.2//NONSGML v1.0//EN
CALSCALE:GREGORIAN
METHOD:PUBLISH
X-WR-CALNAME:Brecksville Ohio
X-ORIGINAL-URL:https://brecksville.us
X-WR-CALDESC:Events for Brecksville Ohio
REFRESH-INTERVAL;VALUE=DURATION:PT1H
X-Robots-Tag:noindex
X-PUBLISHED-TTL:PT1H
BEGIN:VTIMEZONE
TZID:America/Detroit
BEGIN:DAYLIGHT
TZOFFSETFROM:-0500
TZOFFSETTO:-0400
TZNAME:EDT
DTSTART:20230312T070000
END:DAYLIGHT
BEGIN:STANDARD
TZOFFSETFROM:-0400
TZOFFSETTO:-0500
TZNAME:EST
DTSTART:20231105T060000
END:STANDARD
BEGIN:DAYLIGHT
TZOFFSETFROM:-0500
TZOFFSETTO:-0400
TZNAME:EDT
DTSTART:20240310T070000
END:DAYLIGHT
BEGIN:STANDARD
TZOFFSETFROM:-0400
TZOFFSETTO:-0500
TZNAME:EST
DTSTART:20241103T060000
END:STANDARD
BEGIN:DAYLIGHT
TZOFFSETFROM:-0500
TZOFFSETTO:-0400
TZNAME:EDT
DTSTART:20250309T070000
END:DAYLIGHT
BEGIN:STANDARD
TZOFFSETFROM:-0400
TZOFFSETTO:-0500
TZNAME:EST
DTSTART:20251102T060000
END:STANDARD
END:VTIMEZONE
BEGIN:VEVENT
DTSTART;TZID=America/Detroit:20241119T113000
DTEND;TZID=America/Detroit:20241119T130000
DTSTAMP:20260420T132315
CREATED:20240406T201500Z
LAST-MODIFIED:20240406T201540Z
UID:3248-1732015800-1732021200@brecksville.us
SUMMARY:Chamber Networking Lunch – November
DESCRIPTION:Date: November 19\, 2024 Time: 11:30am Networking\, Lunch at 12:00pm Location: Creekside Restaurant Price: $20 for members\, $25 for guests    
URL:https://brecksville.us/calendar/chamber-networking-lunch-november/
LOCATION:OH
CATEGORIES:Chamber Event,Monthly Lunch
ATTACH;FMTTYPE=image/png:https://brecksville.us/wp-content/uploads/2024/04/49d7958f-229b-4392-8b16-a603c4ab091b-hZIm4w.tmp_.png
END:VEVENT
BEGIN:VEVENT
DTSTART;TZID=America/Detroit:20241119T184500
DTEND;TZID=America/Detroit:20241119T184500
DTSTAMP:20260420T132315
CREATED:20240810T062552Z
LAST-MODIFIED:20241116T101027Z
UID:4850-1732041900-1732041900@brecksville.us
SUMMARY:Community Improvement Corporation
DESCRIPTION:
URL:https://brecksville.us/calendar/community-improvement-corporation/
LOCATION:OH
CATEGORIES:City Government
END:VEVENT
BEGIN:VEVENT
DTSTART;TZID=America/Detroit:20241119T190000
DTEND;TZID=America/Detroit:20241119T190000
DTSTAMP:20260420T132315
CREATED:20240405T134040Z
LAST-MODIFIED:20241116T101027Z
UID:3065-1732042800-1732042800@brecksville.us
SUMMARY:Council Committee Meeting
DESCRIPTION:
URL:https://brecksville.us/calendar/council-committee-meeting-15/
LOCATION:OH
CATEGORIES:City Government
END:VEVENT
BEGIN:VEVENT
DTSTART;TZID=America/Detroit:20241119T200000
DTEND;TZID=America/Detroit:20241119T200000
DTSTAMP:20260420T132315
CREATED:20240405T134040Z
LAST-MODIFIED:20241116T101027Z
UID:3066-1732046400-1732046400@brecksville.us
SUMMARY:City Council Regular Meeting
DESCRIPTION:
URL:https://brecksville.us/calendar/city-council-regular-meeting-16/
LOCATION:OH
CATEGORIES:City Government
END:VEVENT
END:VCALENDAR