BEGIN:VCALENDAR
VERSION:2.0
PRODID:-//Brecksville Ohio - ECPv6.15.12.2//NONSGML v1.0//EN
CALSCALE:GREGORIAN
METHOD:PUBLISH
X-ORIGINAL-URL:https://brecksville.us
X-WR-CALDESC:Events for Brecksville Ohio
REFRESH-INTERVAL;VALUE=DURATION:PT1H
X-Robots-Tag:noindex
X-PUBLISHED-TTL:PT1H
BEGIN:VTIMEZONE
TZID:America/Detroit
BEGIN:DAYLIGHT
TZOFFSETFROM:-0500
TZOFFSETTO:-0400
TZNAME:EDT
DTSTART:20230312T070000
END:DAYLIGHT
BEGIN:STANDARD
TZOFFSETFROM:-0400
TZOFFSETTO:-0500
TZNAME:EST
DTSTART:20231105T060000
END:STANDARD
BEGIN:DAYLIGHT
TZOFFSETFROM:-0500
TZOFFSETTO:-0400
TZNAME:EDT
DTSTART:20240310T070000
END:DAYLIGHT
BEGIN:STANDARD
TZOFFSETFROM:-0400
TZOFFSETTO:-0500
TZNAME:EST
DTSTART:20241103T060000
END:STANDARD
BEGIN:DAYLIGHT
TZOFFSETFROM:-0500
TZOFFSETTO:-0400
TZNAME:EDT
DTSTART:20250309T070000
END:DAYLIGHT
BEGIN:STANDARD
TZOFFSETFROM:-0400
TZOFFSETTO:-0500
TZNAME:EST
DTSTART:20251102T060000
END:STANDARD
END:VTIMEZONE
BEGIN:VEVENT
DTSTART;TZID=America/Detroit:20241202T190000
DTEND;TZID=America/Detroit:20241202T203000
DTSTAMP:20260420T115102
CREATED:20240702T104223Z
LAST-MODIFIED:20241030T121511Z
UID:4490-1733166000-1733171400@brecksville.us
SUMMARY:Junior Parent College Planning Night
DESCRIPTION:
URL:https://brecksville.us/calendar/junior-parent-college-planning-night/
LOCATION:OH
END:VEVENT
BEGIN:VEVENT
DTSTART;TZID=America/Detroit:20241202T193000
DTEND;TZID=America/Detroit:20241202T193000
DTSTAMP:20260420T115102
CREATED:20240405T134040Z
LAST-MODIFIED:20241116T101027Z
UID:3067-1733167800-1733167800@brecksville.us
SUMMARY:Recreation Commission
DESCRIPTION:
URL:https://brecksville.us/calendar/recreation-commission-8/
LOCATION:OH
CATEGORIES:City Government
END:VEVENT
BEGIN:VEVENT
DTSTART;TZID=America/Detroit:20241202T193000
DTEND;TZID=America/Detroit:20241202T193000
DTSTAMP:20260420T115102
CREATED:20241123T102556Z
LAST-MODIFIED:20241130T104035Z
UID:5630-1733167800-1733167800@brecksville.us
SUMMARY:Recreation Commission
DESCRIPTION:
URL:https://brecksville.us/calendar/recreation-commission-9/
LOCATION:OH
CATEGORIES:City Government
END:VEVENT
END:VCALENDAR