BEGIN:VCALENDAR
VERSION:2.0
PRODID:-//Brecksville Ohio - ECPv6.15.12.2//NONSGML v1.0//EN
CALSCALE:GREGORIAN
METHOD:PUBLISH
X-WR-CALNAME:Brecksville Ohio
X-ORIGINAL-URL:https://brecksville.us
X-WR-CALDESC:Events for Brecksville Ohio
REFRESH-INTERVAL;VALUE=DURATION:PT1H
X-Robots-Tag:noindex
X-PUBLISHED-TTL:PT1H
BEGIN:VTIMEZONE
TZID:America/Detroit
BEGIN:DAYLIGHT
TZOFFSETFROM:-0500
TZOFFSETTO:-0400
TZNAME:EDT
DTSTART:20230312T070000
END:DAYLIGHT
BEGIN:STANDARD
TZOFFSETFROM:-0400
TZOFFSETTO:-0500
TZNAME:EST
DTSTART:20231105T060000
END:STANDARD
BEGIN:DAYLIGHT
TZOFFSETFROM:-0500
TZOFFSETTO:-0400
TZNAME:EDT
DTSTART:20240310T070000
END:DAYLIGHT
BEGIN:STANDARD
TZOFFSETFROM:-0400
TZOFFSETTO:-0500
TZNAME:EST
DTSTART:20241103T060000
END:STANDARD
BEGIN:DAYLIGHT
TZOFFSETFROM:-0500
TZOFFSETTO:-0400
TZNAME:EDT
DTSTART:20250309T070000
END:DAYLIGHT
BEGIN:STANDARD
TZOFFSETFROM:-0400
TZOFFSETTO:-0500
TZNAME:EST
DTSTART:20251102T060000
END:STANDARD
END:VTIMEZONE
BEGIN:VEVENT
DTSTART;VALUE=DATE:20241218
DTEND;VALUE=DATE:20241219
DTSTAMP:20260420T115104
CREATED:20241030T121201Z
LAST-MODIFIED:20241030T121512Z
UID:5475-1734480000-1734566399@brecksville.us
SUMMARY:Midterms/Finals Day 1
DESCRIPTION:
URL:https://brecksville.us/calendar/midterms-finals-day-1/
LOCATION:OH
END:VEVENT
BEGIN:VEVENT
DTSTART;TZID=America/Detroit:20241218T180000
DTEND;TZID=America/Detroit:20241218T210000
DTSTAMP:20260420T115104
CREATED:20240412T111047Z
LAST-MODIFIED:20241213T192539Z
UID:3758-1734544800-1734555600@brecksville.us
SUMMARY:Board Meeting
DESCRIPTION:
URL:https://brecksville.us/calendar/board-meeting-9/
LOCATION:Brecksville Broadview Heights City School District Board of Education\, 6638 Mill Rd\, Brecksville\, OH\, United States
CATEGORIES:School District
END:VEVENT
BEGIN:VEVENT
DTSTART;TZID=America/Detroit:20241218T185300
DTEND;TZID=America/Detroit:20241218T195300
DTSTAMP:20260420T115104
CREATED:20240702T104248Z
LAST-MODIFIED:20241030T121512Z
UID:4502-1734547980-1734551580@brecksville.us
SUMMARY:6/7/8 Orchestra Holiday Concert
DESCRIPTION:
URL:https://brecksville.us/calendar/6-7-8-orchestra-holiday-concert/
LOCATION:OH
END:VEVENT
END:VCALENDAR