BEGIN:VCALENDAR
VERSION:2.0
PRODID:-//Brecksville Ohio - ECPv6.15.12.2//NONSGML v1.0//EN
CALSCALE:GREGORIAN
METHOD:PUBLISH
X-WR-CALNAME:Brecksville Ohio
X-ORIGINAL-URL:https://brecksville.us
X-WR-CALDESC:Events for Brecksville Ohio
REFRESH-INTERVAL;VALUE=DURATION:PT1H
X-Robots-Tag:noindex
X-PUBLISHED-TTL:PT1H
BEGIN:VTIMEZONE
TZID:America/Detroit
BEGIN:DAYLIGHT
TZOFFSETFROM:-0500
TZOFFSETTO:-0400
TZNAME:EDT
DTSTART:20240310T070000
END:DAYLIGHT
BEGIN:STANDARD
TZOFFSETFROM:-0400
TZOFFSETTO:-0500
TZNAME:EST
DTSTART:20241103T060000
END:STANDARD
BEGIN:DAYLIGHT
TZOFFSETFROM:-0500
TZOFFSETTO:-0400
TZNAME:EDT
DTSTART:20250309T070000
END:DAYLIGHT
BEGIN:STANDARD
TZOFFSETFROM:-0400
TZOFFSETTO:-0500
TZNAME:EST
DTSTART:20251102T060000
END:STANDARD
BEGIN:DAYLIGHT
TZOFFSETFROM:-0500
TZOFFSETTO:-0400
TZNAME:EDT
DTSTART:20260308T070000
END:DAYLIGHT
BEGIN:STANDARD
TZOFFSETFROM:-0400
TZOFFSETTO:-0500
TZNAME:EST
DTSTART:20261101T060000
END:STANDARD
END:VTIMEZONE
BEGIN:VEVENT
DTSTART;VALUE=DATE:20250505
DTEND;VALUE=DATE:20250510
DTSTAMP:20260420T042238
CREATED:20240831T113004Z
LAST-MODIFIED:20250428T140553Z
UID:5030-1746403200-1746835199@brecksville.us
SUMMARY:AP Exams (Week One)
DESCRIPTION:
URL:https://brecksville.us/calendar/ap-exams-week-one/
LOCATION:OH
END:VEVENT
BEGIN:VEVENT
DTSTART;TZID=America/Detroit:20250506T080000
DTEND;TZID=America/Detroit:20250506T110000
DTSTAMP:20260420T042238
CREATED:20250227T133722Z
LAST-MODIFIED:20250428T140542Z
UID:6324-1746518400-1746529200@brecksville.us
SUMMARY:AP Chemistry Exam
DESCRIPTION:
URL:https://brecksville.us/calendar/ap-chemistry-exam/
LOCATION:OH
END:VEVENT
BEGIN:VEVENT
DTSTART;TZID=America/Detroit:20250506T120000
DTEND;TZID=America/Detroit:20250506T150000
DTSTAMP:20260420T042238
CREATED:20250227T133722Z
LAST-MODIFIED:20250428T140542Z
UID:6325-1746532800-1746543600@brecksville.us
SUMMARY:AP US Comparative Gov and Pol Exam
DESCRIPTION:
URL:https://brecksville.us/calendar/ap-us-comparative-gov-and-pol-exam/
LOCATION:OH
END:VEVENT
BEGIN:VEVENT
DTSTART;TZID=America/Detroit:20250506T183000
DTEND;TZID=America/Detroit:20250506T183000
DTSTAMP:20260420T042238
CREATED:20241221T113606Z
LAST-MODIFIED:20250503T162049Z
UID:5884-1746556200-1746556200@brecksville.us
SUMMARY:Council Committee Meeting
DESCRIPTION:
URL:https://brecksville.us/calendar/council-committee-meeting-24/
LOCATION:OH
CATEGORIES:City Government
END:VEVENT
BEGIN:VEVENT
DTSTART;TZID=America/Detroit:20250506T190000
DTEND;TZID=America/Detroit:20250506T200000
DTSTAMP:20260420T042238
CREATED:20240402T125050Z
LAST-MODIFIED:20250428T140542Z
UID:2842-1746558000-1746561600@brecksville.us
SUMMARY:Band Booster Meeting
DESCRIPTION:
URL:https://brecksville.us/calendar/band-booster-meeting-14/
LOCATION:Band Room
END:VEVENT
BEGIN:VEVENT
DTSTART;TZID=America/Detroit:20250506T200000
DTEND;TZID=America/Detroit:20250506T200000
DTSTAMP:20260420T042238
CREATED:20250201T132110Z
LAST-MODIFIED:20250503T162049Z
UID:6190-1746561600-1746561600@brecksville.us
SUMMARY:City Council Regular Meeting
DESCRIPTION:
URL:https://brecksville.us/calendar/city-council-regular-meeting-36/
LOCATION:OH
CATEGORIES:City Government
END:VEVENT
END:VCALENDAR