BEGIN:VCALENDAR
VERSION:2.0
PRODID:-//Brecksville Ohio - ECPv6.15.12.2//NONSGML v1.0//EN
CALSCALE:GREGORIAN
METHOD:PUBLISH
X-WR-CALNAME:Brecksville Ohio
X-ORIGINAL-URL:https://brecksville.us
X-WR-CALDESC:Events for Brecksville Ohio
REFRESH-INTERVAL;VALUE=DURATION:PT1H
X-Robots-Tag:noindex
X-PUBLISHED-TTL:PT1H
BEGIN:VTIMEZONE
TZID:America/Detroit
BEGIN:DAYLIGHT
TZOFFSETFROM:-0500
TZOFFSETTO:-0400
TZNAME:EDT
DTSTART:20240310T070000
END:DAYLIGHT
BEGIN:STANDARD
TZOFFSETFROM:-0400
TZOFFSETTO:-0500
TZNAME:EST
DTSTART:20241103T060000
END:STANDARD
BEGIN:DAYLIGHT
TZOFFSETFROM:-0500
TZOFFSETTO:-0400
TZNAME:EDT
DTSTART:20250309T070000
END:DAYLIGHT
BEGIN:STANDARD
TZOFFSETFROM:-0400
TZOFFSETTO:-0500
TZNAME:EST
DTSTART:20251102T060000
END:STANDARD
BEGIN:DAYLIGHT
TZOFFSETFROM:-0500
TZOFFSETTO:-0400
TZNAME:EDT
DTSTART:20260308T070000
END:DAYLIGHT
BEGIN:STANDARD
TZOFFSETFROM:-0400
TZOFFSETTO:-0500
TZNAME:EST
DTSTART:20261101T060000
END:STANDARD
END:VTIMEZONE
BEGIN:VEVENT
DTSTART;VALUE=DATE:20250512
DTEND;VALUE=DATE:20250517
DTSTAMP:20260420T090856
CREATED:20240831T113004Z
LAST-MODIFIED:20250428T140610Z
UID:5034-1747008000-1747439999@brecksville.us
SUMMARY:Senior Exams
DESCRIPTION:
URL:https://brecksville.us/calendar/senior-exams/
LOCATION:OH
END:VEVENT
BEGIN:VEVENT
DTSTART;VALUE=DATE:20250512
DTEND;VALUE=DATE:20250517
DTSTAMP:20260420T090856
CREATED:20240831T113017Z
LAST-MODIFIED:20250428T140622Z
UID:5039-1747008000-1747439999@brecksville.us
SUMMARY:AP Exams (Week Two)
DESCRIPTION:
URL:https://brecksville.us/calendar/ap-exams-week-two-2/
LOCATION:OH
END:VEVENT
BEGIN:VEVENT
DTSTART;VALUE=DATE:20250512
DTEND;VALUE=DATE:20250517
DTSTAMP:20260420T090856
CREATED:20250329T135214Z
LAST-MODIFIED:20250428T140610Z
UID:7713-1747008000-1747439999@brecksville.us
SUMMARY:Senior Spirit Week
DESCRIPTION:
URL:https://brecksville.us/calendar/senior-spirit-week/
LOCATION:OH
END:VEVENT
BEGIN:VEVENT
DTSTART;VALUE=DATE:20250513
DTEND;VALUE=DATE:20250517
DTSTAMP:20260420T090856
CREATED:20240831T113004Z
LAST-MODIFIED:20250428T140610Z
UID:5032-1747094400-1747439999@brecksville.us
SUMMARY:MS DC Trip
DESCRIPTION:
URL:https://brecksville.us/calendar/ms-dc-trip/
LOCATION:OH
END:VEVENT
BEGIN:VEVENT
DTSTART;TZID=America/Detroit:20250515T080000
DTEND;TZID=America/Detroit:20250515T110000
DTSTAMP:20260420T090856
CREATED:20250227T133752Z
LAST-MODIFIED:20250428T140622Z
UID:6339-1747296000-1747306800@brecksville.us
SUMMARY:AP Spanish Language and Culture Exam
DESCRIPTION:
URL:https://brecksville.us/calendar/ap-spanish-language-and-culture-exam/
LOCATION:OH
END:VEVENT
BEGIN:VEVENT
DTSTART;TZID=America/Detroit:20250515T090000
DTEND;TZID=America/Detroit:20250515T100000
DTSTAMP:20260420T090856
CREATED:20240831T113017Z
LAST-MODIFIED:20250428T140622Z
UID:5041-1747299600-1747303200@brecksville.us
SUMMARY:Senior Internship Showcase
DESCRIPTION:
URL:https://brecksville.us/calendar/senior-internship-showcase/
LOCATION:OH
END:VEVENT
BEGIN:VEVENT
DTSTART;TZID=America/Detroit:20250515T120000
DTEND;TZID=America/Detroit:20250515T150000
DTSTAMP:20260420T090856
CREATED:20250227T133752Z
LAST-MODIFIED:20250428T140622Z
UID:6340-1747310400-1747321200@brecksville.us
SUMMARY:AP Computer Science Principles and AP Physics C: Electricity & Magnetism Exams
DESCRIPTION:
URL:https://brecksville.us/calendar/ap-computer-science-principles-and-ap-physics-c-electricity-magnetism-exams/
LOCATION:OH
END:VEVENT
BEGIN:VEVENT
DTSTART;TZID=America/Detroit:20250515T190000
DTEND;TZID=America/Detroit:20250515T200000
DTSTAMP:20260420T090856
CREATED:20240831T113017Z
LAST-MODIFIED:20250428T140622Z
UID:5037-1747335600-1747339200@brecksville.us
SUMMARY:6/7 MS Choir Concert
DESCRIPTION:
URL:https://brecksville.us/calendar/6-7-ms-choir-concert/
LOCATION:MS AUD
END:VEVENT
BEGIN:VEVENT
DTSTART;TZID=America/Detroit:20250515T200000
DTEND;TZID=America/Detroit:20250515T210000
DTSTAMP:20260420T090856
CREATED:20250329T135214Z
LAST-MODIFIED:20250428T140622Z
UID:7714-1747339200-1747342800@brecksville.us
SUMMARY:Senior Sunset
DESCRIPTION:
URL:https://brecksville.us/calendar/senior-sunset/
LOCATION:OH
END:VEVENT
END:VCALENDAR