BEGIN:VCALENDAR
VERSION:2.0
PRODID:-//Brecksville Ohio - ECPv6.15.12.2//NONSGML v1.0//EN
CALSCALE:GREGORIAN
METHOD:PUBLISH
X-ORIGINAL-URL:https://brecksville.us
X-WR-CALDESC:Events for Brecksville Ohio
REFRESH-INTERVAL;VALUE=DURATION:PT1H
X-Robots-Tag:noindex
X-PUBLISHED-TTL:PT1H
BEGIN:VTIMEZONE
TZID:America/Detroit
BEGIN:DAYLIGHT
TZOFFSETFROM:-0500
TZOFFSETTO:-0400
TZNAME:EDT
DTSTART:20240310T070000
END:DAYLIGHT
BEGIN:STANDARD
TZOFFSETFROM:-0400
TZOFFSETTO:-0500
TZNAME:EST
DTSTART:20241103T060000
END:STANDARD
BEGIN:DAYLIGHT
TZOFFSETFROM:-0500
TZOFFSETTO:-0400
TZNAME:EDT
DTSTART:20250309T070000
END:DAYLIGHT
BEGIN:STANDARD
TZOFFSETFROM:-0400
TZOFFSETTO:-0500
TZNAME:EST
DTSTART:20251102T060000
END:STANDARD
BEGIN:DAYLIGHT
TZOFFSETFROM:-0500
TZOFFSETTO:-0400
TZNAME:EDT
DTSTART:20260308T070000
END:DAYLIGHT
BEGIN:STANDARD
TZOFFSETFROM:-0400
TZOFFSETTO:-0500
TZNAME:EST
DTSTART:20261101T060000
END:STANDARD
END:VTIMEZONE
BEGIN:VEVENT
DTSTART;TZID=America/Detroit:20250701T183000
DTEND;TZID=America/Detroit:20250701T183000
DTSTAMP:20260425T102221
CREATED:20241221T113618Z
LAST-MODIFIED:20250628T183553Z
UID:5888-1751394600-1751394600@brecksville.us
SUMMARY:Council Committee Meeting
DESCRIPTION:
URL:https://brecksville.us/calendar/council-committee-meeting-26/
CATEGORIES:City Government
END:VEVENT
BEGIN:VEVENT
DTSTART;TZID=America/Detroit:20250701T200000
DTEND;TZID=America/Detroit:20250701T200000
DTSTAMP:20260425T102221
CREATED:20250201T132122Z
LAST-MODIFIED:20250628T183553Z
UID:6196-1751400000-1751400000@brecksville.us
SUMMARY:City Council Regular Meeting
DESCRIPTION:
URL:https://brecksville.us/calendar/city-council-regular-meeting-38/
CATEGORIES:City Government
END:VEVENT
BEGIN:VEVENT
DTSTART;TZID=America/Detroit:20250715T183000
DTEND;TZID=America/Detroit:20250715T183000
DTSTAMP:20260425T102221
CREATED:20250201T132122Z
LAST-MODIFIED:20250712T192023Z
UID:6197-1752604200-1752604200@brecksville.us
SUMMARY:Council Committee Meeting
DESCRIPTION:
URL:https://brecksville.us/calendar/council-committee-meeting-38/
CATEGORIES:City Government
END:VEVENT
BEGIN:VEVENT
DTSTART;TZID=America/Detroit:20250715T200000
DTEND;TZID=America/Detroit:20250715T200000
DTSTAMP:20260425T102221
CREATED:20241221T113618Z
LAST-MODIFIED:20250712T192023Z
UID:5889-1752609600-1752609600@brecksville.us
SUMMARY:City Council Regular Meeting
DESCRIPTION:
URL:https://brecksville.us/calendar/city-council-regular-meeting-26/
CATEGORIES:City Government
END:VEVENT
BEGIN:VEVENT
DTSTART;TZID=America/Detroit:20250728T193000
DTEND;TZID=America/Detroit:20250728T193000
DTSTAMP:20260425T102221
CREATED:20250125T130544Z
LAST-MODIFIED:20250726T195517Z
UID:6156-1753731000-1753731000@brecksville.us
SUMMARY:Recreation Commission
DESCRIPTION:
URL:https://brecksville.us/calendar/recreation-commission-16/
CATEGORIES:City Government
END:VEVENT
END:VCALENDAR