BEGIN:VCALENDAR
VERSION:2.0
PRODID:-//Brecksville Ohio - ECPv6.15.12.2//NONSGML v1.0//EN
CALSCALE:GREGORIAN
METHOD:PUBLISH
X-WR-CALNAME:Brecksville Ohio
X-ORIGINAL-URL:https://brecksville.us
X-WR-CALDESC:Events for Brecksville Ohio
REFRESH-INTERVAL;VALUE=DURATION:PT1H
X-Robots-Tag:noindex
X-PUBLISHED-TTL:PT1H
BEGIN:VTIMEZONE
TZID:America/Detroit
BEGIN:DAYLIGHT
TZOFFSETFROM:-0500
TZOFFSETTO:-0400
TZNAME:EDT
DTSTART:20240310T070000
END:DAYLIGHT
BEGIN:STANDARD
TZOFFSETFROM:-0400
TZOFFSETTO:-0500
TZNAME:EST
DTSTART:20241103T060000
END:STANDARD
BEGIN:DAYLIGHT
TZOFFSETFROM:-0500
TZOFFSETTO:-0400
TZNAME:EDT
DTSTART:20250309T070000
END:DAYLIGHT
BEGIN:STANDARD
TZOFFSETFROM:-0400
TZOFFSETTO:-0500
TZNAME:EST
DTSTART:20251102T060000
END:STANDARD
BEGIN:DAYLIGHT
TZOFFSETFROM:-0500
TZOFFSETTO:-0400
TZNAME:EDT
DTSTART:20260308T070000
END:DAYLIGHT
BEGIN:STANDARD
TZOFFSETFROM:-0400
TZOFFSETTO:-0500
TZNAME:EST
DTSTART:20261101T060000
END:STANDARD
BEGIN:DAYLIGHT
TZOFFSETFROM:-0500
TZOFFSETTO:-0400
TZNAME:EDT
DTSTART:20270314T070000
END:DAYLIGHT
BEGIN:STANDARD
TZOFFSETFROM:-0400
TZOFFSETTO:-0500
TZNAME:EST
DTSTART:20271107T060000
END:STANDARD
END:VTIMEZONE
BEGIN:VEVENT
DTSTART;TZID=America/Detroit:20260102T200000
DTEND;TZID=America/Detroit:20260102T200000
DTSTAMP:20260420T091306
CREATED:20240628T084135Z
LAST-MODIFIED:20251228T113551Z
UID:4314-1767384000-1767384000@brecksville.us
SUMMARY:City Council Organizational Meeting
DESCRIPTION:
URL:https://brecksville.us/calendar/city-council-organizational-meeting-2/
CATEGORIES:City Government
END:VEVENT
BEGIN:VEVENT
DTSTART;TZID=America/Detroit:20251216T200000
DTEND;TZID=America/Detroit:20251216T200000
DTSTAMP:20260420T091306
CREATED:20241221T113630Z
LAST-MODIFIED:20251214T105018Z
UID:5899-1765915200-1765915200@brecksville.us
SUMMARY:City Council Regular Meeting
DESCRIPTION:
URL:https://brecksville.us/calendar/city-council-regular-meeting-31/
CATEGORIES:City Government
END:VEVENT
BEGIN:VEVENT
DTSTART;TZID=America/Detroit:20251216T183000
DTEND;TZID=America/Detroit:20251216T183000
DTSTAMP:20260420T091306
CREATED:20250201T132148Z
LAST-MODIFIED:20251214T105018Z
UID:6212-1765909800-1765909800@brecksville.us
SUMMARY:Council Committee Meeting
DESCRIPTION:
URL:https://brecksville.us/calendar/council-committee-meeting-43/
CATEGORIES:City Government
END:VEVENT
BEGIN:VEVENT
DTSTART;TZID=America/Detroit:20251202T200000
DTEND;TZID=America/Detroit:20251202T200000
DTSTAMP:20260420T091306
CREATED:20250201T132148Z
LAST-MODIFIED:20251130T102539Z
UID:6211-1764705600-1764705600@brecksville.us
SUMMARY:City Council Regular Meeting
DESCRIPTION:
URL:https://brecksville.us/calendar/city-council-regular-meeting-43/
CATEGORIES:City Government
END:VEVENT
BEGIN:VEVENT
DTSTART;TZID=America/Detroit:20251202T183000
DTEND;TZID=America/Detroit:20251202T183000
DTSTAMP:20260420T091306
CREATED:20241221T113630Z
LAST-MODIFIED:20251130T102539Z
UID:5898-1764700200-1764700200@brecksville.us
SUMMARY:Council Committee Meeting
DESCRIPTION:
URL:https://brecksville.us/calendar/council-committee-meeting-31/
CATEGORIES:City Government
END:VEVENT
BEGIN:VEVENT
DTSTART;TZID=America/Detroit:20251201T193000
DTEND;TZID=America/Detroit:20251201T193000
DTSTAMP:20260420T091306
CREATED:20250125T130558Z
LAST-MODIFIED:20251130T102539Z
UID:6160-1764617400-1764617400@brecksville.us
SUMMARY:Recreation Commission
DESCRIPTION:
URL:https://brecksville.us/calendar/recreation-commission-20/
CATEGORIES:City Government
END:VEVENT
BEGIN:VEVENT
DTSTART;TZID=America/Detroit:20251118T200000
DTEND;TZID=America/Detroit:20251118T200000
DTSTAMP:20260420T091306
CREATED:20241221T113630Z
LAST-MODIFIED:20251115T235535Z
UID:5897-1763496000-1763496000@brecksville.us
SUMMARY:City Council Regular Meeting
DESCRIPTION:
URL:https://brecksville.us/calendar/city-council-regular-meeting-30/
CATEGORIES:City Government
END:VEVENT
BEGIN:VEVENT
DTSTART;TZID=America/Detroit:20251118T183000
DTEND;TZID=America/Detroit:20251118T183000
DTSTAMP:20260420T091306
CREATED:20250201T132148Z
LAST-MODIFIED:20251115T235535Z
UID:6209-1763490600-1763490600@brecksville.us
SUMMARY:Council Committee Meeting
DESCRIPTION:
URL:https://brecksville.us/calendar/council-committee-meeting-42/
CATEGORIES:City Government
END:VEVENT
BEGIN:VEVENT
DTSTART;TZID=America/Detroit:20251104T200000
DTEND;TZID=America/Detroit:20251104T200000
DTSTAMP:20260420T091306
CREATED:20250201T132148Z
LAST-MODIFIED:20251101T232052Z
UID:6208-1762286400-1762286400@brecksville.us
SUMMARY:City Council Regular Meeting
DESCRIPTION:
URL:https://brecksville.us/calendar/city-council-regular-meeting-42/
CATEGORIES:City Government
END:VEVENT
BEGIN:VEVENT
DTSTART;TZID=America/Detroit:20251104T183000
DTEND;TZID=America/Detroit:20251104T183000
DTSTAMP:20260420T091306
CREATED:20241221T113630Z
LAST-MODIFIED:20251101T232052Z
UID:5896-1762281000-1762281000@brecksville.us
SUMMARY:Council Committee Meeting
DESCRIPTION:
URL:https://brecksville.us/calendar/council-committee-meeting-30/
CATEGORIES:City Government
END:VEVENT
BEGIN:VEVENT
DTSTART;TZID=America/Detroit:20251027T193000
DTEND;TZID=America/Detroit:20251027T193000
DTSTAMP:20260420T091306
CREATED:20250125T130557Z
LAST-MODIFIED:20251025T230528Z
UID:6159-1761593400-1761593400@brecksville.us
SUMMARY:Recreation Commission
DESCRIPTION:
URL:https://brecksville.us/calendar/recreation-commission-19/
CATEGORIES:City Government
END:VEVENT
BEGIN:VEVENT
DTSTART;TZID=America/Detroit:20251021T200000
DTEND;TZID=America/Detroit:20251021T200000
DTSTAMP:20260420T091306
CREATED:20241221T113618Z
LAST-MODIFIED:20251018T225055Z
UID:5895-1761076800-1761076800@brecksville.us
SUMMARY:City Council Regular Meeting
DESCRIPTION:
URL:https://brecksville.us/calendar/city-council-regular-meeting-29/
CATEGORIES:City Government
END:VEVENT
BEGIN:VEVENT
DTSTART;TZID=America/Detroit:20251021T183000
DTEND;TZID=America/Detroit:20251021T183000
DTSTAMP:20260420T091306
CREATED:20250201T132136Z
LAST-MODIFIED:20251018T225055Z
UID:6206-1761071400-1761071400@brecksville.us
SUMMARY:Council Committee Meeting
DESCRIPTION:
URL:https://brecksville.us/calendar/council-committee-meeting-41/
CATEGORIES:City Government
END:VEVENT
BEGIN:VEVENT
DTSTART;TZID=America/Detroit:20251007T200000
DTEND;TZID=America/Detroit:20251007T200000
DTSTAMP:20260420T091306
CREATED:20250201T132136Z
LAST-MODIFIED:20251004T222516Z
UID:6205-1759867200-1759867200@brecksville.us
SUMMARY:City Council Regular Meeting
DESCRIPTION:
URL:https://brecksville.us/calendar/city-council-regular-meeting-41/
CATEGORIES:City Government
END:VEVENT
BEGIN:VEVENT
DTSTART;TZID=America/Detroit:20251007T183000
DTEND;TZID=America/Detroit:20251007T183000
DTSTAMP:20260420T091306
CREATED:20241221T113618Z
LAST-MODIFIED:20251004T222516Z
UID:5894-1759861800-1759861800@brecksville.us
SUMMARY:Council Committee Meeting
DESCRIPTION:
URL:https://brecksville.us/calendar/council-committee-meeting-29/
CATEGORIES:City Government
END:VEVENT
BEGIN:VEVENT
DTSTART;TZID=America/Detroit:20250922T193000
DTEND;TZID=America/Detroit:20250922T193000
DTSTAMP:20260420T091306
CREATED:20250125T130557Z
LAST-MODIFIED:20250920T215522Z
UID:6158-1758569400-1758569400@brecksville.us
SUMMARY:Recreation Commission
DESCRIPTION:
URL:https://brecksville.us/calendar/recreation-commission-18/
CATEGORIES:City Government
END:VEVENT
BEGIN:VEVENT
DTSTART;TZID=America/Detroit:20250916T200000
DTEND;TZID=America/Detroit:20250916T200000
DTSTAMP:20260420T091306
CREATED:20241221T113618Z
LAST-MODIFIED:20250913T214046Z
UID:5893-1758052800-1758052800@brecksville.us
SUMMARY:City Council Regular Meeting
DESCRIPTION:
URL:https://brecksville.us/calendar/city-council-regular-meeting-28/
CATEGORIES:City Government
END:VEVENT
BEGIN:VEVENT
DTSTART;TZID=America/Detroit:20250916T183000
DTEND;TZID=America/Detroit:20250916T183000
DTSTAMP:20260420T091306
CREATED:20250201T132135Z
LAST-MODIFIED:20250913T214045Z
UID:6203-1758047400-1758047400@brecksville.us
SUMMARY:Council Committee Meeting
DESCRIPTION:
URL:https://brecksville.us/calendar/council-committee-meeting-40/
CATEGORIES:City Government
END:VEVENT
BEGIN:VEVENT
DTSTART;TZID=America/Detroit:20250902T200000
DTEND;TZID=America/Detroit:20250902T200000
DTSTAMP:20260420T091306
CREATED:20250201T132135Z
LAST-MODIFIED:20250830T210552Z
UID:6202-1756843200-1756843200@brecksville.us
SUMMARY:City Council Regular Meeting
DESCRIPTION:
URL:https://brecksville.us/calendar/city-council-regular-meeting-40/
CATEGORIES:City Government
END:VEVENT
BEGIN:VEVENT
DTSTART;TZID=America/Detroit:20250902T183000
DTEND;TZID=America/Detroit:20250902T183000
DTSTAMP:20260420T091306
CREATED:20241221T113618Z
LAST-MODIFIED:20250830T210552Z
UID:5892-1756837800-1756837800@brecksville.us
SUMMARY:Council Committee Meeting
DESCRIPTION:
URL:https://brecksville.us/calendar/council-committee-meeting-28/
CATEGORIES:City Government
END:VEVENT
BEGIN:VEVENT
DTSTART;TZID=America/Detroit:20250825T193000
DTEND;TZID=America/Detroit:20250825T193000
DTSTAMP:20260420T091306
CREATED:20250125T130545Z
LAST-MODIFIED:20250823T211016Z
UID:6157-1756150200-1756150200@brecksville.us
SUMMARY:Recreation Commission
DESCRIPTION:
URL:https://brecksville.us/calendar/recreation-commission-17/
CATEGORIES:City Government
END:VEVENT
BEGIN:VEVENT
DTSTART;TZID=America/Detroit:20250819T200000
DTEND;TZID=America/Detroit:20250819T200000
DTSTAMP:20260420T091306
CREATED:20241221T113618Z
LAST-MODIFIED:20250816T203522Z
UID:5891-1755633600-1755633600@brecksville.us
SUMMARY:City Council Regular Meeting
DESCRIPTION:
URL:https://brecksville.us/calendar/city-council-regular-meeting-27/
CATEGORIES:City Government
END:VEVENT
BEGIN:VEVENT
DTSTART;TZID=America/Detroit:20250819T183000
DTEND;TZID=America/Detroit:20250819T183000
DTSTAMP:20260420T091306
CREATED:20250201T132123Z
LAST-MODIFIED:20250816T203522Z
UID:6200-1755628200-1755628200@brecksville.us
SUMMARY:Council Committee Meeting
DESCRIPTION:
URL:https://brecksville.us/calendar/council-committee-meeting-39/
CATEGORIES:City Government
END:VEVENT
BEGIN:VEVENT
DTSTART;TZID=America/Detroit:20250805T200000
DTEND;TZID=America/Detroit:20250805T200000
DTSTAMP:20260420T091306
CREATED:20250201T132123Z
LAST-MODIFIED:20250802T195035Z
UID:6199-1754424000-1754424000@brecksville.us
SUMMARY:City Council Regular Meeting
DESCRIPTION:
URL:https://brecksville.us/calendar/city-council-regular-meeting-39/
CATEGORIES:City Government
END:VEVENT
BEGIN:VEVENT
DTSTART;TZID=America/Detroit:20250805T183000
DTEND;TZID=America/Detroit:20250805T183000
DTSTAMP:20260420T091306
CREATED:20241221T113618Z
LAST-MODIFIED:20250802T195035Z
UID:5890-1754418600-1754418600@brecksville.us
SUMMARY:Council Committee Meeting
DESCRIPTION:
URL:https://brecksville.us/calendar/council-committee-meeting-27/
CATEGORIES:City Government
END:VEVENT
BEGIN:VEVENT
DTSTART;TZID=America/Detroit:20250728T193000
DTEND;TZID=America/Detroit:20250728T193000
DTSTAMP:20260420T091306
CREATED:20250125T130544Z
LAST-MODIFIED:20250726T195517Z
UID:6156-1753731000-1753731000@brecksville.us
SUMMARY:Recreation Commission
DESCRIPTION:
URL:https://brecksville.us/calendar/recreation-commission-16/
CATEGORIES:City Government
END:VEVENT
BEGIN:VEVENT
DTSTART;TZID=America/Detroit:20250715T200000
DTEND;TZID=America/Detroit:20250715T200000
DTSTAMP:20260420T091306
CREATED:20241221T113618Z
LAST-MODIFIED:20250712T192023Z
UID:5889-1752609600-1752609600@brecksville.us
SUMMARY:City Council Regular Meeting
DESCRIPTION:
URL:https://brecksville.us/calendar/city-council-regular-meeting-26/
CATEGORIES:City Government
END:VEVENT
BEGIN:VEVENT
DTSTART;TZID=America/Detroit:20250715T183000
DTEND;TZID=America/Detroit:20250715T183000
DTSTAMP:20260420T091306
CREATED:20250201T132122Z
LAST-MODIFIED:20250712T192023Z
UID:6197-1752604200-1752604200@brecksville.us
SUMMARY:Council Committee Meeting
DESCRIPTION:
URL:https://brecksville.us/calendar/council-committee-meeting-38/
CATEGORIES:City Government
END:VEVENT
BEGIN:VEVENT
DTSTART;TZID=America/Detroit:20250701T200000
DTEND;TZID=America/Detroit:20250701T200000
DTSTAMP:20260420T091306
CREATED:20250201T132122Z
LAST-MODIFIED:20250628T183553Z
UID:6196-1751400000-1751400000@brecksville.us
SUMMARY:City Council Regular Meeting
DESCRIPTION:
URL:https://brecksville.us/calendar/city-council-regular-meeting-38/
CATEGORIES:City Government
END:VEVENT
BEGIN:VEVENT
DTSTART;TZID=America/Detroit:20250701T183000
DTEND;TZID=America/Detroit:20250701T183000
DTSTAMP:20260420T091306
CREATED:20241221T113618Z
LAST-MODIFIED:20250628T183553Z
UID:5888-1751394600-1751394600@brecksville.us
SUMMARY:Council Committee Meeting
DESCRIPTION:
URL:https://brecksville.us/calendar/council-committee-meeting-26/
CATEGORIES:City Government
END:VEVENT
END:VCALENDAR