BEGIN:VCALENDAR
VERSION:2.0
PRODID:-//Brecksville Ohio - ECPv6.15.12.2//NONSGML v1.0//EN
CALSCALE:GREGORIAN
METHOD:PUBLISH
X-WR-CALNAME:Brecksville Ohio
X-ORIGINAL-URL:https://brecksville.us
X-WR-CALDESC:Events for Brecksville Ohio
REFRESH-INTERVAL;VALUE=DURATION:PT1H
X-Robots-Tag:noindex
X-PUBLISHED-TTL:PT1H
BEGIN:VTIMEZONE
TZID:America/Detroit
BEGIN:DAYLIGHT
TZOFFSETFROM:-0500
TZOFFSETTO:-0400
TZNAME:EDT
DTSTART:20240310T070000
END:DAYLIGHT
BEGIN:STANDARD
TZOFFSETFROM:-0400
TZOFFSETTO:-0500
TZNAME:EST
DTSTART:20241103T060000
END:STANDARD
BEGIN:DAYLIGHT
TZOFFSETFROM:-0500
TZOFFSETTO:-0400
TZNAME:EDT
DTSTART:20250309T070000
END:DAYLIGHT
BEGIN:STANDARD
TZOFFSETFROM:-0400
TZOFFSETTO:-0500
TZNAME:EST
DTSTART:20251102T060000
END:STANDARD
BEGIN:DAYLIGHT
TZOFFSETFROM:-0500
TZOFFSETTO:-0400
TZNAME:EDT
DTSTART:20260308T070000
END:DAYLIGHT
BEGIN:STANDARD
TZOFFSETFROM:-0400
TZOFFSETTO:-0500
TZNAME:EST
DTSTART:20261101T060000
END:STANDARD
END:VTIMEZONE
BEGIN:VEVENT
DTSTART;TZID=America/Detroit:20250728T193000
DTEND;TZID=America/Detroit:20250728T193000
DTSTAMP:20260420T060320
CREATED:20250125T130544Z
LAST-MODIFIED:20250726T195517Z
UID:6156-1753731000-1753731000@brecksville.us
SUMMARY:Recreation Commission
DESCRIPTION:
URL:https://brecksville.us/calendar/recreation-commission-16/
CATEGORIES:City Government
END:VEVENT
BEGIN:VEVENT
DTSTART;TZID=America/Detroit:20250715T200000
DTEND;TZID=America/Detroit:20250715T200000
DTSTAMP:20260420T060320
CREATED:20241221T113618Z
LAST-MODIFIED:20250712T192023Z
UID:5889-1752609600-1752609600@brecksville.us
SUMMARY:City Council Regular Meeting
DESCRIPTION:
URL:https://brecksville.us/calendar/city-council-regular-meeting-26/
CATEGORIES:City Government
END:VEVENT
BEGIN:VEVENT
DTSTART;TZID=America/Detroit:20250715T183000
DTEND;TZID=America/Detroit:20250715T183000
DTSTAMP:20260420T060320
CREATED:20250201T132122Z
LAST-MODIFIED:20250712T192023Z
UID:6197-1752604200-1752604200@brecksville.us
SUMMARY:Council Committee Meeting
DESCRIPTION:
URL:https://brecksville.us/calendar/council-committee-meeting-38/
CATEGORIES:City Government
END:VEVENT
BEGIN:VEVENT
DTSTART;TZID=America/Detroit:20250701T200000
DTEND;TZID=America/Detroit:20250701T200000
DTSTAMP:20260420T060320
CREATED:20250201T132122Z
LAST-MODIFIED:20250628T183553Z
UID:6196-1751400000-1751400000@brecksville.us
SUMMARY:City Council Regular Meeting
DESCRIPTION:
URL:https://brecksville.us/calendar/city-council-regular-meeting-38/
CATEGORIES:City Government
END:VEVENT
BEGIN:VEVENT
DTSTART;TZID=America/Detroit:20250701T183000
DTEND;TZID=America/Detroit:20250701T183000
DTSTAMP:20260420T060320
CREATED:20241221T113618Z
LAST-MODIFIED:20250628T183553Z
UID:5888-1751394600-1751394600@brecksville.us
SUMMARY:Council Committee Meeting
DESCRIPTION:
URL:https://brecksville.us/calendar/council-committee-meeting-26/
CATEGORIES:City Government
END:VEVENT
BEGIN:VEVENT
DTSTART;TZID=America/Detroit:20250623T193000
DTEND;TZID=America/Detroit:20250623T193000
DTSTAMP:20260420T060320
CREATED:20250125T130544Z
LAST-MODIFIED:20250621T184029Z
UID:6155-1750707000-1750707000@brecksville.us
SUMMARY:Recreation Commission
DESCRIPTION:
URL:https://brecksville.us/calendar/recreation-commission-15/
CATEGORIES:City Government
END:VEVENT
BEGIN:VEVENT
DTSTART;TZID=America/Detroit:20250617T200000
DTEND;TZID=America/Detroit:20250617T200000
DTSTAMP:20260420T060320
CREATED:20241221T113618Z
LAST-MODIFIED:20250614T180536Z
UID:5887-1750190400-1750190400@brecksville.us
SUMMARY:City Council Regular Meeting
DESCRIPTION:
URL:https://brecksville.us/calendar/city-council-regular-meeting-25/
CATEGORIES:City Government
END:VEVENT
BEGIN:VEVENT
DTSTART;TZID=America/Detroit:20250617T183000
DTEND;TZID=America/Detroit:20250617T183000
DTSTAMP:20260420T060320
CREATED:20250201T132110Z
LAST-MODIFIED:20250614T180536Z
UID:6194-1750185000-1750185000@brecksville.us
SUMMARY:Council Committee Meeting
DESCRIPTION:
URL:https://brecksville.us/calendar/council-committee-meeting-37/
CATEGORIES:City Government
END:VEVENT
BEGIN:VEVENT
DTSTART;TZID=America/Detroit:20250603T200000
DTEND;TZID=America/Detroit:20250603T200000
DTSTAMP:20260420T060320
CREATED:20250201T132110Z
LAST-MODIFIED:20250531T173538Z
UID:6193-1748980800-1748980800@brecksville.us
SUMMARY:City Council Regular Meeting
DESCRIPTION:
URL:https://brecksville.us/calendar/city-council-regular-meeting-37/
CATEGORIES:City Government
END:VEVENT
BEGIN:VEVENT
DTSTART;TZID=America/Detroit:20250603T183000
DTEND;TZID=America/Detroit:20250603T183000
DTSTAMP:20260420T060320
CREATED:20241221T113618Z
LAST-MODIFIED:20250531T173538Z
UID:5886-1748975400-1748975400@brecksville.us
SUMMARY:Council Committee Meeting
DESCRIPTION:
URL:https://brecksville.us/calendar/council-committee-meeting-25/
CATEGORIES:City Government
END:VEVENT
BEGIN:VEVENT
DTSTART;TZID=America/Detroit:20250520T200000
DTEND;TZID=America/Detroit:20250520T200000
DTSTAMP:20260420T060320
CREATED:20241221T113606Z
LAST-MODIFIED:20250517T165033Z
UID:5885-1747771200-1747771200@brecksville.us
SUMMARY:City Council Regular Meeting
DESCRIPTION:
URL:https://brecksville.us/calendar/city-council-regular-meeting-24/
CATEGORIES:City Government
END:VEVENT
BEGIN:VEVENT
DTSTART;TZID=America/Detroit:20250520T183000
DTEND;TZID=America/Detroit:20250520T183000
DTSTAMP:20260420T060320
CREATED:20250201T132110Z
LAST-MODIFIED:20250517T165033Z
UID:6192-1747765800-1747765800@brecksville.us
SUMMARY:Council Committee Meeting
DESCRIPTION:
URL:https://brecksville.us/calendar/council-committee-meeting-36/
CATEGORIES:City Government
END:VEVENT
BEGIN:VEVENT
DTSTART;TZID=America/Detroit:20250519T193000
DTEND;TZID=America/Detroit:20250519T193000
DTSTAMP:20260420T060320
CREATED:20250125T130532Z
LAST-MODIFIED:20250517T165033Z
UID:6154-1747683000-1747683000@brecksville.us
SUMMARY:Recreation Commission
DESCRIPTION:
URL:https://brecksville.us/calendar/recreation-commission-14/
CATEGORIES:City Government
END:VEVENT
BEGIN:VEVENT
DTSTART;TZID=America/Detroit:20250506T200000
DTEND;TZID=America/Detroit:20250506T200000
DTSTAMP:20260420T060320
CREATED:20250201T132110Z
LAST-MODIFIED:20250503T162049Z
UID:6190-1746561600-1746561600@brecksville.us
SUMMARY:City Council Regular Meeting
DESCRIPTION:
URL:https://brecksville.us/calendar/city-council-regular-meeting-36/
CATEGORIES:City Government
END:VEVENT
BEGIN:VEVENT
DTSTART;TZID=America/Detroit:20250506T183000
DTEND;TZID=America/Detroit:20250506T183000
DTSTAMP:20260420T060320
CREATED:20241221T113606Z
LAST-MODIFIED:20250503T162049Z
UID:5884-1746556200-1746556200@brecksville.us
SUMMARY:Council Committee Meeting
DESCRIPTION:
URL:https://brecksville.us/calendar/council-committee-meeting-24/
CATEGORIES:City Government
END:VEVENT
BEGIN:VEVENT
DTSTART;TZID=America/Detroit:20250428T193000
DTEND;TZID=America/Detroit:20250428T193000
DTSTAMP:20260420T060320
CREATED:20250125T130532Z
LAST-MODIFIED:20250426T160522Z
UID:6153-1745868600-1745868600@brecksville.us
SUMMARY:Recreation Commission
DESCRIPTION:
URL:https://brecksville.us/calendar/recreation-commission-13/
CATEGORIES:City Government
END:VEVENT
BEGIN:VEVENT
DTSTART;TZID=America/Detroit:20250417T190000
DTEND;TZID=America/Detroit:20250417T190000
DTSTAMP:20260420T060320
CREATED:20241130T104048Z
LAST-MODIFIED:20250412T153517Z
UID:5684-1744916400-1744916400@brecksville.us
SUMMARY:Planning Commission
DESCRIPTION:
URL:https://brecksville.us/calendar/planning-commission-23/
CATEGORIES:City Government
END:VEVENT
BEGIN:VEVENT
DTSTART;TZID=America/Detroit:20250415T200000
DTEND;TZID=America/Detroit:20250415T200000
DTSTAMP:20260420T060320
CREATED:20241221T113606Z
LAST-MODIFIED:20250412T153517Z
UID:5883-1744747200-1744747200@brecksville.us
SUMMARY:City Council Regular Meeting
DESCRIPTION:
URL:https://brecksville.us/calendar/city-council-regular-meeting-23/
CATEGORIES:City Government
END:VEVENT
BEGIN:VEVENT
DTSTART;TZID=America/Detroit:20250415T183000
DTEND;TZID=America/Detroit:20250415T183000
DTSTAMP:20260420T060320
CREATED:20250201T132056Z
LAST-MODIFIED:20250412T153517Z
UID:6188-1744741800-1744741800@brecksville.us
SUMMARY:Council Committee Meeting
DESCRIPTION:
URL:https://brecksville.us/calendar/council-committee-meeting-35/
CATEGORIES:City Government
END:VEVENT
BEGIN:VEVENT
DTSTART;TZID=America/Detroit:20250407T193000
DTEND;TZID=America/Detroit:20250407T193000
DTSTAMP:20260420T060320
CREATED:20250322T145039Z
LAST-MODIFIED:20250405T152537Z
UID:7686-1744054200-1744054200@brecksville.us
SUMMARY:Board of Zoning Appeals
DESCRIPTION:
URL:https://brecksville.us/calendar/board-of-zoning-appeals-16/
CATEGORIES:City Government
END:VEVENT
BEGIN:VEVENT
DTSTART;TZID=America/Detroit:20250403T190000
DTEND;TZID=America/Detroit:20250403T190000
DTSTAMP:20260420T060320
CREATED:20241130T104048Z
LAST-MODIFIED:20250329T150544Z
UID:5683-1743706800-1743706800@brecksville.us
SUMMARY:Planning Commission
DESCRIPTION:
URL:https://brecksville.us/calendar/planning-commission-22/
CATEGORIES:City Government
END:VEVENT
BEGIN:VEVENT
DTSTART;TZID=America/Detroit:20250401T200000
DTEND;TZID=America/Detroit:20250401T200000
DTSTAMP:20260420T060320
CREATED:20250201T132056Z
LAST-MODIFIED:20250329T150544Z
UID:6187-1743537600-1743537600@brecksville.us
SUMMARY:City Council Regular Meeting
DESCRIPTION:
URL:https://brecksville.us/calendar/city-council-regular-meeting-35/
CATEGORIES:City Government
END:VEVENT
BEGIN:VEVENT
DTSTART;TZID=America/Detroit:20250401T193000
DTEND;TZID=America/Detroit:20250401T193000
DTSTAMP:20260420T060320
CREATED:20241221T113606Z
LAST-MODIFIED:20250329T150544Z
UID:5882-1743535800-1743535800@brecksville.us
SUMMARY:Council Committee Meeting
DESCRIPTION:
URL:https://brecksville.us/calendar/council-committee-meeting-23/
CATEGORIES:City Government
END:VEVENT
BEGIN:VEVENT
DTSTART;TZID=America/Detroit:20250401T190000
DTEND;TZID=America/Detroit:20250401T190000
DTSTAMP:20260420T060320
CREATED:20250329T150544Z
LAST-MODIFIED:20250329T150544Z
UID:7730-1743534000-1743534000@brecksville.us
SUMMARY:Community Improvement Corporation
DESCRIPTION:
URL:https://brecksville.us/calendar/community-improvement-corporation-6/
CATEGORIES:City Government
END:VEVENT
BEGIN:VEVENT
DTSTART;TZID=America/Detroit:20250331T193000
DTEND;TZID=America/Detroit:20250331T193000
DTSTAMP:20260420T060320
CREATED:20250125T130531Z
LAST-MODIFIED:20250329T150544Z
UID:6152-1743449400-1743449400@brecksville.us
SUMMARY:Recreation Commission
DESCRIPTION:
URL:https://brecksville.us/calendar/recreation-commission-12/
CATEGORIES:City Government
END:VEVENT
BEGIN:VEVENT
DTSTART;TZID=America/Detroit:20250320T190000
DTEND;TZID=America/Detroit:20250320T190000
DTSTAMP:20260420T060320
CREATED:20241130T104048Z
LAST-MODIFIED:20250315T143544Z
UID:5682-1742497200-1742497200@brecksville.us
SUMMARY:Planning Commission
DESCRIPTION:
URL:https://brecksville.us/calendar/planning-commission-21/
CATEGORIES:City Government
END:VEVENT
BEGIN:VEVENT
DTSTART;TZID=America/Detroit:20250318T200000
DTEND;TZID=America/Detroit:20250318T200000
DTSTAMP:20260420T060320
CREATED:20241221T113606Z
LAST-MODIFIED:20250315T143544Z
UID:5881-1742328000-1742328000@brecksville.us
SUMMARY:City Council Regular Meeting
DESCRIPTION:
URL:https://brecksville.us/calendar/city-council-regular-meeting-22/
CATEGORIES:City Government
END:VEVENT
BEGIN:VEVENT
DTSTART;TZID=America/Detroit:20250318T190000
DTEND;TZID=America/Detroit:20250318T190000
DTSTAMP:20260420T060320
CREATED:20250201T132056Z
LAST-MODIFIED:20250315T143544Z
UID:6185-1742324400-1742324400@brecksville.us
SUMMARY:Council Committee Meeting
DESCRIPTION:
URL:https://brecksville.us/calendar/council-committee-meeting-34/
CATEGORIES:City Government
END:VEVENT
BEGIN:VEVENT
DTSTART;TZID=America/Detroit:20250318T183000
DTEND;TZID=America/Detroit:20250318T183000
DTSTAMP:20260420T060320
CREATED:20250315T143544Z
LAST-MODIFIED:20250315T143544Z
UID:6463-1742322600-1742322600@brecksville.us
SUMMARY:City Council Special Session
DESCRIPTION:
URL:https://brecksville.us/calendar/city-council-special-session-3/
CATEGORIES:City Government
END:VEVENT
BEGIN:VEVENT
DTSTART;TZID=America/Detroit:20250318T173000
DTEND;TZID=America/Detroit:20250318T173000
DTSTAMP:20260420T060320
CREATED:20250315T143544Z
LAST-MODIFIED:20250315T143544Z
UID:6462-1742319000-1742319000@brecksville.us
SUMMARY:Community Improvement Corporation
DESCRIPTION:
URL:https://brecksville.us/calendar/community-improvement-corporation-5/
CATEGORIES:City Government
END:VEVENT
END:VCALENDAR