BEGIN:VCALENDAR
VERSION:2.0
PRODID:-//Brecksville Ohio - ECPv6.15.12.2//NONSGML v1.0//EN
CALSCALE:GREGORIAN
METHOD:PUBLISH
X-WR-CALNAME:Brecksville Ohio
X-ORIGINAL-URL:https://brecksville.us
X-WR-CALDESC:Events for Brecksville Ohio
REFRESH-INTERVAL;VALUE=DURATION:PT1H
X-Robots-Tag:noindex
X-PUBLISHED-TTL:PT1H
BEGIN:VTIMEZONE
TZID:America/Detroit
BEGIN:DAYLIGHT
TZOFFSETFROM:-0500
TZOFFSETTO:-0400
TZNAME:EDT
DTSTART:20230312T070000
END:DAYLIGHT
BEGIN:STANDARD
TZOFFSETFROM:-0400
TZOFFSETTO:-0500
TZNAME:EST
DTSTART:20231105T060000
END:STANDARD
BEGIN:DAYLIGHT
TZOFFSETFROM:-0500
TZOFFSETTO:-0400
TZNAME:EDT
DTSTART:20240310T070000
END:DAYLIGHT
BEGIN:STANDARD
TZOFFSETFROM:-0400
TZOFFSETTO:-0500
TZNAME:EST
DTSTART:20241103T060000
END:STANDARD
BEGIN:DAYLIGHT
TZOFFSETFROM:-0500
TZOFFSETTO:-0400
TZNAME:EDT
DTSTART:20250309T070000
END:DAYLIGHT
BEGIN:STANDARD
TZOFFSETFROM:-0400
TZOFFSETTO:-0500
TZNAME:EST
DTSTART:20251102T060000
END:STANDARD
BEGIN:DAYLIGHT
TZOFFSETFROM:-0500
TZOFFSETTO:-0400
TZNAME:EDT
DTSTART:20260308T070000
END:DAYLIGHT
BEGIN:STANDARD
TZOFFSETFROM:-0400
TZOFFSETTO:-0500
TZNAME:EST
DTSTART:20261101T060000
END:STANDARD
END:VTIMEZONE
BEGIN:VEVENT
DTSTART;TZID=America/Detroit:20250320T190000
DTEND;TZID=America/Detroit:20250320T190000
DTSTAMP:20260420T102905
CREATED:20241130T104048Z
LAST-MODIFIED:20250315T143544Z
UID:5682-1742497200-1742497200@brecksville.us
SUMMARY:Planning Commission
DESCRIPTION:
URL:https://brecksville.us/calendar/planning-commission-21/
CATEGORIES:City Government
END:VEVENT
BEGIN:VEVENT
DTSTART;TZID=America/Detroit:20250318T200000
DTEND;TZID=America/Detroit:20250318T200000
DTSTAMP:20260420T102905
CREATED:20241221T113606Z
LAST-MODIFIED:20250315T143544Z
UID:5881-1742328000-1742328000@brecksville.us
SUMMARY:City Council Regular Meeting
DESCRIPTION:
URL:https://brecksville.us/calendar/city-council-regular-meeting-22/
CATEGORIES:City Government
END:VEVENT
BEGIN:VEVENT
DTSTART;TZID=America/Detroit:20250318T190000
DTEND;TZID=America/Detroit:20250318T190000
DTSTAMP:20260420T102905
CREATED:20250201T132056Z
LAST-MODIFIED:20250315T143544Z
UID:6185-1742324400-1742324400@brecksville.us
SUMMARY:Council Committee Meeting
DESCRIPTION:
URL:https://brecksville.us/calendar/council-committee-meeting-34/
CATEGORIES:City Government
END:VEVENT
BEGIN:VEVENT
DTSTART;TZID=America/Detroit:20250318T183000
DTEND;TZID=America/Detroit:20250318T183000
DTSTAMP:20260420T102905
CREATED:20250315T143544Z
LAST-MODIFIED:20250315T143544Z
UID:6463-1742322600-1742322600@brecksville.us
SUMMARY:City Council Special Session
DESCRIPTION:
URL:https://brecksville.us/calendar/city-council-special-session-3/
CATEGORIES:City Government
END:VEVENT
BEGIN:VEVENT
DTSTART;TZID=America/Detroit:20250318T173000
DTEND;TZID=America/Detroit:20250318T173000
DTSTAMP:20260420T102905
CREATED:20250315T143544Z
LAST-MODIFIED:20250315T143544Z
UID:6462-1742319000-1742319000@brecksville.us
SUMMARY:Community Improvement Corporation
DESCRIPTION:
URL:https://brecksville.us/calendar/community-improvement-corporation-5/
CATEGORIES:City Government
END:VEVENT
BEGIN:VEVENT
DTSTART;TZID=America/Detroit:20250310T193000
DTEND;TZID=America/Detroit:20250310T193000
DTSTAMP:20260420T102905
CREATED:20250301T140556Z
LAST-MODIFIED:20250308T142031Z
UID:6408-1741635000-1741635000@brecksville.us
SUMMARY:Board of Zoning Appeals
DESCRIPTION:
URL:https://brecksville.us/calendar/board-of-zoning-appeals-15/
CATEGORIES:City Government
END:VEVENT
BEGIN:VEVENT
DTSTART;TZID=America/Detroit:20250306T190000
DTEND;TZID=America/Detroit:20250306T190000
DTSTAMP:20260420T102905
CREATED:20241130T104047Z
LAST-MODIFIED:20250301T141019Z
UID:5681-1741287600-1741287600@brecksville.us
SUMMARY:Planning Commission
DESCRIPTION:
URL:https://brecksville.us/calendar/planning-commission-20/
CATEGORIES:City Government
END:VEVENT
BEGIN:VEVENT
DTSTART;TZID=America/Detroit:20250304T200000
DTEND;TZID=America/Detroit:20250304T200000
DTSTAMP:20260420T102905
CREATED:20250201T132045Z
LAST-MODIFIED:20250301T141019Z
UID:6184-1741118400-1741118400@brecksville.us
SUMMARY:City Council Regular Meeting
DESCRIPTION:
URL:https://brecksville.us/calendar/city-council-regular-meeting-34/
CATEGORIES:City Government
END:VEVENT
BEGIN:VEVENT
DTSTART;TZID=America/Detroit:20250304T183000
DTEND;TZID=America/Detroit:20250304T183000
DTSTAMP:20260420T102905
CREATED:20241221T113605Z
LAST-MODIFIED:20250301T141019Z
UID:5880-1741113000-1741113000@brecksville.us
SUMMARY:Council Committee Meeting
DESCRIPTION:
URL:https://brecksville.us/calendar/council-committee-meeting-22/
CATEGORIES:City Government
END:VEVENT
BEGIN:VEVENT
DTSTART;TZID=America/Detroit:20250224T193000
DTEND;TZID=America/Detroit:20250224T193000
DTSTAMP:20260420T102905
CREATED:20250125T130519Z
LAST-MODIFIED:20250222T141025Z
UID:6151-1740425400-1740425400@brecksville.us
SUMMARY:Recreation Commission
DESCRIPTION:
URL:https://brecksville.us/calendar/recreation-commission-11/
CATEGORIES:City Government
END:VEVENT
BEGIN:VEVENT
DTSTART;TZID=America/Detroit:20250220T190000
DTEND;TZID=America/Detroit:20250220T190000
DTSTAMP:20260420T102905
CREATED:20241130T104047Z
LAST-MODIFIED:20250215T135054Z
UID:5680-1740078000-1740078000@brecksville.us
SUMMARY:Planning Commission
DESCRIPTION:
URL:https://brecksville.us/calendar/planning-commission-19/
CATEGORIES:City Government
END:VEVENT
BEGIN:VEVENT
DTSTART;TZID=America/Detroit:20250218T200000
DTEND;TZID=America/Detroit:20250218T200000
DTSTAMP:20260420T102905
CREATED:20241221T113551Z
LAST-MODIFIED:20250215T135054Z
UID:5879-1739908800-1739908800@brecksville.us
SUMMARY:City Council Regular Meeting
DESCRIPTION:
URL:https://brecksville.us/calendar/city-council-regular-meeting-21/
CATEGORIES:City Government
END:VEVENT
BEGIN:VEVENT
DTSTART;TZID=America/Detroit:20250218T190000
DTEND;TZID=America/Detroit:20250218T190000
DTSTAMP:20260420T102905
CREATED:20250201T132045Z
LAST-MODIFIED:20250215T135054Z
UID:6182-1739905200-1739905200@brecksville.us
SUMMARY:Council Committee Meeting
DESCRIPTION:
URL:https://brecksville.us/calendar/council-committee-meeting-33/
CATEGORIES:City Government
END:VEVENT
BEGIN:VEVENT
DTSTART;TZID=America/Detroit:20250210T193000
DTEND;TZID=America/Detroit:20250210T193000
DTSTAMP:20260420T102906
CREATED:20241214T112537Z
LAST-MODIFIED:20250208T133529Z
UID:5856-1739215800-1739215800@brecksville.us
SUMMARY:Board of Zoning Appeals
DESCRIPTION:
URL:https://brecksville.us/calendar/board-of-zoning-appeals-14/
CATEGORIES:City Government
END:VEVENT
BEGIN:VEVENT
DTSTART;TZID=America/Detroit:20250206T190000
DTEND;TZID=America/Detroit:20250206T190000
DTSTAMP:20260420T102906
CREATED:20241130T104035Z
LAST-MODIFIED:20250201T132045Z
UID:5679-1738868400-1738868400@brecksville.us
SUMMARY:Planning Commission
DESCRIPTION:
URL:https://brecksville.us/calendar/planning-commission-18/
CATEGORIES:City Government
END:VEVENT
BEGIN:VEVENT
DTSTART;TZID=America/Detroit:20250204T200000
DTEND;TZID=America/Detroit:20250204T200000
DTSTAMP:20260420T102906
CREATED:20250201T132045Z
LAST-MODIFIED:20250201T132045Z
UID:6181-1738699200-1738699200@brecksville.us
SUMMARY:City Council Regular Meeting
DESCRIPTION:
URL:https://brecksville.us/calendar/city-council-regular-meeting-33/
CATEGORIES:City Government
END:VEVENT
BEGIN:VEVENT
DTSTART;TZID=America/Detroit:20250204T190000
DTEND;TZID=America/Detroit:20250204T190000
DTSTAMP:20260420T102906
CREATED:20241221T113551Z
LAST-MODIFIED:20250201T132044Z
UID:5877-1738695600-1738695600@brecksville.us
SUMMARY:Council Committee Meeting
DESCRIPTION:
URL:https://brecksville.us/calendar/council-committee-meeting-21/
CATEGORIES:City Government
END:VEVENT
BEGIN:VEVENT
DTSTART;TZID=America/Detroit:20250127T193000
DTEND;TZID=America/Detroit:20250127T193000
DTSTAMP:20260420T102906
CREATED:20250125T130519Z
LAST-MODIFIED:20250125T130519Z
UID:6150-1738006200-1738006200@brecksville.us
SUMMARY:Recreation Commission
DESCRIPTION:
URL:https://brecksville.us/calendar/recreation-commission-10/
CATEGORIES:City Government
END:VEVENT
BEGIN:VEVENT
DTSTART;TZID=America/Detroit:20250127T170000
DTEND;TZID=America/Detroit:20250127T170000
DTSTAMP:20260420T102906
CREATED:20250125T130519Z
LAST-MODIFIED:20250125T130519Z
UID:6149-1737997200-1737997200@brecksville.us
SUMMARY:Civil Service Commission
DESCRIPTION:
URL:https://brecksville.us/calendar/civil-service-commission-4/
CATEGORIES:City Government
END:VEVENT
BEGIN:VEVENT
DTSTART;TZID=America/Detroit:20250123T190000
DTEND;TZID=America/Detroit:20250123T190000
DTSTAMP:20260420T102906
CREATED:20241130T104035Z
LAST-MODIFIED:20250118T123518Z
UID:5678-1737658800-1737658800@brecksville.us
SUMMARY:Planning Commission
DESCRIPTION:
URL:https://brecksville.us/calendar/planning-commission-17/
CATEGORIES:City Government
END:VEVENT
BEGIN:VEVENT
DTSTART;TZID=America/Detroit:20250121T200000
DTEND;TZID=America/Detroit:20250121T200000
DTSTAMP:20260420T102906
CREATED:20250118T123517Z
LAST-MODIFIED:20250118T123517Z
UID:6123-1737489600-1737489600@brecksville.us
SUMMARY:City Council Regular Meeting
DESCRIPTION:
URL:https://brecksville.us/calendar/city-council-regular-meeting-32/
CATEGORIES:City Government
END:VEVENT
BEGIN:VEVENT
DTSTART;TZID=America/Detroit:20250121T200000
DTEND;TZID=America/Detroit:20250121T200000
DTSTAMP:20260420T102906
CREATED:20240405T134040Z
LAST-MODIFIED:20240510T142650Z
UID:3072-1737489600-1737489600@brecksville.us
SUMMARY:City Council Regular Meeting
DESCRIPTION:
URL:https://brecksville.us/calendar/city-council-regular-meeting-19/
CATEGORIES:City Government
END:VEVENT
BEGIN:VEVENT
DTSTART;TZID=America/Detroit:20250121T183000
DTEND;TZID=America/Detroit:20250121T183000
DTSTAMP:20260420T102906
CREATED:20250104T120554Z
LAST-MODIFIED:20250118T123517Z
UID:6015-1737484200-1737484200@brecksville.us
SUMMARY:Council Committee Meeting
DESCRIPTION:
URL:https://brecksville.us/calendar/council-committee-meeting-32/
CATEGORIES:City Government
END:VEVENT
BEGIN:VEVENT
DTSTART;TZID=America/Detroit:20250113T193000
DTEND;TZID=America/Detroit:20250113T193000
DTSTAMP:20260420T102906
CREATED:20241214T112537Z
LAST-MODIFIED:20250111T122024Z
UID:5855-1736796600-1736796600@brecksville.us
SUMMARY:Board of Zoning Appeals
DESCRIPTION:
URL:https://brecksville.us/calendar/board-of-zoning-appeals-13/
CATEGORIES:City Government
END:VEVENT
BEGIN:VEVENT
DTSTART;TZID=America/Detroit:20250109T190000
DTEND;TZID=America/Detroit:20250109T190000
DTSTAMP:20260420T102906
CREATED:20241130T104035Z
LAST-MODIFIED:20250104T121043Z
UID:5677-1736449200-1736449200@brecksville.us
SUMMARY:Planning Commission
DESCRIPTION:
URL:https://brecksville.us/calendar/planning-commission-16/
CATEGORIES:City Government
END:VEVENT
BEGIN:VEVENT
DTSTART;TZID=America/Detroit:20250107T200000
DTEND;TZID=America/Detroit:20250107T200000
DTSTAMP:20260420T102906
CREATED:20241221T113551Z
LAST-MODIFIED:20250104T121043Z
UID:5875-1736280000-1736280000@brecksville.us
SUMMARY:City Council Regular Meeting
DESCRIPTION:
URL:https://brecksville.us/calendar/city-council-regular-meeting-20/
CATEGORIES:City Government
END:VEVENT
BEGIN:VEVENT
DTSTART;TZID=America/Detroit:20250107T193000
DTEND;TZID=America/Detroit:20250107T193000
DTSTAMP:20260420T102906
CREATED:20241221T113550Z
LAST-MODIFIED:20250104T121043Z
UID:5874-1736278200-1736278200@brecksville.us
SUMMARY:Council Committee Meeting
DESCRIPTION:
URL:https://brecksville.us/calendar/council-committee-meeting-20/
CATEGORIES:City Government
END:VEVENT
BEGIN:VEVENT
DTSTART;TZID=America/Detroit:20250102T200000
DTEND;TZID=America/Detroit:20250102T200000
DTSTAMP:20260420T102906
CREATED:20240628T084124Z
LAST-MODIFIED:20241012T082603Z
UID:4313-1735848000-1735848000@brecksville.us
SUMMARY:City Council Organizational Meeting
DESCRIPTION:
URL:https://brecksville.us/calendar/city-council-organizational-meeting/
CATEGORIES:City Government
END:VEVENT
BEGIN:VEVENT
DTSTART;TZID=America/Detroit:20241217T200000
DTEND;TZID=America/Detroit:20241217T200000
DTSTAMP:20260420T102906
CREATED:20240405T134040Z
LAST-MODIFIED:20241214T112537Z
UID:3071-1734465600-1734465600@brecksville.us
SUMMARY:City Council Regular Meeting
DESCRIPTION:
URL:https://brecksville.us/calendar/city-council-regular-meeting-18/
CATEGORIES:City Government
END:VEVENT
BEGIN:VEVENT
DTSTART;TZID=America/Detroit:20241217T184500
DTEND;TZID=America/Detroit:20241217T184500
DTSTAMP:20260420T102906
CREATED:20240405T134040Z
LAST-MODIFIED:20241214T112537Z
UID:3070-1734461100-1734461100@brecksville.us
SUMMARY:Council Committee Meeting
DESCRIPTION:
URL:https://brecksville.us/calendar/council-committee-meeting-17/
CATEGORIES:City Government
END:VEVENT
END:VCALENDAR