BEGIN:VCALENDAR
VERSION:2.0
PRODID:-//Brecksville Ohio - ECPv6.15.12.2//NONSGML v1.0//EN
CALSCALE:GREGORIAN
METHOD:PUBLISH
X-ORIGINAL-URL:https://brecksville.us
X-WR-CALDESC:Events for Brecksville Ohio
REFRESH-INTERVAL;VALUE=DURATION:PT1H
X-Robots-Tag:noindex
X-PUBLISHED-TTL:PT1H
BEGIN:VTIMEZONE
TZID:America/Detroit
BEGIN:DAYLIGHT
TZOFFSETFROM:-0500
TZOFFSETTO:-0400
TZNAME:EDT
DTSTART:20240310T070000
END:DAYLIGHT
BEGIN:STANDARD
TZOFFSETFROM:-0400
TZOFFSETTO:-0500
TZNAME:EST
DTSTART:20241103T060000
END:STANDARD
BEGIN:DAYLIGHT
TZOFFSETFROM:-0500
TZOFFSETTO:-0400
TZNAME:EDT
DTSTART:20250309T070000
END:DAYLIGHT
BEGIN:STANDARD
TZOFFSETFROM:-0400
TZOFFSETTO:-0500
TZNAME:EST
DTSTART:20251102T060000
END:STANDARD
BEGIN:DAYLIGHT
TZOFFSETFROM:-0500
TZOFFSETTO:-0400
TZNAME:EDT
DTSTART:20260308T070000
END:DAYLIGHT
BEGIN:STANDARD
TZOFFSETFROM:-0400
TZOFFSETTO:-0500
TZNAME:EST
DTSTART:20261101T060000
END:STANDARD
BEGIN:DAYLIGHT
TZOFFSETFROM:-0500
TZOFFSETTO:-0400
TZNAME:EDT
DTSTART:20270314T070000
END:DAYLIGHT
BEGIN:STANDARD
TZOFFSETFROM:-0400
TZOFFSETTO:-0500
TZNAME:EST
DTSTART:20271107T060000
END:STANDARD
END:VTIMEZONE
BEGIN:VEVENT
DTSTART;TZID=America/Detroit:20251202T190000
DTEND;TZID=America/Detroit:20251202T200000
DTSTAMP:20260420T114611
CREATED:20240402T125114Z
LAST-MODIFIED:20250528T143611Z
UID:2855-1764702000-1764705600@brecksville.us
SUMMARY:Band Booster Meeting
DESCRIPTION:
URL:https://brecksville.us/calendar/band-booster-meeting-21/
LOCATION:Band Room
CATEGORIES:School District
END:VEVENT
BEGIN:VEVENT
DTSTART;TZID=America/Detroit:20251204T093000
DTEND;TZID=America/Detroit:20251204T103000
DTSTAMP:20260420T114611
CREATED:20240402T125114Z
LAST-MODIFIED:20251124T161026Z
UID:2856-1764840600-1764844200@brecksville.us
SUMMARY:PSO Council Meeting
DESCRIPTION:
URL:https://brecksville.us/calendar/pso-council-meeting-19/
LOCATION:Brecksville Broadview Heights City School District Board of Education\, 6638 Mill Rd\, Brecksville\, OH\, United States
CATEGORIES:School District
END:VEVENT
BEGIN:VEVENT
DTSTART;TZID=America/Detroit:20251210T180000
DTEND;TZID=America/Detroit:20251210T200000
DTSTAMP:20260420T114611
CREATED:20250110T203559Z
LAST-MODIFIED:20251206T092020Z
UID:6068-1765389600-1765396800@brecksville.us
SUMMARY:Regular Board Meeting
DESCRIPTION:
URL:https://brecksville.us/calendar/regular-board-meeting-12/
CATEGORIES:School District
END:VEVENT
BEGIN:VEVENT
DTSTART;VALUE=DATE:20251222
DTEND;VALUE=DATE:20251227
DTSTAMP:20260420T114611
CREATED:20250207T215125Z
LAST-MODIFIED:20251220T095029Z
UID:6225-1766361600-1766793599@brecksville.us
SUMMARY:Winter Break - No School
DESCRIPTION:
URL:https://brecksville.us/calendar/winter-break-no-school/
CATEGORIES:School District
END:VEVENT
BEGIN:VEVENT
DTSTART;VALUE=DATE:20251229
DTEND;VALUE=DATE:20260103
DTSTAMP:20260420T114611
CREATED:20250207T215125Z
LAST-MODIFIED:20251227T100526Z
UID:6226-1766966400-1767398399@brecksville.us
SUMMARY:Winter Break - No School
DESCRIPTION:
URL:https://brecksville.us/calendar/winter-break-no-school-2/
CATEGORIES:School District
END:VEVENT
END:VCALENDAR