BEGIN:VCALENDAR
VERSION:2.0
PRODID:-//Brecksville Ohio - ECPv6.15.12.2//NONSGML v1.0//EN
CALSCALE:GREGORIAN
METHOD:PUBLISH
X-WR-CALNAME:Brecksville Ohio
X-ORIGINAL-URL:https://brecksville.us
X-WR-CALDESC:Events for Brecksville Ohio
REFRESH-INTERVAL;VALUE=DURATION:PT1H
X-Robots-Tag:noindex
X-PUBLISHED-TTL:PT1H
BEGIN:VTIMEZONE
TZID:America/Detroit
BEGIN:DAYLIGHT
TZOFFSETFROM:-0500
TZOFFSETTO:-0400
TZNAME:EDT
DTSTART:20240310T070000
END:DAYLIGHT
BEGIN:STANDARD
TZOFFSETFROM:-0400
TZOFFSETTO:-0500
TZNAME:EST
DTSTART:20241103T060000
END:STANDARD
BEGIN:DAYLIGHT
TZOFFSETFROM:-0500
TZOFFSETTO:-0400
TZNAME:EDT
DTSTART:20250309T070000
END:DAYLIGHT
BEGIN:STANDARD
TZOFFSETFROM:-0400
TZOFFSETTO:-0500
TZNAME:EST
DTSTART:20251102T060000
END:STANDARD
BEGIN:DAYLIGHT
TZOFFSETFROM:-0500
TZOFFSETTO:-0400
TZNAME:EDT
DTSTART:20260308T070000
END:DAYLIGHT
BEGIN:STANDARD
TZOFFSETFROM:-0400
TZOFFSETTO:-0500
TZNAME:EST
DTSTART:20261101T060000
END:STANDARD
END:VTIMEZONE
BEGIN:VEVENT
DTSTART;TZID=America/Detroit:20250115T180000
DTEND;TZID=America/Detroit:20250115T200000
DTSTAMP:20260420T201650
CREATED:20250110T203533Z
LAST-MODIFIED:20250110T203533Z
UID:6057-1736964000-1736971200@brecksville.us
SUMMARY:Regular Board Meeting
DESCRIPTION:
URL:https://brecksville.us/calendar/regular-board-meeting/
CATEGORIES:School District
END:VEVENT
BEGIN:VEVENT
DTSTART;VALUE=DATE:20250120
DTEND;VALUE=DATE:20250121
DTSTAMP:20260420T201650
CREATED:20240517T124045Z
LAST-MODIFIED:20250117T210019Z
UID:3974-1737331200-1737417599@brecksville.us
SUMMARY:MLK Day - No School
DESCRIPTION:
URL:https://brecksville.us/calendar/mlk-day-no-school/
CATEGORIES:School District
END:VEVENT
BEGIN:VEVENT
DTSTART;TZID=America/Detroit:20250212T180000
DTEND;TZID=America/Detroit:20250212T200000
DTSTAMP:20260420T201650
CREATED:20250110T203533Z
LAST-MODIFIED:20250207T215517Z
UID:6058-1739383200-1739390400@brecksville.us
SUMMARY:Regular Board Meeting
DESCRIPTION:
URL:https://brecksville.us/calendar/regular-board-meeting-2/
CATEGORIES:School District
END:VEVENT
BEGIN:VEVENT
DTSTART;VALUE=DATE:20250217
DTEND;VALUE=DATE:20250218
DTSTAMP:20260420T201650
CREATED:20240517T124045Z
LAST-MODIFIED:20250214T221511Z
UID:3975-1739750400-1739836799@brecksville.us
SUMMARY:Presidents Day - No School
DESCRIPTION:
URL:https://brecksville.us/calendar/presidents-day-no-school/
CATEGORIES:School District
END:VEVENT
BEGIN:VEVENT
DTSTART;TZID=America/Detroit:20250319T180000
DTEND;TZID=America/Detroit:20250319T200000
DTSTAMP:20260420T201650
CREATED:20250110T203533Z
LAST-MODIFIED:20250314T232512Z
UID:6059-1742407200-1742414400@brecksville.us
SUMMARY:Regular Board Meeting
DESCRIPTION:
URL:https://brecksville.us/calendar/regular-board-meeting-3/
CATEGORIES:School District
END:VEVENT
BEGIN:VEVENT
DTSTART;VALUE=DATE:20250320
DTEND;VALUE=DATE:20250321
DTSTAMP:20260420T201650
CREATED:20240517T124045Z
LAST-MODIFIED:20250314T232512Z
UID:3976-1742428800-1742515199@brecksville.us
SUMMARY:End of Third Grading Period
DESCRIPTION:
URL:https://brecksville.us/calendar/end-of-third-grading-period/
CATEGORIES:School District
END:VEVENT
BEGIN:VEVENT
DTSTART;VALUE=DATE:20250321
DTEND;VALUE=DATE:20250322
DTSTAMP:20260420T201650
CREATED:20240517T124056Z
LAST-MODIFIED:20250321T234011Z
UID:3977-1742515200-1742601599@brecksville.us
SUMMARY:Teacher Records Day - No School for Students
DESCRIPTION:
URL:https://brecksville.us/calendar/teacher-records-day-no-school-for-students-3/
CATEGORIES:School District
END:VEVENT
BEGIN:VEVENT
DTSTART;VALUE=DATE:20250324
DTEND;VALUE=DATE:20250329
DTSTAMP:20260420T201650
CREATED:20240517T124056Z
LAST-MODIFIED:20250329T000057Z
UID:3978-1742774400-1743206399@brecksville.us
SUMMARY:Spring Break - No School
DESCRIPTION:
URL:https://brecksville.us/calendar/spring-break-no-school/
CATEGORIES:School District
END:VEVENT
BEGIN:VEVENT
DTSTART;TZID=America/Detroit:20250416T180000
DTEND;TZID=America/Detroit:20250416T200000
DTSTAMP:20260420T201650
CREATED:20250110T203545Z
LAST-MODIFIED:20250412T002019Z
UID:6060-1744826400-1744833600@brecksville.us
SUMMARY:Regular Board Meeting
DESCRIPTION:
URL:https://brecksville.us/calendar/regular-board-meeting-4/
CATEGORIES:School District
END:VEVENT
BEGIN:VEVENT
DTSTART;VALUE=DATE:20250418
DTEND;VALUE=DATE:20250419
DTSTAMP:20260420T201650
CREATED:20240517T124056Z
LAST-MODIFIED:20250412T002019Z
UID:3979-1744934400-1745020799@brecksville.us
SUMMARY:Good Friday - No School
DESCRIPTION:
URL:https://brecksville.us/calendar/good-friday-no-school/
CATEGORIES:School District
END:VEVENT
BEGIN:VEVENT
DTSTART;VALUE=DATE:20250421
DTEND;VALUE=DATE:20250422
DTSTAMP:20260420T201650
CREATED:20240517T124056Z
LAST-MODIFIED:20250419T004020Z
UID:3980-1745193600-1745279999@brecksville.us
SUMMARY:Easter Monday - No School
DESCRIPTION:
URL:https://brecksville.us/calendar/easter-monday-no-school/
CATEGORIES:School District
END:VEVENT
BEGIN:VEVENT
DTSTART;VALUE=DATE:20250526
DTEND;VALUE=DATE:20250527
DTSTAMP:20260420T201650
CREATED:20240517T124056Z
LAST-MODIFIED:20250524T020547Z
UID:3981-1748217600-1748303999@brecksville.us
SUMMARY:Memorial Day - No School
DESCRIPTION:
URL:https://brecksville.us/calendar/memorial-day-no-school-3/
CATEGORIES:School District
END:VEVENT
BEGIN:VEVENT
DTSTART;TZID=America/Detroit:20250528T180000
DTEND;TZID=America/Detroit:20250528T200000
DTSTAMP:20260420T201650
CREATED:20250110T203545Z
LAST-MODIFIED:20250524T020548Z
UID:6061-1748455200-1748462400@brecksville.us
SUMMARY:Regular Board Meeting
DESCRIPTION:
URL:https://brecksville.us/calendar/regular-board-meeting-5/
CATEGORIES:School District
END:VEVENT
BEGIN:VEVENT
DTSTART;VALUE=DATE:20250603
DTEND;VALUE=DATE:20250604
DTSTAMP:20260420T201650
CREATED:20240517T124056Z
LAST-MODIFIED:20250531T022520Z
UID:3982-1748908800-1748995199@brecksville.us
SUMMARY:Last Day of School
DESCRIPTION:
URL:https://brecksville.us/calendar/last-day-of-school-2/
CATEGORIES:School District
END:VEVENT
BEGIN:VEVENT
DTSTART;VALUE=DATE:20250604
DTEND;VALUE=DATE:20250605
DTSTAMP:20260420T201650
CREATED:20240517T124056Z
LAST-MODIFIED:20250531T022520Z
UID:3983-1748995200-1749081599@brecksville.us
SUMMARY:Teacher Records Day
DESCRIPTION:
URL:https://brecksville.us/calendar/teacher-records-day-2/
CATEGORIES:School District
END:VEVENT
BEGIN:VEVENT
DTSTART;TZID=America/Detroit:20250605T093000
DTEND;TZID=America/Detroit:20250605T103000
DTSTAMP:20260420T201650
CREATED:20240402T125050Z
LAST-MODIFIED:20250528T143543Z
UID:2844-1749115800-1749119400@brecksville.us
SUMMARY:PSO Council Meeting
DESCRIPTION:
URL:https://brecksville.us/calendar/pso-council-meeting-13/
LOCATION:Brecksville Broadview Heights City School District Board of Education\, 6638 Mill Rd\, Brecksville\, OH\, United States
CATEGORIES:School District
END:VEVENT
BEGIN:VEVENT
DTSTART;TZID=America/Detroit:20250618T110000
DTEND;TZID=America/Detroit:20250618T120000
DTSTAMP:20260420T201650
CREATED:20250607T023541Z
LAST-MODIFIED:20250614T025053Z
UID:7819-1750244400-1750248000@brecksville.us
SUMMARY:Arlene Stockwell Ed Aide Permit
DESCRIPTION:
URL:https://brecksville.us/calendar/arlene-stockwell-ed-aide-permit/
CATEGORIES:School District
END:VEVENT
BEGIN:VEVENT
DTSTART;TZID=America/Detroit:20250625T180000
DTEND;TZID=America/Detroit:20250625T200000
DTSTAMP:20260420T201650
CREATED:20250110T203545Z
LAST-MODIFIED:20250621T031037Z
UID:6062-1750874400-1750881600@brecksville.us
SUMMARY:Regular Board Meeting
DESCRIPTION:
URL:https://brecksville.us/calendar/regular-board-meeting-6/
CATEGORIES:School District
END:VEVENT
BEGIN:VEVENT
DTSTART;TZID=America/Detroit:20250701T190000
DTEND;TZID=America/Detroit:20250701T200000
DTSTAMP:20260420T201650
CREATED:20240402T125102Z
LAST-MODIFIED:20250528T143543Z
UID:2845-1751396400-1751400000@brecksville.us
SUMMARY:Band Booster Meeting
DESCRIPTION:
URL:https://brecksville.us/calendar/band-booster-meeting-16/
LOCATION:Band Room
CATEGORIES:School District
END:VEVENT
BEGIN:VEVENT
DTSTART;TZID=America/Detroit:20250703T093000
DTEND;TZID=America/Detroit:20250703T103000
DTSTAMP:20260420T201650
CREATED:20240402T125102Z
LAST-MODIFIED:20250627T150013Z
UID:2846-1751535000-1751538600@brecksville.us
SUMMARY:PSO Council Meeting
DESCRIPTION:
URL:https://brecksville.us/calendar/pso-council-meeting-14/
LOCATION:Brecksville Broadview Heights City School District Board of Education\, 6638 Mill Rd\, Brecksville\, OH\, United States
CATEGORIES:School District
END:VEVENT
BEGIN:VEVENT
DTSTART;TZID=America/Detroit:20250716T180000
DTEND;TZID=America/Detroit:20250716T200000
DTSTAMP:20260420T201650
CREATED:20250110T203545Z
LAST-MODIFIED:20250712T035017Z
UID:6063-1752688800-1752696000@brecksville.us
SUMMARY:Regular Board Meeting
DESCRIPTION:
URL:https://brecksville.us/calendar/regular-board-meeting-7/
CATEGORIES:School District
END:VEVENT
BEGIN:VEVENT
DTSTART;TZID=America/Detroit:20250801T080000
DTEND;TZID=America/Detroit:20250801T090000
DTSTAMP:20260420T201650
CREATED:20250607T023541Z
LAST-MODIFIED:20250719T040516Z
UID:7820-1754035200-1754038800@brecksville.us
SUMMARY:Tuition Paying Student Connor VonSeggern
DESCRIPTION:Check FY 26 Tuition Rates and Billing
URL:https://brecksville.us/calendar/tuition-paying-student-connor-vonseggern/
CATEGORIES:School District
END:VEVENT
BEGIN:VEVENT
DTSTART;TZID=America/Detroit:20250805T190000
DTEND;TZID=America/Detroit:20250805T200000
DTSTAMP:20260420T201650
CREATED:20240402T125102Z
LAST-MODIFIED:20250528T143543Z
UID:2847-1754420400-1754424000@brecksville.us
SUMMARY:Band Booster Meeting
DESCRIPTION:
URL:https://brecksville.us/calendar/band-booster-meeting-17/
LOCATION:Band Room
CATEGORIES:School District
END:VEVENT
BEGIN:VEVENT
DTSTART;TZID=America/Detroit:20250807T093000
DTEND;TZID=America/Detroit:20250807T103000
DTSTAMP:20260420T201650
CREATED:20240402T125102Z
LAST-MODIFIED:20250727T151045Z
UID:2848-1754559000-1754562600@brecksville.us
SUMMARY:PSO Council Meeting
DESCRIPTION:
URL:https://brecksville.us/calendar/pso-council-meeting-15/
LOCATION:Brecksville Broadview Heights City School District Board of Education\, 6638 Mill Rd\, Brecksville\, OH\, United States
CATEGORIES:School District
END:VEVENT
BEGIN:VEVENT
DTSTART;TZID=America/Detroit:20250808T080000
DTEND;TZID=America/Detroit:20250808T090000
DTSTAMP:20260420T201650
CREATED:20250607T023541Z
LAST-MODIFIED:20250719T040516Z
UID:7821-1754640000-1754643600@brecksville.us
SUMMARY:Tuition Paying Student Connor VonSeggern
DESCRIPTION:
URL:https://brecksville.us/calendar/tuition-paying-student-connor-vonseggern-2/
CATEGORIES:School District
END:VEVENT
BEGIN:VEVENT
DTSTART;VALUE=DATE:20250815
DTEND;VALUE=DATE:20250816
DTSTAMP:20260420T201650
CREATED:20250207T215100Z
LAST-MODIFIED:20250809T052527Z
UID:6214-1755216000-1755302399@brecksville.us
SUMMARY:Inservice for Teachers
DESCRIPTION:
URL:https://brecksville.us/calendar/inservice-for-teachers-5/
CATEGORIES:School District
END:VEVENT
BEGIN:VEVENT
DTSTART;VALUE=DATE:20250818
DTEND;VALUE=DATE:20250819
DTSTAMP:20260420T201650
CREATED:20250207T215100Z
LAST-MODIFIED:20250816T054531Z
UID:6215-1755475200-1755561599@brecksville.us
SUMMARY:Inservice for Teachers
DESCRIPTION:
URL:https://brecksville.us/calendar/inservice-for-teachers-6/
CATEGORIES:School District
END:VEVENT
BEGIN:VEVENT
DTSTART;VALUE=DATE:20250819
DTEND;VALUE=DATE:20250820
DTSTAMP:20260420T201650
CREATED:20250207T215100Z
LAST-MODIFIED:20250816T054531Z
UID:6216-1755561600-1755647999@brecksville.us
SUMMARY:Inservice for Teachers
DESCRIPTION:
URL:https://brecksville.us/calendar/inservice-for-teachers-7/
CATEGORIES:School District
END:VEVENT
BEGIN:VEVENT
DTSTART;VALUE=DATE:20250820
DTEND;VALUE=DATE:20250821
DTSTAMP:20260420T201650
CREATED:20250207T215101Z
LAST-MODIFIED:20250816T054531Z
UID:6217-1755648000-1755734399@brecksville.us
SUMMARY:First Day of School
DESCRIPTION:
URL:https://brecksville.us/calendar/first-day-of-school-2/
CATEGORIES:School District
END:VEVENT
BEGIN:VEVENT
DTSTART;TZID=America/Detroit:20250820T180000
DTEND;TZID=America/Detroit:20250820T200000
DTSTAMP:20260420T201650
CREATED:20250110T203545Z
LAST-MODIFIED:20250816T054531Z
UID:6064-1755712800-1755720000@brecksville.us
SUMMARY:Regular Board Meeting
DESCRIPTION:
URL:https://brecksville.us/calendar/regular-board-meeting-8/
CATEGORIES:School District
END:VEVENT
END:VCALENDAR