BEGIN:VCALENDAR
VERSION:2.0
PRODID:-//Brecksville Ohio - ECPv6.15.12.2//NONSGML v1.0//EN
CALSCALE:GREGORIAN
METHOD:PUBLISH
X-ORIGINAL-URL:https://brecksville.us
X-WR-CALDESC:Events for Brecksville Ohio
REFRESH-INTERVAL;VALUE=DURATION:PT1H
X-Robots-Tag:noindex
X-PUBLISHED-TTL:PT1H
BEGIN:VTIMEZONE
TZID:America/Detroit
BEGIN:DAYLIGHT
TZOFFSETFROM:-0500
TZOFFSETTO:-0400
TZNAME:EDT
DTSTART:20240310T070000
END:DAYLIGHT
BEGIN:STANDARD
TZOFFSETFROM:-0400
TZOFFSETTO:-0500
TZNAME:EST
DTSTART:20241103T060000
END:STANDARD
BEGIN:DAYLIGHT
TZOFFSETFROM:-0500
TZOFFSETTO:-0400
TZNAME:EDT
DTSTART:20250309T070000
END:DAYLIGHT
BEGIN:STANDARD
TZOFFSETFROM:-0400
TZOFFSETTO:-0500
TZNAME:EST
DTSTART:20251102T060000
END:STANDARD
BEGIN:DAYLIGHT
TZOFFSETFROM:-0500
TZOFFSETTO:-0400
TZNAME:EDT
DTSTART:20260308T070000
END:DAYLIGHT
BEGIN:STANDARD
TZOFFSETFROM:-0400
TZOFFSETTO:-0500
TZNAME:EST
DTSTART:20261101T060000
END:STANDARD
BEGIN:DAYLIGHT
TZOFFSETFROM:-0500
TZOFFSETTO:-0400
TZNAME:EDT
DTSTART:20270314T070000
END:DAYLIGHT
BEGIN:STANDARD
TZOFFSETFROM:-0400
TZOFFSETTO:-0500
TZNAME:EST
DTSTART:20271107T060000
END:STANDARD
END:VTIMEZONE
BEGIN:VEVENT
DTSTART;VALUE=DATE:20251125
DTEND;VALUE=DATE:20251126
DTSTAMP:20260420T185651
CREATED:20250207T215113Z
LAST-MODIFIED:20251122T085024Z
UID:6223-1764028800-1764115199@brecksville.us
SUMMARY:Prof. Waiver Day - No School for Students
DESCRIPTION:
URL:https://brecksville.us/calendar/prof-waiver-day-no-school-for-students-3/
CATEGORIES:School District
END:VEVENT
BEGIN:VEVENT
DTSTART;VALUE=DATE:20251126
DTEND;VALUE=DATE:20251129
DTSTAMP:20260420T185651
CREATED:20250207T215113Z
LAST-MODIFIED:20251122T085024Z
UID:6222-1764115200-1764374399@brecksville.us
SUMMARY:Thanksgiving Break - No School
DESCRIPTION:
URL:https://brecksville.us/calendar/thanksgiving-break-no-school/
CATEGORIES:School District
END:VEVENT
BEGIN:VEVENT
DTSTART;TZID=America/Detroit:20251202T190000
DTEND;TZID=America/Detroit:20251202T200000
DTSTAMP:20260420T185651
CREATED:20240402T125114Z
LAST-MODIFIED:20250528T143611Z
UID:2855-1764702000-1764705600@brecksville.us
SUMMARY:Band Booster Meeting
DESCRIPTION:
URL:https://brecksville.us/calendar/band-booster-meeting-21/
LOCATION:Band Room
CATEGORIES:School District
END:VEVENT
BEGIN:VEVENT
DTSTART;TZID=America/Detroit:20251204T093000
DTEND;TZID=America/Detroit:20251204T103000
DTSTAMP:20260420T185651
CREATED:20240402T125114Z
LAST-MODIFIED:20251124T161026Z
UID:2856-1764840600-1764844200@brecksville.us
SUMMARY:PSO Council Meeting
DESCRIPTION:
URL:https://brecksville.us/calendar/pso-council-meeting-19/
LOCATION:Brecksville Broadview Heights City School District Board of Education\, 6638 Mill Rd\, Brecksville\, OH\, United States
CATEGORIES:School District
END:VEVENT
BEGIN:VEVENT
DTSTART;TZID=America/Detroit:20251210T180000
DTEND;TZID=America/Detroit:20251210T200000
DTSTAMP:20260420T185651
CREATED:20250110T203559Z
LAST-MODIFIED:20251206T092020Z
UID:6068-1765389600-1765396800@brecksville.us
SUMMARY:Regular Board Meeting
DESCRIPTION:
URL:https://brecksville.us/calendar/regular-board-meeting-12/
CATEGORIES:School District
END:VEVENT
BEGIN:VEVENT
DTSTART;VALUE=DATE:20251222
DTEND;VALUE=DATE:20251227
DTSTAMP:20260420T185651
CREATED:20250207T215125Z
LAST-MODIFIED:20251220T095029Z
UID:6225-1766361600-1766793599@brecksville.us
SUMMARY:Winter Break - No School
DESCRIPTION:
URL:https://brecksville.us/calendar/winter-break-no-school/
CATEGORIES:School District
END:VEVENT
BEGIN:VEVENT
DTSTART;VALUE=DATE:20251229
DTEND;VALUE=DATE:20260103
DTSTAMP:20260420T185651
CREATED:20250207T215125Z
LAST-MODIFIED:20251227T100526Z
UID:6226-1766966400-1767398399@brecksville.us
SUMMARY:Winter Break - No School
DESCRIPTION:
URL:https://brecksville.us/calendar/winter-break-no-school-2/
CATEGORIES:School District
END:VEVENT
BEGIN:VEVENT
DTSTART;TZID=America/Detroit:20260101T093000
DTEND;TZID=America/Detroit:20260101T103000
DTSTAMP:20260420T185651
CREATED:20240402T125114Z
LAST-MODIFIED:20251124T161027Z
UID:2857-1767259800-1767263400@brecksville.us
SUMMARY:PSO Council Meeting
DESCRIPTION:
URL:https://brecksville.us/calendar/pso-council-meeting-20/
LOCATION:Brecksville Broadview Heights City School District Board of Education\, 6638 Mill Rd\, Brecksville\, OH\, United States
CATEGORIES:School District
END:VEVENT
BEGIN:VEVENT
DTSTART;TZID=America/Detroit:20260106T190000
DTEND;TZID=America/Detroit:20260106T200000
DTSTAMP:20260420T185651
CREATED:20240402T125114Z
LAST-MODIFIED:20250528T143611Z
UID:2858-1767726000-1767729600@brecksville.us
SUMMARY:Band Booster Meeting
DESCRIPTION:
URL:https://brecksville.us/calendar/band-booster-meeting-22/
LOCATION:Band Room
CATEGORIES:School District
END:VEVENT
BEGIN:VEVENT
DTSTART;TZID=America/Detroit:20260107T170000
DTEND;TZID=America/Detroit:20260107T190000
DTSTAMP:20260420T185651
CREATED:20250110T203559Z
LAST-MODIFIED:20260103T104014Z
UID:6069-1767805200-1767812400@brecksville.us
SUMMARY:Organizational Board Meeting
DESCRIPTION:
URL:https://brecksville.us/calendar/organizational-board-meeting-2/
CATEGORIES:School District
END:VEVENT
BEGIN:VEVENT
DTSTART;VALUE=DATE:20260109
DTEND;VALUE=DATE:20260110
DTSTAMP:20260420T185651
CREATED:20250207T215125Z
LAST-MODIFIED:20260103T104014Z
UID:6227-1767916800-1768003199@brecksville.us
SUMMARY:End of 2nd Grading Period
DESCRIPTION:
URL:https://brecksville.us/calendar/end-of-2nd-grading-period/
CATEGORIES:School District
END:VEVENT
BEGIN:VEVENT
DTSTART;VALUE=DATE:20260112
DTEND;VALUE=DATE:20260113
DTSTAMP:20260420T185651
CREATED:20250207T215125Z
LAST-MODIFIED:20260110T105023Z
UID:6228-1768176000-1768262399@brecksville.us
SUMMARY:Prof. Waiver Day - No School for Students
DESCRIPTION:
URL:https://brecksville.us/calendar/prof-waiver-day-no-school-for-students-5/
CATEGORIES:School District
END:VEVENT
BEGIN:VEVENT
DTSTART;VALUE=DATE:20260119
DTEND;VALUE=DATE:20260120
DTSTAMP:20260420T185651
CREATED:20250207T215125Z
LAST-MODIFIED:20260117T112022Z
UID:6229-1768780800-1768867199@brecksville.us
SUMMARY:Martin Luther King Day - No School
DESCRIPTION:
URL:https://brecksville.us/calendar/martin-luther-king-day-no-school-2/
CATEGORIES:School District
END:VEVENT
BEGIN:VEVENT
DTSTART;TZID=America/Detroit:20260121T180000
DTEND;TZID=America/Detroit:20260121T200000
DTSTAMP:20260420T185651
CREATED:20260110T105023Z
LAST-MODIFIED:20260117T112022Z
UID:8803-1769018400-1769025600@brecksville.us
SUMMARY:Regular Board Meeting
DESCRIPTION:
URL:https://brecksville.us/calendar/regular-board-meeting-13/
CATEGORIES:School District
END:VEVENT
BEGIN:VEVENT
DTSTART;TZID=America/Detroit:20260203T190000
DTEND;TZID=America/Detroit:20260203T200000
DTSTAMP:20260420T185651
CREATED:20240402T125114Z
LAST-MODIFIED:20250528T143611Z
UID:2859-1770145200-1770148800@brecksville.us
SUMMARY:Band Booster Meeting
DESCRIPTION:
URL:https://brecksville.us/calendar/band-booster-meeting-23/
LOCATION:Band Room
CATEGORIES:School District
END:VEVENT
BEGIN:VEVENT
DTSTART;TZID=America/Detroit:20260205T093000
DTEND;TZID=America/Detroit:20260205T103000
DTSTAMP:20260420T185651
CREATED:20240402T125114Z
LAST-MODIFIED:20260123T163600Z
UID:2860-1770283800-1770287400@brecksville.us
SUMMARY:PSO Council Meeting
DESCRIPTION:
URL:https://brecksville.us/calendar/pso-council-meeting-21/
LOCATION:Brecksville Broadview Heights City School District Board of Education\, 6638 Mill Rd\, Brecksville\, OH\, United States
CATEGORIES:School District
END:VEVENT
BEGIN:VEVENT
DTSTART;VALUE=DATE:20260216
DTEND;VALUE=DATE:20260217
DTSTAMP:20260420T185651
CREATED:20250207T215125Z
LAST-MODIFIED:20260214T122028Z
UID:6230-1771200000-1771286399@brecksville.us
SUMMARY:Presidents Day - No School
DESCRIPTION:
URL:https://brecksville.us/calendar/presidents-day-no-school-3/
CATEGORIES:School District
END:VEVENT
BEGIN:VEVENT
DTSTART;TZID=America/Detroit:20260225T180000
DTEND;TZID=America/Detroit:20260225T200000
DTSTAMP:20260420T185651
CREATED:20260110T105023Z
LAST-MODIFIED:20260221T125035Z
UID:8804-1772042400-1772049600@brecksville.us
SUMMARY:Regular Board Meeting
DESCRIPTION:
URL:https://brecksville.us/calendar/regular-board-meeting-14/
CATEGORIES:School District
END:VEVENT
BEGIN:VEVENT
DTSTART;TZID=America/Detroit:20260303T190000
DTEND;TZID=America/Detroit:20260303T200000
DTSTAMP:20260420T185651
CREATED:20240402T125114Z
LAST-MODIFIED:20250528T143624Z
UID:2861-1772564400-1772568000@brecksville.us
SUMMARY:Band Booster Meeting
DESCRIPTION:
URL:https://brecksville.us/calendar/band-booster-meeting-24/
LOCATION:Band Room
CATEGORIES:School District
END:VEVENT
BEGIN:VEVENT
DTSTART;TZID=America/Detroit:20260305T093000
DTEND;TZID=America/Detroit:20260305T103000
DTSTAMP:20260420T185651
CREATED:20240402T125114Z
LAST-MODIFIED:20260222T165515Z
UID:2862-1772703000-1772706600@brecksville.us
SUMMARY:PSO Council Meeting
DESCRIPTION:
URL:https://brecksville.us/calendar/pso-council-meeting-22/
LOCATION:Brecksville Broadview Heights City School District Board of Education\, 6638 Mill Rd\, Brecksville\, OH\, United States
CATEGORIES:School District
END:VEVENT
BEGIN:VEVENT
DTSTART;TZID=America/Detroit:20260318T180000
DTEND;TZID=America/Detroit:20260318T200000
DTSTAMP:20260420T185651
CREATED:20260110T105023Z
LAST-MODIFIED:20260314T135016Z
UID:8805-1773856800-1773864000@brecksville.us
SUMMARY:Regular Board Meeting
DESCRIPTION:
URL:https://brecksville.us/calendar/regular-board-meeting-15/
CATEGORIES:School District
END:VEVENT
BEGIN:VEVENT
DTSTART;VALUE=DATE:20260319
DTEND;VALUE=DATE:20260320
DTSTAMP:20260420T185651
CREATED:20250207T215125Z
LAST-MODIFIED:20260314T135016Z
UID:6231-1773878400-1773964799@brecksville.us
SUMMARY:End of 3rd Grading Period
DESCRIPTION:
URL:https://brecksville.us/calendar/end-of-3rd-grading-period/
CATEGORIES:School District
END:VEVENT
BEGIN:VEVENT
DTSTART;VALUE=DATE:20260320
DTEND;VALUE=DATE:20260321
DTSTAMP:20260420T185651
CREATED:20250207T215126Z
LAST-MODIFIED:20260314T135016Z
UID:6232-1773964800-1774051199@brecksville.us
SUMMARY:Teacher Records Day - No School for Students
DESCRIPTION:
URL:https://brecksville.us/calendar/teacher-records-day-no-school-for-students-5/
CATEGORIES:School District
END:VEVENT
BEGIN:VEVENT
DTSTART;VALUE=DATE:20260330
DTEND;VALUE=DATE:20260404
DTSTAMP:20260420T185651
CREATED:20250207T215137Z
LAST-MODIFIED:20260328T145016Z
UID:6233-1774828800-1775260799@brecksville.us
SUMMARY:Spring Break - No School
DESCRIPTION:
URL:https://brecksville.us/calendar/spring-break-no-school-2/
CATEGORIES:School District
END:VEVENT
BEGIN:VEVENT
DTSTART;TZID=America/Detroit:20260402T093000
DTEND;TZID=America/Detroit:20260402T103000
DTSTAMP:20260420T185651
CREATED:20240402T125114Z
LAST-MODIFIED:20260324T171041Z
UID:2863-1775122200-1775125800@brecksville.us
SUMMARY:PSO Council Meeting
DESCRIPTION:
URL:https://brecksville.us/calendar/pso-council-meeting-23/
LOCATION:Brecksville Broadview Heights City School District Board of Education\, 6638 Mill Rd\, Brecksville\, OH\, United States
CATEGORIES:School District
END:VEVENT
BEGIN:VEVENT
DTSTART;VALUE=DATE:20260406
DTEND;VALUE=DATE:20260407
DTSTAMP:20260420T185651
CREATED:20250207T215137Z
LAST-MODIFIED:20260404T150531Z
UID:6234-1775433600-1775519999@brecksville.us
SUMMARY:Spring Break - No School
DESCRIPTION:
URL:https://brecksville.us/calendar/spring-break-no-school-3/
CATEGORIES:School District
END:VEVENT
BEGIN:VEVENT
DTSTART;TZID=America/Detroit:20260422T180000
DTEND;TZID=America/Detroit:20260422T200000
DTSTAMP:20260420T185651
CREATED:20260110T105034Z
LAST-MODIFIED:20260404T150531Z
UID:8806-1776880800-1776888000@brecksville.us
SUMMARY:Regular Board Meeting
DESCRIPTION:
URL:https://brecksville.us/calendar/regular-board-meeting-16/
CATEGORIES:School District
END:VEVENT
BEGIN:VEVENT
DTSTART;TZID=America/Detroit:20260520T180000
DTEND;TZID=America/Detroit:20260520T200000
DTSTAMP:20260420T185651
CREATED:20260110T105034Z
LAST-MODIFIED:20260404T150531Z
UID:8807-1779300000-1779307200@brecksville.us
SUMMARY:Regular Board Meeting
DESCRIPTION:
URL:https://brecksville.us/calendar/regular-board-meeting-17/
CATEGORIES:School District
END:VEVENT
BEGIN:VEVENT
DTSTART;VALUE=DATE:20260525
DTEND;VALUE=DATE:20260526
DTSTAMP:20260420T185651
CREATED:20250207T215137Z
LAST-MODIFIED:20260404T150531Z
UID:6235-1779667200-1779753599@brecksville.us
SUMMARY:Memorial Day - No School
DESCRIPTION:
URL:https://brecksville.us/calendar/memorial-day-no-school-5/
CATEGORIES:School District
END:VEVENT
BEGIN:VEVENT
DTSTART;VALUE=DATE:20260602
DTEND;VALUE=DATE:20260603
DTSTAMP:20260420T185651
CREATED:20250207T215137Z
LAST-MODIFIED:20260404T150531Z
UID:6236-1780358400-1780444799@brecksville.us
SUMMARY:Last Day of School
DESCRIPTION:
URL:https://brecksville.us/calendar/last-day-of-school-3/
CATEGORIES:School District
END:VEVENT
END:VCALENDAR