BEGIN:VCALENDAR
VERSION:2.0
PRODID:-//Brecksville Ohio - ECPv6.15.12.2//NONSGML v1.0//EN
CALSCALE:GREGORIAN
METHOD:PUBLISH
X-WR-CALNAME:Brecksville Ohio
X-ORIGINAL-URL:https://brecksville.us
X-WR-CALDESC:Events for Brecksville Ohio
REFRESH-INTERVAL;VALUE=DURATION:PT1H
X-Robots-Tag:noindex
X-PUBLISHED-TTL:PT1H
BEGIN:VTIMEZONE
TZID:America/Detroit
BEGIN:DAYLIGHT
TZOFFSETFROM:-0500
TZOFFSETTO:-0400
TZNAME:EDT
DTSTART:20230312T070000
END:DAYLIGHT
BEGIN:STANDARD
TZOFFSETFROM:-0400
TZOFFSETTO:-0500
TZNAME:EST
DTSTART:20231105T060000
END:STANDARD
BEGIN:DAYLIGHT
TZOFFSETFROM:-0500
TZOFFSETTO:-0400
TZNAME:EDT
DTSTART:20240310T070000
END:DAYLIGHT
BEGIN:STANDARD
TZOFFSETFROM:-0400
TZOFFSETTO:-0500
TZNAME:EST
DTSTART:20241103T060000
END:STANDARD
BEGIN:DAYLIGHT
TZOFFSETFROM:-0500
TZOFFSETTO:-0400
TZNAME:EDT
DTSTART:20250309T070000
END:DAYLIGHT
BEGIN:STANDARD
TZOFFSETFROM:-0400
TZOFFSETTO:-0500
TZNAME:EST
DTSTART:20251102T060000
END:STANDARD
END:VTIMEZONE
BEGIN:VEVENT
DTSTART;TZID=America/Detroit:20241218T180000
DTEND;TZID=America/Detroit:20241218T210000
DTSTAMP:20260420T101500
CREATED:20240412T111047Z
LAST-MODIFIED:20241213T192539Z
UID:3758-1734544800-1734555600@brecksville.us
SUMMARY:Board Meeting
DESCRIPTION:
URL:https://brecksville.us/calendar/board-meeting-9/
LOCATION:Brecksville Broadview Heights City School District Board of Education\, 6638 Mill Rd\, Brecksville\, OH\, United States
CATEGORIES:School District
END:VEVENT
BEGIN:VEVENT
DTSTART;VALUE=DATE:20241127
DTEND;VALUE=DATE:20241130
DTSTAMP:20260420T101500
CREATED:20240503T121056Z
LAST-MODIFIED:20241129T185526Z
UID:3891-1732665600-1732924799@brecksville.us
SUMMARY:Thanksgiving Break
DESCRIPTION:
URL:https://brecksville.us/calendar/thanksgiving-break/
CATEGORIES:School District
END:VEVENT
BEGIN:VEVENT
DTSTART;VALUE=DATE:20241126
DTEND;VALUE=DATE:20241127
DTSTAMP:20260420T101500
CREATED:20240503T121056Z
LAST-MODIFIED:20241122T184045Z
UID:3892-1732579200-1732665599@brecksville.us
SUMMARY:Prof. Waiver Day - No School for Students
DESCRIPTION:
URL:https://brecksville.us/calendar/prof-waiver-day-no-school-for-students-2/
CATEGORIES:School District
END:VEVENT
BEGIN:VEVENT
DTSTART;VALUE=DATE:20241125
DTEND;VALUE=DATE:20241126
DTSTAMP:20260420T101500
CREATED:20240503T121056Z
LAST-MODIFIED:20241122T184045Z
UID:3890-1732492800-1732579199@brecksville.us
SUMMARY:Prof. Waiver Day - No School for Students
DESCRIPTION:
URL:https://brecksville.us/calendar/prof-waiver-day-no-school-for-students/
CATEGORIES:School District
END:VEVENT
BEGIN:VEVENT
DTSTART;TZID=America/Detroit:20241120T180000
DTEND;TZID=America/Detroit:20241120T210000
DTSTAMP:20260420T101500
CREATED:20240412T111047Z
LAST-MODIFIED:20241115T181018Z
UID:3757-1732125600-1732136400@brecksville.us
SUMMARY:Board Meeting
DESCRIPTION:
URL:https://brecksville.us/calendar/board-meeting-8/
LOCATION:Brecksville Broadview Heights City School District Board of Education\, 6638 Mill Rd\, Brecksville\, OH\, United States
CATEGORIES:School District
END:VEVENT
BEGIN:VEVENT
DTSTART;VALUE=DATE:20241021
DTEND;VALUE=DATE:20241022
DTSTAMP:20260420T101500
CREATED:20240503T121056Z
LAST-MODIFIED:20241018T171509Z
UID:3889-1729468800-1729555199@brecksville.us
SUMMARY:Teacher Records Day - No School for Students
DESCRIPTION:
URL:https://brecksville.us/calendar/teacher-records-day-no-school-for-students/
CATEGORIES:School District
END:VEVENT
BEGIN:VEVENT
DTSTART;VALUE=DATE:20241018
DTEND;VALUE=DATE:20241019
DTSTAMP:20260420T101500
CREATED:20240503T121056Z
LAST-MODIFIED:20241018T171509Z
UID:3888-1729209600-1729295999@brecksville.us
SUMMARY:End of First Grading Period
DESCRIPTION:
URL:https://brecksville.us/calendar/end-of-first-grading-period/
CATEGORIES:School District
END:VEVENT
BEGIN:VEVENT
DTSTART;TZID=America/Detroit:20241016T180000
DTEND;TZID=America/Detroit:20241016T210000
DTSTAMP:20260420T101500
CREATED:20240412T111036Z
LAST-MODIFIED:20241011T164037Z
UID:3756-1729101600-1729112400@brecksville.us
SUMMARY:Board Meeting
DESCRIPTION:
URL:https://brecksville.us/calendar/board-meeting-7/
LOCATION:Brecksville Broadview Heights City School District Board of Education\, 6638 Mill Rd\, Brecksville\, OH\, United States
CATEGORIES:School District
END:VEVENT
BEGIN:VEVENT
DTSTART;VALUE=DATE:20241011
DTEND;VALUE=DATE:20241012
DTSTAMP:20260420T101500
CREATED:20240503T121056Z
LAST-MODIFIED:20241011T164037Z
UID:3887-1728604800-1728691199@brecksville.us
SUMMARY:NEOEA Day - No School
DESCRIPTION:
URL:https://brecksville.us/calendar/neoea-day-no-school/
CATEGORIES:School District
END:VEVENT
BEGIN:VEVENT
DTSTART;TZID=America/Detroit:20240918T180000
DTEND;TZID=America/Detroit:20240918T210000
DTSTAMP:20260420T101500
CREATED:20240412T111036Z
LAST-MODIFIED:20240913T155037Z
UID:3755-1726682400-1726693200@brecksville.us
SUMMARY:Board Meeting
DESCRIPTION:
URL:https://brecksville.us/calendar/board-meeting-6/
LOCATION:Brecksville Broadview Heights City School District Board of Education\, 6638 Mill Rd\, Brecksville\, OH\, United States
CATEGORIES:School District
END:VEVENT
BEGIN:VEVENT
DTSTART;VALUE=DATE:20240902
DTEND;VALUE=DATE:20240903
DTSTAMP:20260420T101500
CREATED:20240503T121056Z
LAST-MODIFIED:20240830T145552Z
UID:3886-1725235200-1725321599@brecksville.us
SUMMARY:Labor Day - No School
DESCRIPTION:
URL:https://brecksville.us/calendar/labor-day-no-school/
CATEGORIES:School District
END:VEVENT
BEGIN:VEVENT
DTSTART;TZID=America/Detroit:20240821T180000
DTEND;TZID=America/Detroit:20240821T210000
DTSTAMP:20260420T101500
CREATED:20240412T111036Z
LAST-MODIFIED:20240816T144511Z
UID:3754-1724263200-1724274000@brecksville.us
SUMMARY:Board Meeting
DESCRIPTION:
URL:https://brecksville.us/calendar/board-meeting-5/
LOCATION:Brecksville Broadview Heights City School District Board of Education\, 6638 Mill Rd\, Brecksville\, OH\, United States
CATEGORIES:School District
END:VEVENT
BEGIN:VEVENT
DTSTART;VALUE=DATE:20240821
DTEND;VALUE=DATE:20240822
DTSTAMP:20260420T101500
CREATED:20240503T121043Z
LAST-MODIFIED:20240816T144511Z
UID:3885-1724198400-1724284799@brecksville.us
SUMMARY:First Day of School
DESCRIPTION:
URL:https://brecksville.us/calendar/first-day-of-school/
CATEGORIES:School District
END:VEVENT
BEGIN:VEVENT
DTSTART;VALUE=DATE:20240820
DTEND;VALUE=DATE:20240821
DTSTAMP:20260420T101500
CREATED:20240517T124019Z
LAST-MODIFIED:20240816T144511Z
UID:3971-1724112000-1724198399@brecksville.us
SUMMARY:Inservice for Teachers
DESCRIPTION:
URL:https://brecksville.us/calendar/inservice-for-teachers-4/
CATEGORIES:School District
END:VEVENT
BEGIN:VEVENT
DTSTART;VALUE=DATE:20240819
DTEND;VALUE=DATE:20240820
DTSTAMP:20260420T101500
CREATED:20240517T124019Z
LAST-MODIFIED:20240816T144511Z
UID:3970-1724025600-1724111999@brecksville.us
SUMMARY:Inservice for Teachers
DESCRIPTION:
URL:https://brecksville.us/calendar/inservice-for-teachers-3/
CATEGORIES:School District
END:VEVENT
BEGIN:VEVENT
DTSTART;VALUE=DATE:20240816
DTEND;VALUE=DATE:20240817
DTSTAMP:20260420T101500
CREATED:20240503T121043Z
LAST-MODIFIED:20240816T144511Z
UID:3884-1723766400-1723852799@brecksville.us
SUMMARY:Inservice for Teachers
DESCRIPTION:
URL:https://brecksville.us/calendar/inservice-for-teachers-2/
CATEGORIES:School District
END:VEVENT
BEGIN:VEVENT
DTSTART;VALUE=DATE:20240815
DTEND;VALUE=DATE:20240816
DTSTAMP:20260420T101500
CREATED:20240503T121042Z
LAST-MODIFIED:20240809T141018Z
UID:3883-1723680000-1723766399@brecksville.us
SUMMARY:Inservice for Teachers
DESCRIPTION:
URL:https://brecksville.us/calendar/inservice-for-teachers/
CATEGORIES:School District
END:VEVENT
BEGIN:VEVENT
DTSTART;VALUE=DATE:20240808
DTEND;VALUE=DATE:20240809
DTSTAMP:20260420T101500
CREATED:20240614T112550Z
LAST-MODIFIED:20240802T135545Z
UID:4198-1723075200-1723161599@brecksville.us
SUMMARY:State ID Spreadsheet Upload
DESCRIPTION:
URL:https://brecksville.us/calendar/state-id-spreadsheet-upload/
CATEGORIES:School District
END:VEVENT
BEGIN:VEVENT
DTSTART;VALUE=DATE:20240807
DTEND;VALUE=DATE:20240808
DTSTAMP:20260420T101500
CREATED:20240614T112550Z
LAST-MODIFIED:20240802T135545Z
UID:4197-1722988800-1723075199@brecksville.us
SUMMARY:FY 24 Staff Closes
DESCRIPTION:
URL:https://brecksville.us/calendar/fy-24-staff-closes/
CATEGORIES:School District
END:VEVENT
BEGIN:VEVENT
DTSTART;TZID=America/Detroit:20240717T180000
DTEND;TZID=America/Detroit:20240717T210000
DTSTAMP:20260420T101500
CREATED:20240412T111036Z
LAST-MODIFIED:20240712T125515Z
UID:3753-1721239200-1721250000@brecksville.us
SUMMARY:Board Meeting
DESCRIPTION:
URL:https://brecksville.us/calendar/board-meeting-4/
LOCATION:Brecksville Broadview Heights City School District Board of Education\, 6638 Mill Rd\, Brecksville\, OH\, United States
CATEGORIES:School District
END:VEVENT
BEGIN:VEVENT
DTSTART;TZID=America/Detroit:20240626T180000
DTEND;TZID=America/Detroit:20240626T210000
DTSTAMP:20260420T101500
CREATED:20240412T111036Z
LAST-MODIFIED:20240621T114026Z
UID:3752-1719424800-1719435600@brecksville.us
SUMMARY:Board Meeting
DESCRIPTION:
URL:https://brecksville.us/calendar/board-meeting-3/
LOCATION:Brecksville Broadview Heights City School District Board of Education\, 6638 Mill Rd\, Brecksville\, OH\, United States
CATEGORIES:School District
END:VEVENT
BEGIN:VEVENT
DTSTART;VALUE=DATE:20240605
DTEND;VALUE=DATE:20240606
DTSTAMP:20260420T101500
CREATED:20240412T111036Z
LAST-MODIFIED:20240528T061027Z
UID:3751-1717545600-1717631999@brecksville.us
SUMMARY:Teacher Records Day
DESCRIPTION:
URL:https://brecksville.us/calendar/teacher-records-day/
CATEGORIES:School District
END:VEVENT
BEGIN:VEVENT
DTSTART;VALUE=DATE:20240604
DTEND;VALUE=DATE:20240605
DTSTAMP:20260420T101500
CREATED:20240402T124415Z
LAST-MODIFIED:20240528T061027Z
UID:2702-1717459200-1717545599@brecksville.us
SUMMARY:Last Day of School
DESCRIPTION:
URL:https://brecksville.us/calendar/last-day-of-school/
CATEGORIES:School District
END:VEVENT
BEGIN:VEVENT
DTSTART;VALUE=DATE:20240527
DTEND;VALUE=DATE:20240528
DTSTAMP:20260420T101500
CREATED:20240402T124415Z
LAST-MODIFIED:20240527T092541Z
UID:2701-1716768000-1716854399@brecksville.us
SUMMARY:Memorial Day - No School
DESCRIPTION:
URL:https://brecksville.us/calendar/memorial-day-no-school/
CATEGORIES:School District
END:VEVENT
BEGIN:VEVENT
DTSTART;TZID=America/Detroit:20240515T180000
DTEND;TZID=America/Detroit:20240515T210000
DTSTAMP:20260420T101500
CREATED:20240412T111036Z
LAST-MODIFIED:20240510T123543Z
UID:3748-1715796000-1715806800@brecksville.us
SUMMARY:Board Meeting
DESCRIPTION:
URL:https://brecksville.us/calendar/board-meeting-2/
LOCATION:Brecksville Broadview Heights City School District Board of Education\, 6638 Mill Rd\, Cleveland\, OH 44141\, USA
CATEGORIES:School District
END:VEVENT
BEGIN:VEVENT
DTSTART;TZID=America/Detroit:20240424T180000
DTEND;TZID=America/Detroit:20240424T210000
DTSTAMP:20260420T101500
CREATED:20240412T111036Z
LAST-MODIFIED:20240419T113510Z
UID:3747-1713981600-1713992400@brecksville.us
SUMMARY:Board Meeting
DESCRIPTION:
URL:https://brecksville.us/calendar/board-meeting/
LOCATION:Brecksville-Broadview Heights High School\, 6380 Mill Rd\, Broadview Heights\, OH 44147 Media Center
CATEGORIES:School District
END:VEVENT
END:VCALENDAR