BEGIN:VCALENDAR
VERSION:2.0
PRODID:-//Brecksville Ohio - ECPv6.15.12.2//NONSGML v1.0//EN
CALSCALE:GREGORIAN
METHOD:PUBLISH
X-WR-CALNAME:Brecksville Ohio
X-ORIGINAL-URL:https://brecksville.us
X-WR-CALDESC:Events for Brecksville Ohio
REFRESH-INTERVAL;VALUE=DURATION:PT1H
X-Robots-Tag:noindex
X-PUBLISHED-TTL:PT1H
BEGIN:VTIMEZONE
TZID:America/Detroit
BEGIN:DAYLIGHT
TZOFFSETFROM:-0500
TZOFFSETTO:-0400
TZNAME:EDT
DTSTART:20230312T070000
END:DAYLIGHT
BEGIN:STANDARD
TZOFFSETFROM:-0400
TZOFFSETTO:-0500
TZNAME:EST
DTSTART:20231105T060000
END:STANDARD
BEGIN:DAYLIGHT
TZOFFSETFROM:-0500
TZOFFSETTO:-0400
TZNAME:EDT
DTSTART:20240310T070000
END:DAYLIGHT
BEGIN:STANDARD
TZOFFSETFROM:-0400
TZOFFSETTO:-0500
TZNAME:EST
DTSTART:20241103T060000
END:STANDARD
BEGIN:DAYLIGHT
TZOFFSETFROM:-0500
TZOFFSETTO:-0400
TZNAME:EDT
DTSTART:20250309T070000
END:DAYLIGHT
BEGIN:STANDARD
TZOFFSETFROM:-0400
TZOFFSETTO:-0500
TZNAME:EST
DTSTART:20251102T060000
END:STANDARD
END:VTIMEZONE
BEGIN:VEVENT
DTSTART;VALUE=DATE:20240503
DTEND;VALUE=DATE:20240504
DTSTAMP:20260419T225831
CREATED:20240402T124908Z
LAST-MODIFIED:20240403T092610Z
UID:2753-1714694400-1714780799@brecksville.us
SUMMARY:Makeups
DESCRIPTION:
URL:https://brecksville.us/calendar/makeups-5/
END:VEVENT
BEGIN:VEVENT
DTSTART;VALUE=DATE:20240503
DTEND;VALUE=DATE:20240504
DTSTAMP:20260419T225831
CREATED:20240402T124907Z
LAST-MODIFIED:20240503T100021Z
UID:2749-1714694400-1714780799@brecksville.us
SUMMARY:CVCC Senior Final Exams
DESCRIPTION:
URL:https://brecksville.us/calendar/cvcc-senior-final-exams-2/
END:VEVENT
BEGIN:VEVENT
DTSTART;TZID=America/Detroit:20240502T093000
DTEND;TZID=America/Detroit:20240502T103000
DTSTAMP:20260419T225831
CREATED:20240402T124907Z
LAST-MODIFIED:20240403T092610Z
UID:2746-1714642200-1714645800@brecksville.us
SUMMARY:PSO Council Meeting
DESCRIPTION:
URL:https://brecksville.us/calendar/pso-council-meeting-2/
LOCATION:Brecksville Broadview Heights City School District Board of Education\, 6638 Mill Rd\, Cleveland\, OH 44141\, USA
END:VEVENT
BEGIN:VEVENT
DTSTART;VALUE=DATE:20240502
DTEND;VALUE=DATE:20240503
DTSTAMP:20260419T225831
CREATED:20240402T124907Z
LAST-MODIFIED:20240403T092559Z
UID:2747-1714608000-1714694399@brecksville.us
SUMMARY:CVCC Senior Final Exams
DESCRIPTION:
URL:https://brecksville.us/calendar/cvcc-senior-final-exams/
END:VEVENT
BEGIN:VEVENT
DTSTART;VALUE=DATE:20240502
DTEND;VALUE=DATE:20240503
DTSTAMP:20260419T225831
CREATED:20240402T124907Z
LAST-MODIFIED:20240403T092610Z
UID:2750-1714608000-1714694399@brecksville.us
SUMMARY:Makeups
DESCRIPTION:
URL:https://brecksville.us/calendar/makeups-4/
END:VEVENT
BEGIN:VEVENT
DTSTART;VALUE=DATE:20240501
DTEND;VALUE=DATE:20240502
DTSTAMP:20260419T225831
CREATED:20240402T124856Z
LAST-MODIFIED:20240403T092559Z
UID:2742-1714521600-1714607999@brecksville.us
SUMMARY:Makeups
DESCRIPTION:
URL:https://brecksville.us/calendar/makeups-2/
END:VEVENT
BEGIN:VEVENT
DTSTART;VALUE=DATE:20240501
DTEND;VALUE=DATE:20240502
DTSTAMP:20260419T225831
CREATED:20240402T124856Z
LAST-MODIFIED:20240403T092559Z
UID:2743-1714521600-1714607999@brecksville.us
SUMMARY:Extended Colony Period Schedule 23-24
DESCRIPTION:
URL:https://brecksville.us/calendar/extended-colony-period-schedule-23-24/
END:VEVENT
BEGIN:VEVENT
DTSTART;VALUE=DATE:20240430
DTEND;VALUE=DATE:20240501
DTSTAMP:20260419T225831
CREATED:20240402T124907Z
LAST-MODIFIED:20240403T092559Z
UID:2744-1714435200-1714521599@brecksville.us
SUMMARY:Makeups
DESCRIPTION:
URL:https://brecksville.us/calendar/makeups-3/
END:VEVENT
BEGIN:VEVENT
DTSTART;VALUE=DATE:20240429
DTEND;VALUE=DATE:20240504
DTSTAMP:20260419T225831
CREATED:20240402T124856Z
LAST-MODIFIED:20240503T100021Z
UID:2741-1714348800-1714780799@brecksville.us
SUMMARY:HS EOC Makeups
DESCRIPTION:
URL:https://brecksville.us/calendar/makeups/
END:VEVENT
BEGIN:VEVENT
DTSTART;VALUE=DATE:20240426
DTEND;VALUE=DATE:20240427
DTSTAMP:20260419T225831
CREATED:20240402T124856Z
LAST-MODIFIED:20240403T092559Z
UID:2740-1714089600-1714175999@brecksville.us
SUMMARY:HS EOC Am. Gov. Testing-PM Session in AUX Gym
DESCRIPTION:
URL:https://brecksville.us/calendar/hs-eoc-am-gov-testing-pm-session-in-aux-gym/
END:VEVENT
BEGIN:VEVENT
DTSTART;TZID=America/Detroit:20240425T190000
DTEND;TZID=America/Detroit:20240425T190000
DTSTAMP:20260419T225831
CREATED:20240405T134038Z
LAST-MODIFIED:20240419T134529Z
UID:3020-1714071600-1714071600@brecksville.us
SUMMARY:Planning Commission
DESCRIPTION:
URL:https://brecksville.us/calendar/planning-commission/
CATEGORIES:City Government
END:VEVENT
BEGIN:VEVENT
DTSTART;VALUE=DATE:20240425
DTEND;VALUE=DATE:20240426
DTSTAMP:20260419T225831
CREATED:20240402T124856Z
LAST-MODIFIED:20240403T092559Z
UID:2737-1714003200-1714089599@brecksville.us
SUMMARY:HS EOC Am. History Testing-AM/PM Sessions in AUX Gym
DESCRIPTION:
URL:https://brecksville.us/calendar/hs-eoc-am-history-testing-am-pm-sessions-in-aux-gym/
LOCATION:Aux Gym
END:VEVENT
BEGIN:VEVENT
DTSTART;TZID=America/Detroit:20240424T180000
DTEND;TZID=America/Detroit:20240424T210000
DTSTAMP:20260419T225831
CREATED:20240412T111036Z
LAST-MODIFIED:20240419T113510Z
UID:3747-1713981600-1713992400@brecksville.us
SUMMARY:Board Meeting
DESCRIPTION:
URL:https://brecksville.us/calendar/board-meeting/
LOCATION:Brecksville-Broadview Heights High School\, 6380 Mill Rd\, Broadview Heights\, OH 44147 Media Center
CATEGORIES:School District
END:VEVENT
BEGIN:VEVENT
DTSTART;VALUE=DATE:20240424
DTEND;VALUE=DATE:20240425
DTSTAMP:20260419T225831
CREATED:20240402T124856Z
LAST-MODIFIED:20240403T092559Z
UID:2739-1713916800-1714003199@brecksville.us
SUMMARY:HS EOC Biology Testing-AM/PM Sessions in AUX Gym
DESCRIPTION:
URL:https://brecksville.us/calendar/hs-eoc-biology-testing-am-pm-sessions-in-aux-gym/
LOCATION:Aux Gym
END:VEVENT
BEGIN:VEVENT
DTSTART;TZID=America/Detroit:20240423T145000
DTEND;TZID=America/Detroit:20240423T155000
DTSTAMP:20260419T225831
CREATED:20240402T124856Z
LAST-MODIFIED:20240403T092559Z
UID:2732-1713883800-1713887400@brecksville.us
SUMMARY:HS BLT Meeting
DESCRIPTION:Conference Room 133D
URL:https://brecksville.us/calendar/hs-blt-meeting/
END:VEVENT
BEGIN:VEVENT
DTSTART;VALUE=DATE:20240423
DTEND;VALUE=DATE:20240424
DTSTAMP:20260419T225831
CREATED:20240402T124856Z
LAST-MODIFIED:20240403T092546Z
UID:2733-1713830400-1713916799@brecksville.us
SUMMARY:HS EOC Algebra Testing-Delayed Start
DESCRIPTION:
URL:https://brecksville.us/calendar/hs-eoc-algebra-testing-delayed-start/
END:VEVENT
BEGIN:VEVENT
DTSTART;VALUE=DATE:20240423
DTEND;VALUE=DATE:20240424
DTSTAMP:20260419T225831
CREATED:20240402T124842Z
LAST-MODIFIED:20240403T092546Z
UID:2731-1713830400-1713916799@brecksville.us
SUMMARY:HS EOC Geometry Testing-Delayed Start
DESCRIPTION:
URL:https://brecksville.us/calendar/hs-eoc-geometry-testing-delayed-start/
END:VEVENT
BEGIN:VEVENT
DTSTART;TZID=America/Detroit:20240422T193000
DTEND;TZID=America/Detroit:20240422T193000
DTSTAMP:20260419T225831
CREATED:20240405T134038Z
LAST-MODIFIED:20240419T134529Z
UID:3019-1713814200-1713814200@brecksville.us
SUMMARY:Recreation Commission
DESCRIPTION:
URL:https://brecksville.us/calendar/recreation-commission/
CATEGORIES:City Government
END:VEVENT
BEGIN:VEVENT
DTSTART;TZID=America/Detroit:20240422T183000
DTEND;TZID=America/Detroit:20240422T183000
DTSTAMP:20260419T225831
CREATED:20240412T134028Z
LAST-MODIFIED:20240419T134529Z
UID:3773-1713810600-1713810600@brecksville.us
SUMMARY:Recreation Commission - Workshop Meeting
DESCRIPTION:
URL:https://brecksville.us/calendar/recreation-commission-workshop-meeting/
CATEGORIES:City Government
END:VEVENT
BEGIN:VEVENT
DTSTART;TZID=America/Detroit:20240422T093000
DTEND;TZID=America/Detroit:20240422T093500
DTSTAMP:20260419T225831
CREATED:20240402T124842Z
LAST-MODIFIED:20240403T092546Z
UID:2730-1713778200-1713778500@brecksville.us
SUMMARY:HS EOC Algebra Testing
DESCRIPTION:
URL:https://brecksville.us/calendar/hs-eoc-algebra-testing/
END:VEVENT
BEGIN:VEVENT
DTSTART;VALUE=DATE:20240422
DTEND;VALUE=DATE:20240423
DTSTAMP:20260419T225831
CREATED:20240402T124856Z
LAST-MODIFIED:20240403T092546Z
UID:2734-1713744000-1713830399@brecksville.us
SUMMARY:HS EOC Geometry Testing-Delayed Start
DESCRIPTION:
URL:https://brecksville.us/calendar/hs-eoc-geometry-testing-delayed-start-2/
END:VEVENT
BEGIN:VEVENT
DTSTART;VALUE=DATE:20240422
DTEND;VALUE=DATE:20240423
DTSTAMP:20260419T225831
CREATED:20240402T124856Z
LAST-MODIFIED:20240403T092558Z
UID:2735-1713744000-1713830399@brecksville.us
SUMMARY:HS EOC Algebra Testing-Delayed Start
DESCRIPTION:
URL:https://brecksville.us/calendar/hs-eoc-algebra-testing-delayed-start-2/
END:VEVENT
BEGIN:VEVENT
DTSTART;TZID=America/Detroit:20240418T190000
DTEND;TZID=America/Detroit:20240418T200000
DTSTAMP:20260419T225831
CREATED:20240402T124841Z
LAST-MODIFIED:20240403T092546Z
UID:2728-1713466800-1713470400@brecksville.us
SUMMARY:BBHHS Band Concert
DESCRIPTION:BBHHS Auditorium
URL:https://brecksville.us/calendar/bbhhs-band-concert/
END:VEVENT
BEGIN:VEVENT
DTSTART;TZID=America/Detroit:20240418T180000
DTEND;TZID=America/Detroit:20240418T190000
DTSTAMP:20260419T225831
CREATED:20240402T124842Z
LAST-MODIFIED:20240403T092546Z
UID:2729-1713463200-1713466800@brecksville.us
SUMMARY:Vocal Music Booster Mtg.
DESCRIPTION:Choir Room
URL:https://brecksville.us/calendar/vocal-music-booster-mtg/
END:VEVENT
BEGIN:VEVENT
DTSTART;TZID=America/Detroit:20240418T113000
DTEND;TZID=America/Detroit:20240418T131500
DTSTAMP:20260419T225831
CREATED:20240402T124841Z
LAST-MODIFIED:20240403T092546Z
UID:2727-1713439800-1713446100@brecksville.us
SUMMARY:CVCC New Student Orientation (No Afternoon Classes)
DESCRIPTION:
URL:https://brecksville.us/calendar/cvcc-new-student-orientation-no-afternoon-classes/
LOCATION:CVCC
END:VEVENT
BEGIN:VEVENT
DTSTART;TZID=America/Detroit:20240417T190000
DTEND;TZID=America/Detroit:20240417T210000
DTSTAMP:20260419T225831
CREATED:20240402T124841Z
LAST-MODIFIED:20240403T092546Z
UID:2722-1713380400-1713387600@brecksville.us
SUMMARY:NTHS Induction Ceremony
DESCRIPTION:
URL:https://brecksville.us/calendar/nths-induction-ceremony/
LOCATION:CVCC
END:VEVENT
BEGIN:VEVENT
DTSTART;TZID=America/Detroit:20240417T190000
DTEND;TZID=America/Detroit:20240417T200000
DTSTAMP:20260419T225831
CREATED:20240402T124841Z
LAST-MODIFIED:20240403T092546Z
UID:2723-1713380400-1713384000@brecksville.us
SUMMARY:BBHHS Orchestra Concert
DESCRIPTION:BBHHS Auditorium
URL:https://brecksville.us/calendar/bbhhs-orchestra-concert/
END:VEVENT
BEGIN:VEVENT
DTSTART;VALUE=DATE:20240417
DTEND;VALUE=DATE:20240418
DTSTAMP:20260419T225831
CREATED:20240402T124841Z
LAST-MODIFIED:20240403T092546Z
UID:2725-1713312000-1713398399@brecksville.us
SUMMARY:HS EOC ELA II Testing -Delayed Start
DESCRIPTION:
URL:https://brecksville.us/calendar/hs-eoc-ela-ii-testing-delayed-start-2/
LOCATION:High School
END:VEVENT
BEGIN:VEVENT
DTSTART;TZID=America/Detroit:20240416T200000
DTEND;TZID=America/Detroit:20240416T200000
DTSTAMP:20260419T225831
CREATED:20240405T134038Z
LAST-MODIFIED:20240412T134518Z
UID:3017-1713297600-1713297600@brecksville.us
SUMMARY:City Council Regular Meeting
DESCRIPTION:
URL:https://brecksville.us/calendar/city-council-regular-meeting/
CATEGORIES:City Government
END:VEVENT
BEGIN:VEVENT
DTSTART;TZID=America/Detroit:20240416T190000
DTEND;TZID=America/Detroit:20240416T190000
DTSTAMP:20260419T225831
CREATED:20240405T134038Z
LAST-MODIFIED:20240412T134517Z
UID:3016-1713294000-1713294000@brecksville.us
SUMMARY:Council Committee Meeting
DESCRIPTION:
URL:https://brecksville.us/calendar/council-committee-meeting/
CATEGORIES:City Government
END:VEVENT
END:VCALENDAR