BEGIN:VCALENDAR
VERSION:2.0
PRODID:-//Brecksville Ohio - ECPv6.15.12.2//NONSGML v1.0//EN
CALSCALE:GREGORIAN
METHOD:PUBLISH
X-WR-CALNAME:Brecksville Ohio
X-ORIGINAL-URL:https://brecksville.us
X-WR-CALDESC:Events for Brecksville Ohio
REFRESH-INTERVAL;VALUE=DURATION:PT1H
X-Robots-Tag:noindex
X-PUBLISHED-TTL:PT1H
BEGIN:VTIMEZONE
TZID:America/Detroit
BEGIN:DAYLIGHT
TZOFFSETFROM:-0500
TZOFFSETTO:-0400
TZNAME:EDT
DTSTART:20230312T070000
END:DAYLIGHT
BEGIN:STANDARD
TZOFFSETFROM:-0400
TZOFFSETTO:-0500
TZNAME:EST
DTSTART:20231105T060000
END:STANDARD
BEGIN:DAYLIGHT
TZOFFSETFROM:-0500
TZOFFSETTO:-0400
TZNAME:EDT
DTSTART:20240310T070000
END:DAYLIGHT
BEGIN:STANDARD
TZOFFSETFROM:-0400
TZOFFSETTO:-0500
TZNAME:EST
DTSTART:20241103T060000
END:STANDARD
BEGIN:DAYLIGHT
TZOFFSETFROM:-0500
TZOFFSETTO:-0400
TZNAME:EDT
DTSTART:20250309T070000
END:DAYLIGHT
BEGIN:STANDARD
TZOFFSETFROM:-0400
TZOFFSETTO:-0500
TZNAME:EST
DTSTART:20251102T060000
END:STANDARD
END:VTIMEZONE
BEGIN:VEVENT
DTSTART;TZID=America/Detroit:20240521T190000
DTEND;TZID=America/Detroit:20240521T200000
DTSTAMP:20260419T231507
CREATED:20240402T124947Z
LAST-MODIFIED:20240503T100021Z
UID:2785-1716318000-1716321600@brecksville.us
SUMMARY:MS Band Concert
DESCRIPTION:MS Aud
URL:https://brecksville.us/calendar/ms-band-concert/
END:VEVENT
BEGIN:VEVENT
DTSTART;TZID=America/Detroit:20240521T190000
DTEND;TZID=America/Detroit:20240521T190000
DTSTAMP:20260419T231507
CREATED:20240405T134039Z
LAST-MODIFIED:20240517T145538Z
UID:3036-1716318000-1716318000@brecksville.us
SUMMARY:Council Committee Meeting
DESCRIPTION:
URL:https://brecksville.us/calendar/council-committee-meeting-3/
CATEGORIES:City Government
END:VEVENT
BEGIN:VEVENT
DTSTART;TZID=America/Detroit:20240521T180000
DTEND;TZID=America/Detroit:20240521T210000
DTSTAMP:20260419T231507
CREATED:20240503T095605Z
LAST-MODIFIED:20240503T100021Z
UID:3878-1716314400-1716325200@brecksville.us
SUMMARY:Powder Puff Football at the Stadium
DESCRIPTION:
URL:https://brecksville.us/calendar/powder-puff-football-at-the-stadium/
END:VEVENT
BEGIN:VEVENT
DTSTART;TZID=America/Detroit:20240521T113000
DTEND;TZID=America/Detroit:20240521T130000
DTSTAMP:20260419T231507
CREATED:20240406T200928Z
LAST-MODIFIED:20240406T202256Z
UID:3229-1716291000-1716296400@brecksville.us
SUMMARY:Chamber Networking Lunch – May
DESCRIPTION:Date: May 21\, 2024 Time: 11:30am Networking\, Lunch at 12:00pm Location: Creekside Restaurant Price: $20 for members\, $25 for guests RSVP: https://givebutter.com/maylunch24  
URL:https://brecksville.us/calendar/chamber-networking-lunch-may/
CATEGORIES:Chamber Event,Chamber of Commerce,Monthly Lunch
ATTACH;FMTTYPE=image/png:https://brecksville.us/wp-content/uploads/2024/04/49d7958f-229b-4392-8b16-a603c4ab091b-hZIm4w.tmp_.png
END:VEVENT
BEGIN:VEVENT
DTSTART;TZID=America/Detroit:20240521T110000
DTEND;TZID=America/Detroit:20240521T120000
DTSTAMP:20260419T231507
CREATED:20240402T124947Z
LAST-MODIFIED:20240503T100021Z
UID:2784-1716289200-1716292800@brecksville.us
SUMMARY:Freshmentor Visit to MS
DESCRIPTION:
URL:https://brecksville.us/calendar/freshmentor-visit-to-ms/
END:VEVENT
BEGIN:VEVENT
DTSTART;TZID=America/Detroit:20240520T193000
DTEND;TZID=America/Detroit:20240520T193000
DTSTAMP:20260419T231507
CREATED:20240405T134039Z
LAST-MODIFIED:20240517T145538Z
UID:3035-1716233400-1716233400@brecksville.us
SUMMARY:Recreation Commission
DESCRIPTION:
URL:https://brecksville.us/calendar/recreation-commission-2/
CATEGORIES:City Government
END:VEVENT
BEGIN:VEVENT
DTSTART;TZID=America/Detroit:20240520T183000
DTEND;TZID=America/Detroit:20240520T183000
DTSTAMP:20260419T231507
CREATED:20240510T142546Z
LAST-MODIFIED:20240517T145538Z
UID:3935-1716229800-1716229800@brecksville.us
SUMMARY:Recreation Commission - Work Session
DESCRIPTION:
URL:https://brecksville.us/calendar/recreation-commission-work-session/
CATEGORIES:City Government
END:VEVENT
BEGIN:VEVENT
DTSTART;TZID=America/Detroit:20240520T150000
DTEND;TZID=America/Detroit:20240520T160000
DTSTAMP:20260419T231507
CREATED:20240402T124947Z
LAST-MODIFIED:20240503T100021Z
UID:2783-1716217200-1716220800@brecksville.us
SUMMARY:NCAA Signing Day
DESCRIPTION:
URL:https://brecksville.us/calendar/ncaa-signing-day/
END:VEVENT
BEGIN:VEVENT
DTSTART;TZID=America/Detroit:20240518T180000
DTEND;TZID=America/Detroit:20240518T220000
DTSTAMP:20260419T231507
CREATED:20240402T124947Z
LAST-MODIFIED:20240503T100021Z
UID:2782-1716055200-1716069600@brecksville.us
SUMMARY:BBHHS Prom
DESCRIPTION:
URL:https://brecksville.us/calendar/bbhhs-prom/
LOCATION:1100 E 9th St\, Cleveland\, OH 44114\, USA
END:VEVENT
BEGIN:VEVENT
DTSTART;VALUE=DATE:20240517
DTEND;VALUE=DATE:20240518
DTSTAMP:20260419T231507
CREATED:20240402T124947Z
LAST-MODIFIED:20240503T100021Z
UID:2779-1715904000-1715990399@brecksville.us
SUMMARY:Senior Last Day
DESCRIPTION:
URL:https://brecksville.us/calendar/senior-last-day/
END:VEVENT
BEGIN:VEVENT
DTSTART;VALUE=DATE:20240517
DTEND;VALUE=DATE:20240518
DTSTAMP:20260419T231507
CREATED:20240402T124947Z
LAST-MODIFIED:20240503T100021Z
UID:2778-1715904000-1715990399@brecksville.us
SUMMARY:Senior Cookout
DESCRIPTION:
URL:https://brecksville.us/calendar/senior-cookout/
END:VEVENT
BEGIN:VEVENT
DTSTART;TZID=America/Detroit:20240517T000000
DTEND;TZID=America/Detroit:20240517T010000
DTSTAMP:20260419T231507
CREATED:20240402T124933Z
LAST-MODIFIED:20240503T100021Z
UID:2777-1715904000-1715907600@brecksville.us
SUMMARY:AP Testing (German)
DESCRIPTION:
URL:https://brecksville.us/calendar/ap-testing-german/
END:VEVENT
BEGIN:VEVENT
DTSTART;TZID=America/Detroit:20240516T190000
DTEND;TZID=America/Detroit:20240516T200000
DTSTAMP:20260419T231507
CREATED:20240402T124947Z
LAST-MODIFIED:20240503T100021Z
UID:2780-1715886000-1715889600@brecksville.us
SUMMARY:6/7/8 Orchestra Concert
DESCRIPTION:MS Aud
URL:https://brecksville.us/calendar/6-7-8-orchestra-concert/
END:VEVENT
BEGIN:VEVENT
DTSTART;TZID=America/Detroit:20240516T180000
DTEND;TZID=America/Detroit:20240516T190000
DTSTAMP:20260419T231507
CREATED:20240402T124933Z
LAST-MODIFIED:20240503T100021Z
UID:2776-1715882400-1715886000@brecksville.us
SUMMARY:Vocal Music Booster
DESCRIPTION:Choir Room
URL:https://brecksville.us/calendar/vocal-music-booster/
END:VEVENT
BEGIN:VEVENT
DTSTART;VALUE=DATE:20240516
DTEND;VALUE=DATE:20240517
DTSTAMP:20260419T231507
CREATED:20240402T124933Z
LAST-MODIFIED:20240503T100021Z
UID:2772-1715817600-1715903999@brecksville.us
SUMMARY:AP Testing (Spanish & Biology)
DESCRIPTION:
URL:https://brecksville.us/calendar/ap-testing-spanish-biology/
END:VEVENT
BEGIN:VEVENT
DTSTART;TZID=America/Detroit:20240515T180000
DTEND;TZID=America/Detroit:20240515T210000
DTSTAMP:20260419T231507
CREATED:20240412T111036Z
LAST-MODIFIED:20240510T123543Z
UID:3748-1715796000-1715806800@brecksville.us
SUMMARY:Board Meeting
DESCRIPTION:
URL:https://brecksville.us/calendar/board-meeting-2/
LOCATION:Brecksville Broadview Heights City School District Board of Education\, 6638 Mill Rd\, Cleveland\, OH 44141\, USA
CATEGORIES:School District
END:VEVENT
BEGIN:VEVENT
DTSTART;TZID=America/Detroit:20240515T090000
DTEND;TZID=America/Detroit:20240515T100000
DTSTAMP:20260419T231507
CREATED:20240402T124933Z
LAST-MODIFIED:20240503T100021Z
UID:2771-1715763600-1715767200@brecksville.us
SUMMARY:Career/Military Signing Day
DESCRIPTION:
URL:https://brecksville.us/calendar/career-military-signing-day/
END:VEVENT
BEGIN:VEVENT
DTSTART;VALUE=DATE:20240515
DTEND;VALUE=DATE:20240516
DTSTAMP:20260419T231507
CREATED:20240402T124933Z
LAST-MODIFIED:20240503T100021Z
UID:2775-1715731200-1715817599@brecksville.us
SUMMARY:Extended Colony Period Schedule 23-24
DESCRIPTION:
URL:https://brecksville.us/calendar/extended-colony-period-schedule-23-24-2/
END:VEVENT
BEGIN:VEVENT
DTSTART;VALUE=DATE:20240515
DTEND;VALUE=DATE:20240516
DTSTAMP:20260419T231507
CREATED:20240402T124933Z
LAST-MODIFIED:20240503T100021Z
UID:2773-1715731200-1715817599@brecksville.us
SUMMARY:AP Testing (World History & Computer Sci Principles)
DESCRIPTION:
URL:https://brecksville.us/calendar/ap-testing-world-history-computer-sci-principles/
END:VEVENT
BEGIN:VEVENT
DTSTART;VALUE=DATE:20240514
DTEND;VALUE=DATE:20240515
DTSTAMP:20260419T231507
CREATED:20240402T124933Z
LAST-MODIFIED:20240503T100021Z
UID:2774-1715644800-1715731199@brecksville.us
SUMMARY:AP Testing (English\, Physics: Mechanics & Physics: Electricity & Management)
DESCRIPTION:
URL:https://brecksville.us/calendar/ap-testing-english-physics-mechanics-physics-electricity-management/
END:VEVENT
BEGIN:VEVENT
DTSTART;TZID=America/Detroit:20240513T193000
DTEND;TZID=America/Detroit:20240513T193000
DTSTAMP:20260419T231507
CREATED:20240405T134038Z
LAST-MODIFIED:20240510T142546Z
UID:3024-1715628600-1715628600@brecksville.us
SUMMARY:Board of Zoning Appeals
DESCRIPTION:
URL:https://brecksville.us/calendar/board-of-zoning-appeals-2/
CATEGORIES:City Government
END:VEVENT
BEGIN:VEVENT
DTSTART;TZID=America/Detroit:20240513T170000
DTEND;TZID=America/Detroit:20240513T170000
DTSTAMP:20260419T231507
CREATED:20240510T142546Z
LAST-MODIFIED:20240510T142546Z
UID:3934-1715619600-1715619600@brecksville.us
SUMMARY:Civil Service Commission
DESCRIPTION:
URL:https://brecksville.us/calendar/civil-service-commission/
CATEGORIES:City Government
END:VEVENT
BEGIN:VEVENT
DTSTART;VALUE=DATE:20240513
DTEND;VALUE=DATE:20240514
DTSTAMP:20260419T231507
CREATED:20240402T124933Z
LAST-MODIFIED:20240503T100021Z
UID:2770-1715558400-1715644799@brecksville.us
SUMMARY:AP Testing (Calculus AB/BC)
DESCRIPTION:
URL:https://brecksville.us/calendar/ap-testing-calculus-ab-bc/
END:VEVENT
BEGIN:VEVENT
DTSTART;VALUE=DATE:20240511
DTEND;VALUE=DATE:20240512
DTSTAMP:20260419T231507
CREATED:20240402T124933Z
LAST-MODIFIED:20240503T100021Z
UID:2768-1715385600-1715471999@brecksville.us
SUMMARY:Music in the Parks- 8th Grade Music groups- Cedar Point
DESCRIPTION:
URL:https://brecksville.us/calendar/music-in-the-parks-8th-grade-music-groups-cedar-point/
END:VEVENT
BEGIN:VEVENT
DTSTART;VALUE=DATE:20240510
DTEND;VALUE=DATE:20240511
DTSTAMP:20260419T231507
CREATED:20240402T124933Z
LAST-MODIFIED:20240503T100021Z
UID:2769-1715299200-1715385599@brecksville.us
SUMMARY:AP Testing (European History\, US History & MacroEconomics)
DESCRIPTION:
URL:https://brecksville.us/calendar/ap-testing-european-history-us-history-macroeconomics/
END:VEVENT
BEGIN:VEVENT
DTSTART;TZID=America/Detroit:20240509T190000
DTEND;TZID=America/Detroit:20240509T190000
DTSTAMP:20260419T231507
CREATED:20240405T134038Z
LAST-MODIFIED:20240503T141034Z
UID:3023-1715281200-1715281200@brecksville.us
SUMMARY:Planning Commission
DESCRIPTION:
URL:https://brecksville.us/calendar/planning-commission-2/
CATEGORIES:City Government
END:VEVENT
BEGIN:VEVENT
DTSTART;TZID=America/Detroit:20240509T083000
DTEND;TZID=America/Detroit:20240509T093000
DTSTAMP:20260419T231507
CREATED:20240402T124921Z
LAST-MODIFIED:20240503T100021Z
UID:2767-1715243400-1715247000@brecksville.us
SUMMARY:PSO Meeting
DESCRIPTION:
URL:https://brecksville.us/calendar/pso-meeting-2/
LOCATION:133D
END:VEVENT
BEGIN:VEVENT
DTSTART;VALUE=DATE:20240509
DTEND;VALUE=DATE:20240510
DTSTAMP:20260419T231507
CREATED:20240402T124920Z
LAST-MODIFIED:20240503T100021Z
UID:2759-1715212800-1715299199@brecksville.us
SUMMARY:AP Testing (Chinese\, Environmental Science & Psychology)
DESCRIPTION:
URL:https://brecksville.us/calendar/ap-testing-chinese-environmental-science-psychology/
END:VEVENT
BEGIN:VEVENT
DTSTART;TZID=America/Detroit:20240508T180000
DTEND;TZID=America/Detroit:20240508T190000
DTSTAMP:20260419T231507
CREATED:20240402T124920Z
LAST-MODIFIED:20240503T100021Z
UID:2765-1715191200-1715194800@brecksville.us
SUMMARY:Drama Banquet and Inductions
DESCRIPTION:Auditorium Stage
URL:https://brecksville.us/calendar/drama-banquet-and-inductions/
END:VEVENT
BEGIN:VEVENT
DTSTART;VALUE=DATE:20240508
DTEND;VALUE=DATE:20240509
DTSTAMP:20260419T231507
CREATED:20240402T124920Z
LAST-MODIFIED:20240503T100021Z
UID:2760-1715126400-1715212799@brecksville.us
SUMMARY:AP Testing (English Literature\, Comparative Gov & Computer Science A)
DESCRIPTION:
URL:https://brecksville.us/calendar/ap-testing-english-literature-comparative-gov-computer-science-a/
END:VEVENT
END:VCALENDAR