BEGIN:VCALENDAR
VERSION:2.0
PRODID:-//Brecksville Ohio - ECPv6.15.12.2//NONSGML v1.0//EN
CALSCALE:GREGORIAN
METHOD:PUBLISH
X-ORIGINAL-URL:https://brecksville.us
X-WR-CALDESC:Events for Brecksville Ohio
REFRESH-INTERVAL;VALUE=DURATION:PT1H
X-Robots-Tag:noindex
X-PUBLISHED-TTL:PT1H
BEGIN:VTIMEZONE
TZID:America/Detroit
BEGIN:DAYLIGHT
TZOFFSETFROM:-0500
TZOFFSETTO:-0400
TZNAME:EDT
DTSTART:20260308T070000
END:DAYLIGHT
BEGIN:STANDARD
TZOFFSETFROM:-0400
TZOFFSETTO:-0500
TZNAME:EST
DTSTART:20261101T060000
END:STANDARD
BEGIN:DAYLIGHT
TZOFFSETFROM:-0500
TZOFFSETTO:-0400
TZNAME:EDT
DTSTART:20270314T070000
END:DAYLIGHT
BEGIN:STANDARD
TZOFFSETFROM:-0400
TZOFFSETTO:-0500
TZNAME:EST
DTSTART:20271107T060000
END:STANDARD
BEGIN:DAYLIGHT
TZOFFSETFROM:-0500
TZOFFSETTO:-0400
TZNAME:EDT
DTSTART:20280312T070000
END:DAYLIGHT
BEGIN:STANDARD
TZOFFSETFROM:-0400
TZOFFSETTO:-0500
TZNAME:EST
DTSTART:20281105T060000
END:STANDARD
END:VTIMEZONE
BEGIN:VEVENT
DTSTART;TZID=America/Detroit:20270504T190000
DTEND;TZID=America/Detroit:20270504T200000
DTSTAMP:20260421T072047
CREATED:20250528T143651Z
LAST-MODIFIED:20250528T143651Z
UID:7814-1809457200-1809460800@brecksville.us
SUMMARY:Band Booster Meeting
DESCRIPTION:
URL:https://brecksville.us/calendar/band-booster-meeting-38/
LOCATION:Band Room
END:VEVENT
BEGIN:VEVENT
DTSTART;TZID=America/Detroit:20270504T190000
DTEND;TZID=America/Detroit:20270504T200000
DTSTAMP:20260421T072047
CREATED:20250627T145435Z
LAST-MODIFIED:20260324T171045Z
UID:8043-1809457200-1809460800@brecksville.us
SUMMARY:Band Booster Meeting
DESCRIPTION:
URL:https://brecksville.us/calendar/band-booster-meeting-59/
LOCATION:Band Room
END:VEVENT
BEGIN:VEVENT
DTSTART;TZID=America/Detroit:20270506T093000
DTEND;TZID=America/Detroit:20270506T103000
DTSTAMP:20260421T072047
CREATED:20250528T143703Z
LAST-MODIFIED:20260324T171046Z
UID:7815-1809595800-1809599400@brecksville.us
SUMMARY:PSO Council Meeting
DESCRIPTION:
URL:https://brecksville.us/calendar/pso-council-meeting-36/
LOCATION:Brecksville Broadview Heights City School District Board of Education\, 6638 Mill Rd\, Brecksville\, OH\, United States
END:VEVENT
BEGIN:VEVENT
DTSTART;VALUE=DATE:20270531
DTEND;VALUE=DATE:20270601
DTSTAMP:20260421T072047
CREATED:20260110T105113Z
LAST-MODIFIED:20260404T150612Z
UID:8836-1811721600-1811807999@brecksville.us
SUMMARY:Memorial Day - No School
DESCRIPTION:
URL:https://brecksville.us/calendar/memorial-day-no-school-6/
LOCATION:OH
CATEGORIES:School District
END:VEVENT
END:VCALENDAR